{"text_format":"1","workbook":"xlsx","n_sheets":5,"sheets":["Tabelle1","PLC24","CB32","VLC","Step by step guide"],"not_rendered":{"charts":0,"images":1,"macros":1,"external_links":0,"defined_names":2,"comments":0,"pivot_tables":0},"unopened":[],"bounds":{"document_bytes":16777216,"sheet_cells":100000,"rows_first":2000,"rows_last":500,"rows_between":2000,"halvings":0,"cell_chars":16384,"cell_head_chars":4096},"cells_cut":0,"cells_raw":0,"read":"whole","date_system":"1900"}

{"sheet":"Tabelle1","index":0,"n_rows":0,"n_cols":0,"rows_kept":0,"cut":false,"hidden":true,"merged":[]}

{"sheet":"PLC24","index":1,"n_rows":389,"n_cols":13,"rows_kept":389,"cut":false,"hidden":false,"merged":[[367,5,367,6],[367,7,367,8],[367,9,367,10],[367,0,368,0],[367,1,368,1],[367,2,368,2],[367,3,368,3],[367,4,368,4],[319,5,319,6],[319,7,319,8],[319,9,319,10],[343,0,344,0],[343,1,344,1],[343,2,344,2],[343,3,344,3],[343,4,344,4],[343,5,343,6],[343,7,343,8],[343,9,343,10],[319,0,320,0],[319,1,320,1],[319,2,320,2],[319,3,320,3],[319,4,320,4],[271,5,271,6],[271,7,271,8],[271,9,271,10],[295,0,296,0],[295,1,296,1],[295,2,296,2],[295,3,296,3],[295,4,296,4],[295,5,295,6],[295,7,295,8],[295,9,295,10],[271,0,272,0],[271,1,272,1],[271,2,272,2],[271,3,272,3],[271,4,272,4],[294,1,294,3],[223,5,223,6],[223,7,223,8],[223,9,223,10],[247,0,248,0],[247,1,248,1],[247,2,248,2],[247,3,248,3],[247,4,248,4],[247,5,247,6],[247,7,247,8],[247,9,247,10],[223,0,224,0],[223,1,224,1],[223,2,224,2],[223,3,224,3],[223,4,224,4],[245,1,245,3],[246,1,246,3],[175,5,175,6],[175,7,175,8],[175,9,175,10],[199,0,200,0],[199,1,200,1],[199,2,200,2],[199,3,200,3],[199,4,200,4],[199,5,199,6],[199,7,199,8],[199,9,199,10],[175,0,176,0],[175,1,176,1],[175,2,176,2],[175,3,176,3],[175,4,176,4],[198,1,198,3],[197,1,197,3],[127,5,127,6],[127,7,127,8],[127,9,127,10],[151,0,152,0],[151,1,152,1],[151,2,152,2],[151,3,152,3],[151,4,152,4],[151,5,151,6],[151,7,151,8],[151,9,151,10],[127,0,128,0],[127,1,128,1],[127,2,128,2],[127,3,128,3],[127,4,128,4],[150,1,150,3],[79,5,79,6],[79,7,79,8],[79,9,79,10],[103,0,104,0],[103,1,104,1],[103,2,104,2],[103,3,104,3],[103,4,104,4],[103,5,103,6],[103,7,103,8],[103,9,103,10],[79,0,80,0],[79,1,80,1],[79,2,80,2],[79,3,80,3],[79,4,80,4],[102,1,102,3],[31,5,31,6],[31,7,31,8],[31,9,31,10],[55,0,56,0],[55,1,56,1],[55,2,56,2],[55,3,56,3],[55,4,56,4],[55,5,55,6],[55,7,55,8],[55,9,55,10],[31,0,32,0],[31,1,32,1],[31,2,32,2],[31,3,32,3],[31,4,32,4],[54,1,54,3],[0,5,0,8],[1,5,1,8],[2,5,2,8],[7,0,8,0],[7,5,7,6],[7,7,7,8],[7,9,7,10],[7,1,8,1],[7,2,8,2],[7,3,8,3],[7,4,8,4],[5,1,5,3],[6,1,6,3],[0,1,0,2],[29,1,29,3],[53,1,53,3],[77,1,77,3],[101,1,101,3],[125,1,125,3],[30,1,30,3],[78,1,78,3],[149,1,149,3],[173,1,173,3],[366,1,366,3],[221,1,221,3],[126,1,126,3],[174,1,174,3],[222,1,222,3],[269,1,269,3],[293,1,293,3],[317,1,317,3],[341,1,341,3],[365,1,365,3],[270,1,270,3],[318,1,318,3],[342,1,342,3]]}
["Bauvorhaben:",null,null,"ELEKTRO-Unternehmen : ",null,"DL… Dauerlicht"]
[null,null,null,null,null,"GL ... Geschaltetes Licht"]
[null,null,null,"verantwortlicher Monteur: ",null,"BL … Bereitschaftslicht"]
[]
[null,null,null,null,null,null,null,null,null,"Version","4.0"]
["Gerätename:",null,null,null,"PLC24 Stromkreis-Nummer: 1"]
["Stromkreis-Bezeichnung:"]
["Stromkreisbelegung","ID 1","ID 2","Bezeichnung","Zusatzinfo","DL",null,"GL",null,"BL"]
[null,null,null,null,null,"ID1","ID2","ID1","ID2","ID1","ID2"]
["SK Teilnehmer 1",{"$f":"_xlfn.IFNA(INDEX(VLC!A:A,MATCH(101,VLC!V:V,0)),\"\")","v":""},{"$f":"_xlfn.IFNA(INDEX(VLC!A:A,MATCH(141,VLC!V:V,0)),\"\")","v":""},{"$f":"_xlfn.IFNA(INDEX(VLC!B:B,MATCH(101,VLC!V:V,0)),\"\")","v":""},{"$f":"_xlfn.IFNA(INDEX(VLC!C:C,MATCH(101,VLC!V:V,0)),\"\")","v":""},{"$f":"_xlfn.IFNA(IF(INDEX(VLC!H:H,MATCH(101,VLC!V:V,0))=\"x\",_xlfn.IFNA(INDEX(VLC!H:H,MATCH(101,VLC!V:V,0)),\"\"),\"\"),\"\")","v":""},{"$f":"_xlfn.IFNA(IF(INDEX(VLC!H:H,MATCH(141,VLC!V:V,0))=\"x\",_xlfn.IFNA(INDEX(VLC!H:H,MATCH(141,VLC!V:V,0)),\"\"),\"\"),\"\")","v":""},{"$f":"_xlfn.IFNA(IF(INDEX(VLC!I:I,MATCH(101,VLC!V:V,0))<>\"\",_xlfn.IFNA(INDEX(VLC!I:I,MATCH(101,VLC!V:V,0)),\"\"),\"\"),\"\")","v":""},{"$f":"_xlfn.IFNA(IF(INDEX(VLC!I:I,MATCH(141,VLC!V:V,0))<>\"\",_xlfn.IFNA(INDEX(VLC!I:I,MATCH(141,VLC!V:V,0)),\"\"),\"\"),\"\")","v":""},{"$f":"_xlfn.IFNA(IF(INDEX(VLC!J:J,MATCH(101,VLC!V:V,0))=\"x\",_xlfn.IFNA(INDEX(VLC!J:J,MATCH(101,VLC!V:V,0)),\"\"),\"\"),\"\")","v":""},{"$f":"_xlfn.IFNA(IF(INDEX(VLC!J:J,MATCH(141,VLC!V:V,0))=\"x\",_xlfn.IFNA(INDEX(VLC!J:J,MATCH(141,VLC!V:V,0)),\"\"),\"\"),\"\")","v":""},{"$f":"1000+ROW(A10)-9","v":1001},{"$f":"L10+40","v":1041}]
["SK Teilnehmer 2",{"$f":"_xlfn.IFNA(INDEX(VLC!A:A,MATCH(102,VLC!V:V,0)),\"\")","v":""},{"$f":"_xlfn.IFNA(INDEX(VLC!A:A,MATCH(142,VLC!V:V,0)),\"\")","v":""},{"$f":"_xlfn.IFNA(INDEX(VLC!B:B,MATCH(102,VLC!V:V,0)),\"\")","v":""},{"$f":"_xlfn.IFNA(INDEX(VLC!C:C,MATCH(102,VLC!V:V,0)),\"\")","v":""},{"$f":"_xlfn.IFNA(IF(INDEX(VLC!H:H,MATCH(102,VLC!V:V,0))=\"x\",_xlfn.IFNA(INDEX(VLC!H:H,MATCH(102,VLC!V:V,0)),\"\"),\"\"),\"\")","v":""},{"$f":"_xlfn.IFNA(IF(INDEX(VLC!H:H,MATCH(142,VLC!V:V,0))=\"x\",_xlfn.IFNA(INDEX(VLC!H:H,MATCH(142,VLC!V:V,0)),\"\"),\"\"),\"\")","v":""},{"$f":"_xlfn.IFNA(IF(INDEX(VLC!I:I,MATCH(102,VLC!V:V,0))<>\"\",_xlfn.IFNA(INDEX(VLC!I:I,MATCH(102,VLC!V:V,0)),\"\"),\"\"),\"\")","v":""},{"$f":"_xlfn.IFNA(IF(INDEX(VLC!I:I,MATCH(142,VLC!V:V,0))<>\"\",_xlfn.IFNA(INDEX(VLC!I:I,MATCH(142,VLC!V:V,0)),\"\"),\"\"),\"\")","v":""},{"$f":"_xlfn.IFNA(IF(INDEX(VLC!J:J,MATCH(102,VLC!V:V,0))=\"x\",_xlfn.IFNA(INDEX(VLC!J:J,MATCH(102,VLC!V:V,0)),\"\"),\"\"),\"\")","v":""},{"$f":"_xlfn.IFNA(IF(INDEX(VLC!J:J,MATCH(142,VLC!V:V,0))=\"x\",_xlfn.IFNA(INDEX(VLC!J:J,MATCH(142,VLC!V:V,0)),\"\"),\"\"),\"\")","v":""},{"$f":"1000+ROW(A11)-9","v":1002},{"$f":"L11+40","v":1042}]
["SK Teilnehmer 3",{"$f":"_xlfn.IFNA(INDEX(VLC!A:A,MATCH(103,VLC!V:V,0)),\"\")","v":""},{"$f":"_xlfn.IFNA(INDEX(VLC!A:A,MATCH(143,VLC!V:V,0)),\"\")","v":""},{"$f":"_xlfn.IFNA(INDEX(VLC!B:B,MATCH(103,VLC!V:V,0)),\"\")","v":""},{"$f":"_xlfn.IFNA(INDEX(VLC!C:C,MATCH(103,VLC!V:V,0)),\"\")","v":""},{"$f":"_xlfn.IFNA(IF(INDEX(VLC!H:H,MATCH(103,VLC!V:V,0))=\"x\",_xlfn.IFNA(INDEX(VLC!H:H,MATCH(103,VLC!V:V,0)),\"\"),\"\"),\"\")","v":""},{"$f":"_xlfn.IFNA(IF(INDEX(VLC!H:H,MATCH(143,VLC!V:V,0))=\"x\",_xlfn.IFNA(INDEX(VLC!H:H,MATCH(143,VLC!V:V,0)),\"\"),\"\"),\"\")","v":""},{"$f":"_xlfn.IFNA(IF(INDEX(VLC!I:I,MATCH(103,VLC!V:V,0))<>\"\",_xlfn.IFNA(INDEX(VLC!I:I,MATCH(103,VLC!V:V,0)),\"\"),\"\"),\"\")","v":""},{"$f":"_xlfn.IFNA(IF(INDEX(VLC!I:I,MATCH(143,VLC!V:V,0))<>\"\",_xlfn.IFNA(INDEX(VLC!I:I,MATCH(143,VLC!V:V,0)),\"\"),\"\"),\"\")","v":""},{"$f":"_xlfn.IFNA(IF(INDEX(VLC!J:J,MATCH(103,VLC!V:V,0))=\"x\",_xlfn.IFNA(INDEX(VLC!J:J,MATCH(103,VLC!V:V,0)),\"\"),\"\"),\"\")","v":""},{"$f":"_xlfn.IFNA(IF(INDEX(VLC!J:J,MATCH(143,VLC!V:V,0))=\"x\",_xlfn.IFNA(INDEX(VLC!J:J,MATCH(143,VLC!V:V,0)),\"\"),\"\"),\"\")","v":""},1003,1043]
["SK Teilnehmer 4",{"$f":"_xlfn.IFNA(INDEX(VLC!A:A,MATCH(104,VLC!V:V,0)),\"\")","v":""},{"$f":"_xlfn.IFNA(INDEX(VLC!A:A,MATCH(144,VLC!V:V,0)),\"\")","v":""},{"$f":"_xlfn.IFNA(INDEX(VLC!B:B,MATCH(104,VLC!V:V,0)),\"\")","v":""},{"$f":"_xlfn.IFNA(INDEX(VLC!C:C,MATCH(104,VLC!V:V,0)),\"\")","v":""},{"$f":"_xlfn.IFNA(IF(INDEX(VLC!H:H,MATCH(104,VLC!V:V,0))=\"x\",_xlfn.IFNA(INDEX(VLC!H:H,MATCH(104,VLC!V:V,0)),\"\"),\"\"),\"\")","v":""},{"$f":"_xlfn.IFNA(IF(INDEX(VLC!H:H,MATCH(144,VLC!V:V,0))=\"x\",_xlfn.IFNA(INDEX(VLC!H:H,MATCH(144,VLC!V:V,0)),\"\"),\"\"),\"\")","v":""},{"$f":"_xlfn.IFNA(IF(INDEX(VLC!I:I,MATCH(104,VLC!V:V,0))<>\"\",_xlfn.IFNA(INDEX(VLC!I:I,MATCH(104,VLC!V:V,0)),\"\"),\"\"),\"\")","v":""},{"$f":"_xlfn.IFNA(IF(INDEX(VLC!I:I,MATCH(144,VLC!V:V,0))<>\"\",_xlfn.IFNA(INDEX(VLC!I:I,MATCH(144,VLC!V:V,0)),\"\"),\"\"),\"\")","v":""},{"$f":"_xlfn.IFNA(IF(INDEX(VLC!J:J,MATCH(104,VLC!V:V,0))=\"x\",_xlfn.IFNA(INDEX(VLC!J:J,MATCH(104,VLC!V:V,0)),\"\"),\"\"),\"\")","v":""},{"$f":"_xlfn.IFNA(IF(INDEX(VLC!J:J,MATCH(144,VLC!V:V,0))=\"x\",_xlfn.IFNA(INDEX(VLC!J:J,MATCH(144,VLC!V:V,0)),\"\"),\"\"),\"\")","v":""},1004,1044]
["SK Teilnehmer 5",{"$f":"_xlfn.IFNA(INDEX(VLC!A:A,MATCH(105,VLC!V:V,0)),\"\")","v":""},{"$f":"_xlfn.IFNA(INDEX(VLC!A:A,MATCH(145,VLC!V:V,0)),\"\")","v":""},{"$f":"_xlfn.IFNA(INDEX(VLC!B:B,MATCH(105,VLC!V:V,0)),\"\")","v":""},{"$f":"_xlfn.IFNA(INDEX(VLC!C:C,MATCH(105,VLC!V:V,0)),\"\")","v":""},{"$f":"_xlfn.IFNA(IF(INDEX(VLC!H:H,MATCH(105,VLC!V:V,0))=\"x\",_xlfn.IFNA(INDEX(VLC!H:H,MATCH(105,VLC!V:V,0)),\"\"),\"\"),\"\")","v":""},{"$f":"_xlfn.IFNA(IF(INDEX(VLC!H:H,MATCH(145,VLC!V:V,0))=\"x\",_xlfn.IFNA(INDEX(VLC!H:H,MATCH(145,VLC!V:V,0)),\"\"),\"\"),\"\")","v":""},{"$f":"_xlfn.IFNA(IF(INDEX(VLC!I:I,MATCH(105,VLC!V:V,0))<>\"\",_xlfn.IFNA(INDEX(VLC!I:I,MATCH(105,VLC!V:V,0)),\"\"),\"\"),\"\")","v":""},{"$f":"_xlfn.IFNA(IF(INDEX(VLC!I:I,MATCH(145,VLC!V:V,0))<>\"\",_xlfn.IFNA(INDEX(VLC!I:I,MATCH(145,VLC!V:V,0)),\"\"),\"\"),\"\")","v":""},{"$f":"_xlfn.IFNA(IF(INDEX(VLC!J:J,MATCH(105,VLC!V:V,0))=\"x\",_xlfn.IFNA(INDEX(VLC!J:J,MATCH(105,VLC!V:V,0)),\"\"),\"\"),\"\")","v":""},{"$f":"_xlfn.IFNA(IF(INDEX(VLC!J:J,MATCH(145,VLC!V:V,0))=\"x\",_xlfn.IFNA(INDEX(VLC!J:J,MATCH(145,VLC!V:V,0)),\"\"),\"\"),\"\")","v":""},1005,1045]
["SK Teilnehmer 6",{"$f":"_xlfn.IFNA(INDEX(VLC!A:A,MATCH(106,VLC!V:V,0)),\"\")","v":""},{"$f":"_xlfn.IFNA(INDEX(VLC!A:A,MATCH(146,VLC!V:V,0)),\"\")","v":""},{"$f":"_xlfn.IFNA(INDEX(VLC!B:B,MATCH(106,VLC!V:V,0)),\"\")","v":""},{"$f":"_xlfn.IFNA(INDEX(VLC!C:C,MATCH(106,VLC!V:V,0)),\"\")","v":""},{"$f":"_xlfn.IFNA(IF(INDEX(VLC!H:H,MATCH(106,VLC!V:V,0))=\"x\",_xlfn.IFNA(INDEX(VLC!H:H,MATCH(106,VLC!V:V,0)),\"\"),\"\"),\"\")","v":""},{"$f":"_xlfn.IFNA(IF(INDEX(VLC!H:H,MATCH(146,VLC!V:V,0))=\"x\",_xlfn.IFNA(INDEX(VLC!H:H,MATCH(146,VLC!V:V,0)),\"\"),\"\"),\"\")","v":""},{"$f":"_xlfn.IFNA(IF(INDEX(VLC!I:I,MATCH(106,VLC!V:V,0))<>\"\",_xlfn.IFNA(INDEX(VLC!I:I,MATCH(106,VLC!V:V,0)),\"\"),\"\"),\"\")","v":""},{"$f":"_xlfn.IFNA(IF(INDEX(VLC!I:I,MATCH(146,VLC!V:V,0))<>\"\",_xlfn.IFNA(INDEX(VLC!I:I,MATCH(146,VLC!V:V,0)),\"\"),\"\"),\"\")","v":""},{"$f":"_xlfn.IFNA(IF(INDEX(VLC!J:J,MATCH(106,VLC!V:V,0))=\"x\",_xlfn.IFNA(INDEX(VLC!J:J,MATCH(106,VLC!V:V,0)),\"\"),\"\"),\"\")","v":""},{"$f":"_xlfn.IFNA(IF(INDEX(VLC!J:J,MATCH(146,VLC!V:V,0))=\"x\",_xlfn.IFNA(INDEX(VLC!J:J,MATCH(146,VLC!V:V,0)),\"\"),\"\"),\"\")","v":""},1006,1046]
["SK Teilnehmer 7",{"$f":"_xlfn.IFNA(INDEX(VLC!A:A,MATCH(107,VLC!V:V,0)),\"\")","v":""},{"$f":"_xlfn.IFNA(INDEX(VLC!A:A,MATCH(147,VLC!V:V,0)),\"\")","v":""},{"$f":"_xlfn.IFNA(INDEX(VLC!B:B,MATCH(107,VLC!V:V,0)),\"\")","v":""},{"$f":"_xlfn.IFNA(INDEX(VLC!C:C,MATCH(107,VLC!V:V,0)),\"\")","v":""},{"$f":"_xlfn.IFNA(IF(INDEX(VLC!H:H,MATCH(107,VLC!V:V,0))=\"x\",_xlfn.IFNA(INDEX(VLC!H:H,MATCH(107,VLC!V:V,0)),\"\"),\"\"),\"\")","v":""},{"$f":"_xlfn.IFNA(IF(INDEX(VLC!H:H,MATCH(147,VLC!V:V,0))=\"x\",_xlfn.IFNA(INDEX(VLC!H:H,MATCH(147,VLC!V:V,0)),\"\"),\"\"),\"\")","v":""},{"$f":"_xlfn.IFNA(IF(INDEX(VLC!I:I,MATCH(107,VLC!V:V,0))<>\"\",_xlfn.IFNA(INDEX(VLC!I:I,MATCH(107,VLC!V:V,0)),\"\"),\"\"),\"\")","v":""},{"$f":"_xlfn.IFNA(IF(INDEX(VLC!I:I,MATCH(147,VLC!V:V,0))<>\"\",_xlfn.IFNA(INDEX(VLC!I:I,MATCH(147,VLC!V:V,0)),\"\"),\"\"),\"\")","v":""},{"$f":"_xlfn.IFNA(IF(INDEX(VLC!J:J,MATCH(107,VLC!V:V,0))=\"x\",_xlfn.IFNA(INDEX(VLC!J:J,MATCH(107,VLC!V:V,0)),\"\"),\"\"),\"\")","v":""},{"$f":"_xlfn.IFNA(IF(INDEX(VLC!J:J,MATCH(147,VLC!V:V,0))=\"x\",_xlfn.IFNA(INDEX(VLC!J:J,MATCH(147,VLC!V:V,0)),\"\"),\"\"),\"\")","v":""},1007,1047]
["SK Teilnehmer 8",{"$f":"_xlfn.IFNA(INDEX(VLC!A:A,MATCH(108,VLC!V:V,0)),\"\")","v":""},{"$f":"_xlfn.IFNA(INDEX(VLC!A:A,MATCH(148,VLC!V:V,0)),\"\")","v":""},{"$f":"_xlfn.IFNA(INDEX(VLC!B:B,MATCH(108,VLC!V:V,0)),\"\")","v":""},{"$f":"_xlfn.IFNA(INDEX(VLC!C:C,MATCH(108,VLC!V:V,0)),\"\")","v":""},{"$f":"_xlfn.IFNA(IF(INDEX(VLC!H:H,MATCH(108,VLC!V:V,0))=\"x\",_xlfn.IFNA(INDEX(VLC!H:H,MATCH(108,VLC!V:V,0)),\"\"),\"\"),\"\")","v":""},{"$f":"_xlfn.IFNA(IF(INDEX(VLC!H:H,MATCH(148,VLC!V:V,0))=\"x\",_xlfn.IFNA(INDEX(VLC!H:H,MATCH(148,VLC!V:V,0)),\"\"),\"\"),\"\")","v":""},{"$f":"_xlfn.IFNA(IF(INDEX(VLC!I:I,MATCH(108,VLC!V:V,0))<>\"\",_xlfn.IFNA(INDEX(VLC!I:I,MATCH(108,VLC!V:V,0)),\"\"),\"\"),\"\")","v":""},{"$f":"_xlfn.IFNA(IF(INDEX(VLC!I:I,MATCH(148,VLC!V:V,0))<>\"\",_xlfn.IFNA(INDEX(VLC!I:I,MATCH(148,VLC!V:V,0)),\"\"),\"\"),\"\")","v":""},{"$f":"_xlfn.IFNA(IF(INDEX(VLC!J:J,MATCH(108,VLC!V:V,0))=\"x\",_xlfn.IFNA(INDEX(VLC!J:J,MATCH(108,VLC!V:V,0)),\"\"),\"\"),\"\")","v":""},{"$f":"_xlfn.IFNA(IF(INDEX(VLC!J:J,MATCH(148,VLC!V:V,0))=\"x\",_xlfn.IFNA(INDEX(VLC!J:J,MATCH(148,VLC!V:V,0)),\"\"),\"\"),\"\")","v":""},1008,1048]
["SK Teilnehmer 9",{"$f":"_xlfn.IFNA(INDEX(VLC!A:A,MATCH(109,VLC!V:V,0)),\"\")","v":""},{"$f":"_xlfn.IFNA(INDEX(VLC!A:A,MATCH(149,VLC!V:V,0)),\"\")","v":""},{"$f":"_xlfn.IFNA(INDEX(VLC!B:B,MATCH(109,VLC!V:V,0)),\"\")","v":""},{"$f":"_xlfn.IFNA(INDEX(VLC!C:C,MATCH(109,VLC!V:V,0)),\"\")","v":""},{"$f":"_xlfn.IFNA(IF(INDEX(VLC!H:H,MATCH(109,VLC!V:V,0))=\"x\",_xlfn.IFNA(INDEX(VLC!H:H,MATCH(109,VLC!V:V,0)),\"\"),\"\"),\"\")","v":""},{"$f":"_xlfn.IFNA(IF(INDEX(VLC!H:H,MATCH(149,VLC!V:V,0))=\"x\",_xlfn.IFNA(INDEX(VLC!H:H,MATCH(149,VLC!V:V,0)),\"\"),\"\"),\"\")","v":""},{"$f":"_xlfn.IFNA(IF(INDEX(VLC!I:I,MATCH(109,VLC!V:V,0))<>\"\",_xlfn.IFNA(INDEX(VLC!I:I,MATCH(109,VLC!V:V,0)),\"\"),\"\"),\"\")","v":""},{"$f":"_xlfn.IFNA(IF(INDEX(VLC!I:I,MATCH(149,VLC!V:V,0))<>\"\",_xlfn.IFNA(INDEX(VLC!I:I,MATCH(149,VLC!V:V,0)),\"\"),\"\"),\"\")","v":""},{"$f":"_xlfn.IFNA(IF(INDEX(VLC!J:J,MATCH(109,VLC!V:V,0))=\"x\",_xlfn.IFNA(INDEX(VLC!J:J,MATCH(109,VLC!V:V,0)),\"\"),\"\"),\"\")","v":""},{"$f":"_xlfn.IFNA(IF(INDEX(VLC!J:J,MATCH(149,VLC!V:V,0))=\"x\",_xlfn.IFNA(INDEX(VLC!J:J,MATCH(149,VLC!V:V,0)),\"\"),\"\"),\"\")","v":""},1009,1049]
["SK Teilnehmer 10",{"$f":"_xlfn.IFNA(INDEX(VLC!A:A,MATCH(110,VLC!V:V,0)),\"\")","v":""},{"$f":"_xlfn.IFNA(INDEX(VLC!A:A,MATCH(150,VLC!V:V,0)),\"\")","v":""},{"$f":"_xlfn.IFNA(INDEX(VLC!B:B,MATCH(110,VLC!V:V,0)),\"\")","v":""},{"$f":"_xlfn.IFNA(INDEX(VLC!C:C,MATCH(110,VLC!V:V,0)),\"\")","v":""},{"$f":"_xlfn.IFNA(IF(INDEX(VLC!H:H,MATCH(110,VLC!V:V,0))=\"x\",_xlfn.IFNA(INDEX(VLC!H:H,MATCH(110,VLC!V:V,0)),\"\"),\"\"),\"\")","v":""},{"$f":"_xlfn.IFNA(IF(INDEX(VLC!H:H,MATCH(150,VLC!V:V,0))=\"x\",_xlfn.IFNA(INDEX(VLC!H:H,MATCH(150,VLC!V:V,0)),\"\"),\"\"),\"\")","v":""},{"$f":"_xlfn.IFNA(IF(INDEX(VLC!I:I,MATCH(110,VLC!V:V,0))<>\"\",_xlfn.IFNA(INDEX(VLC!I:I,MATCH(110,VLC!V:V,0)),\"\"),\"\"),\"\")","v":""},{"$f":"_xlfn.IFNA(IF(INDEX(VLC!I:I,MATCH(150,VLC!V:V,0))<>\"\",_xlfn.IFNA(INDEX(VLC!I:I,MATCH(150,VLC!V:V,0)),\"\"),\"\"),\"\")","v":""},{"$f":"_xlfn.IFNA(IF(INDEX(VLC!J:J,MATCH(110,VLC!V:V,0))=\"x\",_xlfn.IFNA(INDEX(VLC!J:J,MATCH(110,VLC!V:V,0)),\"\"),\"\"),\"\")","v":""},{"$f":"_xlfn.IFNA(IF(INDEX(VLC!J:J,MATCH(150,VLC!V:V,0))=\"x\",_xlfn.IFNA(INDEX(VLC!J:J,MATCH(150,VLC!V:V,0)),\"\"),\"\"),\"\")","v":""},1010,1050]
["SK Teilnehmer 11",{"$f":"_xlfn.IFNA(INDEX(VLC!A:A,MATCH(111,VLC!V:V,0)),\"\")","v":""},{"$f":"_xlfn.IFNA(INDEX(VLC!A:A,MATCH(151,VLC!V:V,0)),\"\")","v":""},{"$f":"_xlfn.IFNA(INDEX(VLC!B:B,MATCH(111,VLC!V:V,0)),\"\")","v":""},{"$f":"_xlfn.IFNA(INDEX(VLC!C:C,MATCH(111,VLC!V:V,0)),\"\")","v":""},{"$f":"_xlfn.IFNA(IF(INDEX(VLC!H:H,MATCH(111,VLC!V:V,0))=\"x\",_xlfn.IFNA(INDEX(VLC!H:H,MATCH(111,VLC!V:V,0)),\"\"),\"\"),\"\")","v":""},{"$f":"_xlfn.IFNA(IF(INDEX(VLC!H:H,MATCH(151,VLC!V:V,0))=\"x\",_xlfn.IFNA(INDEX(VLC!H:H,MATCH(151,VLC!V:V,0)),\"\"),\"\"),\"\")","v":""},{"$f":"_xlfn.IFNA(IF(INDEX(VLC!I:I,MATCH(111,VLC!V:V,0))<>\"\",_xlfn.IFNA(INDEX(VLC!I:I,MATCH(111,VLC!V:V,0)),\"\"),\"\"),\"\")","v":""},{"$f":"_xlfn.IFNA(IF(INDEX(VLC!I:I,MATCH(151,VLC!V:V,0))<>\"\",_xlfn.IFNA(INDEX(VLC!I:I,MATCH(151,VLC!V:V,0)),\"\"),\"\"),\"\")","v":""},{"$f":"_xlfn.IFNA(IF(INDEX(VLC!J:J,MATCH(111,VLC!V:V,0))=\"x\",_xlfn.IFNA(INDEX(VLC!J:J,MATCH(111,VLC!V:V,0)),\"\"),\"\"),\"\")","v":""},{"$f":"_xlfn.IFNA(IF(INDEX(VLC!J:J,MATCH(151,VLC!V:V,0))=\"x\",_xlfn.IFNA(INDEX(VLC!J:J,MATCH(151,VLC!V:V,0)),\"\"),\"\"),\"\")","v":""},1011,1051]
["SK Teilnehmer 12",{"$f":"_xlfn.IFNA(INDEX(VLC!A:A,MATCH(112,VLC!V:V,0)),\"\")","v":""},{"$f":"_xlfn.IFNA(INDEX(VLC!A:A,MATCH(152,VLC!V:V,0)),\"\")","v":""},{"$f":"_xlfn.IFNA(INDEX(VLC!B:B,MATCH(112,VLC!V:V,0)),\"\")","v":""},{"$f":"_xlfn.IFNA(INDEX(VLC!C:C,MATCH(112,VLC!V:V,0)),\"\")","v":""},{"$f":"_xlfn.IFNA(IF(INDEX(VLC!H:H,MATCH(112,VLC!V:V,0))=\"x\",_xlfn.IFNA(INDEX(VLC!H:H,MATCH(112,VLC!V:V,0)),\"\"),\"\"),\"\")","v":""},{"$f":"_xlfn.IFNA(IF(INDEX(VLC!H:H,MATCH(152,VLC!V:V,0))=\"x\",_xlfn.IFNA(INDEX(VLC!H:H,MATCH(152,VLC!V:V,0)),\"\"),\"\"),\"\")","v":""},{"$f":"_xlfn.IFNA(IF(INDEX(VLC!I:I,MATCH(112,VLC!V:V,0))<>\"\",_xlfn.IFNA(INDEX(VLC!I:I,MATCH(112,VLC!V:V,0)),\"\"),\"\"),\"\")","v":""},{"$f":"_xlfn.IFNA(IF(INDEX(VLC!I:I,MATCH(152,VLC!V:V,0))<>\"\",_xlfn.IFNA(INDEX(VLC!I:I,MATCH(152,VLC!V:V,0)),\"\"),\"\"),\"\")","v":""},{"$f":"_xlfn.IFNA(IF(INDEX(VLC!J:J,MATCH(112,VLC!V:V,0))=\"x\",_xlfn.IFNA(INDEX(VLC!J:J,MATCH(112,VLC!V:V,0)),\"\"),\"\"),\"\")","v":""},{"$f":"_xlfn.IFNA(IF(INDEX(VLC!J:J,MATCH(152,VLC!V:V,0))=\"x\",_xlfn.IFNA(INDEX(VLC!J:J,MATCH(152,VLC!V:V,0)),\"\"),\"\"),\"\")","v":""},1012,1052]
["SK Teilnehmer 13",{"$f":"_xlfn.IFNA(INDEX(VLC!A:A,MATCH(113,VLC!V:V,0)),\"\")","v":""},{"$f":"_xlfn.IFNA(INDEX(VLC!A:A,MATCH(153,VLC!V:V,0)),\"\")","v":""},{"$f":"_xlfn.IFNA(INDEX(VLC!B:B,MATCH(113,VLC!V:V,0)),\"\")","v":""},{"$f":"_xlfn.IFNA(INDEX(VLC!C:C,MATCH(113,VLC!V:V,0)),\"\")","v":""},{"$f":"_xlfn.IFNA(IF(INDEX(VLC!H:H,MATCH(113,VLC!V:V,0))=\"x\",_xlfn.IFNA(INDEX(VLC!H:H,MATCH(113,VLC!V:V,0)),\"\"),\"\"),\"\")","v":""},{"$f":"_xlfn.IFNA(IF(INDEX(VLC!H:H,MATCH(153,VLC!V:V,0))=\"x\",_xlfn.IFNA(INDEX(VLC!H:H,MATCH(153,VLC!V:V,0)),\"\"),\"\"),\"\")","v":""},{"$f":"_xlfn.IFNA(IF(INDEX(VLC!I:I,MATCH(113,VLC!V:V,0))<>\"\",_xlfn.IFNA(INDEX(VLC!I:I,MATCH(113,VLC!V:V,0)),\"\"),\"\"),\"\")","v":""},{"$f":"_xlfn.IFNA(IF(INDEX(VLC!I:I,MATCH(153,VLC!V:V,0))<>\"\",_xlfn.IFNA(INDEX(VLC!I:I,MATCH(153,VLC!V:V,0)),\"\"),\"\"),\"\")","v":""},{"$f":"_xlfn.IFNA(IF(INDEX(VLC!J:J,MATCH(113,VLC!V:V,0))=\"x\",_xlfn.IFNA(INDEX(VLC!J:J,MATCH(113,VLC!V:V,0)),\"\"),\"\"),\"\")","v":""},{"$f":"_xlfn.IFNA(IF(INDEX(VLC!J:J,MATCH(153,VLC!V:V,0))=\"x\",_xlfn.IFNA(INDEX(VLC!J:J,MATCH(153,VLC!V:V,0)),\"\"),\"\"),\"\")","v":""},1013,1053]
["SK Teilnehmer 14",{"$f":"_xlfn.IFNA(INDEX(VLC!A:A,MATCH(114,VLC!V:V,0)),\"\")","v":""},{"$f":"_xlfn.IFNA(INDEX(VLC!A:A,MATCH(154,VLC!V:V,0)),\"\")","v":""},{"$f":"_xlfn.IFNA(INDEX(VLC!B:B,MATCH(114,VLC!V:V,0)),\"\")","v":""},{"$f":"_xlfn.IFNA(INDEX(VLC!C:C,MATCH(114,VLC!V:V,0)),\"\")","v":""},{"$f":"_xlfn.IFNA(IF(INDEX(VLC!H:H,MATCH(114,VLC!V:V,0))=\"x\",_xlfn.IFNA(INDEX(VLC!H:H,MATCH(114,VLC!V:V,0)),\"\"),\"\"),\"\")","v":""},{"$f":"_xlfn.IFNA(IF(INDEX(VLC!H:H,MATCH(154,VLC!V:V,0))=\"x\",_xlfn.IFNA(INDEX(VLC!H:H,MATCH(154,VLC!V:V,0)),\"\"),\"\"),\"\")","v":""},{"$f":"_xlfn.IFNA(IF(INDEX(VLC!I:I,MATCH(114,VLC!V:V,0))<>\"\",_xlfn.IFNA(INDEX(VLC!I:I,MATCH(114,VLC!V:V,0)),\"\"),\"\"),\"\")","v":""},{"$f":"_xlfn.IFNA(IF(INDEX(VLC!I:I,MATCH(154,VLC!V:V,0))<>\"\",_xlfn.IFNA(INDEX(VLC!I:I,MATCH(154,VLC!V:V,0)),\"\"),\"\"),\"\")","v":""},{"$f":"_xlfn.IFNA(IF(INDEX(VLC!J:J,MATCH(114,VLC!V:V,0))=\"x\",_xlfn.IFNA(INDEX(VLC!J:J,MATCH(114,VLC!V:V,0)),\"\"),\"\"),\"\")","v":""},{"$f":"_xlfn.IFNA(IF(INDEX(VLC!J:J,MATCH(154,VLC!V:V,0))=\"x\",_xlfn.IFNA(INDEX(VLC!J:J,MATCH(154,VLC!V:V,0)),\"\"),\"\"),\"\")","v":""},1014,1054]
["SK Teilnehmer 15",{"$f":"_xlfn.IFNA(INDEX(VLC!A:A,MATCH(115,VLC!V:V,0)),\"\")","v":""},{"$f":"_xlfn.IFNA(INDEX(VLC!A:A,MATCH(155,VLC!V:V,0)),\"\")","v":""},{"$f":"_xlfn.IFNA(INDEX(VLC!B:B,MATCH(115,VLC!V:V,0)),\"\")","v":""},{"$f":"_xlfn.IFNA(INDEX(VLC!C:C,MATCH(115,VLC!V:V,0)),\"\")","v":""},{"$f":"_xlfn.IFNA(IF(INDEX(VLC!H:H,MATCH(115,VLC!V:V,0))=\"x\",_xlfn.IFNA(INDEX(VLC!H:H,MATCH(115,VLC!V:V,0)),\"\"),\"\"),\"\")","v":""},{"$f":"_xlfn.IFNA(IF(INDEX(VLC!H:H,MATCH(155,VLC!V:V,0))=\"x\",_xlfn.IFNA(INDEX(VLC!H:H,MATCH(155,VLC!V:V,0)),\"\"),\"\"),\"\")","v":""},{"$f":"_xlfn.IFNA(IF(INDEX(VLC!I:I,MATCH(115,VLC!V:V,0))<>\"\",_xlfn.IFNA(INDEX(VLC!I:I,MATCH(115,VLC!V:V,0)),\"\"),\"\"),\"\")","v":""},{"$f":"_xlfn.IFNA(IF(INDEX(VLC!I:I,MATCH(155,VLC!V:V,0))<>\"\",_xlfn.IFNA(INDEX(VLC!I:I,MATCH(155,VLC!V:V,0)),\"\"),\"\"),\"\")","v":""},{"$f":"_xlfn.IFNA(IF(INDEX(VLC!J:J,MATCH(115,VLC!V:V,0))=\"x\",_xlfn.IFNA(INDEX(VLC!J:J,MATCH(115,VLC!V:V,0)),\"\"),\"\"),\"\")","v":""},{"$f":"_xlfn.IFNA(IF(INDEX(VLC!J:J,MATCH(155,VLC!V:V,0))=\"x\",_xlfn.IFNA(INDEX(VLC!J:J,MATCH(155,VLC!V:V,0)),\"\"),\"\"),\"\")","v":""},1015,1055]
["SK Teilnehmer 16",{"$f":"_xlfn.IFNA(INDEX(VLC!A:A,MATCH(116,VLC!V:V,0)),\"\")","v":""},{"$f":"_xlfn.IFNA(INDEX(VLC!A:A,MATCH(156,VLC!V:V,0)),\"\")","v":""},{"$f":"_xlfn.IFNA(INDEX(VLC!B:B,MATCH(116,VLC!V:V,0)),\"\")","v":""},{"$f":"_xlfn.IFNA(INDEX(VLC!C:C,MATCH(116,VLC!V:V,0)),\"\")","v":""},{"$f":"_xlfn.IFNA(IF(INDEX(VLC!H:H,MATCH(116,VLC!V:V,0))=\"x\",_xlfn.IFNA(INDEX(VLC!H:H,MATCH(116,VLC!V:V,0)),\"\"),\"\"),\"\")","v":""},{"$f":"_xlfn.IFNA(IF(INDEX(VLC!H:H,MATCH(156,VLC!V:V,0))=\"x\",_xlfn.IFNA(INDEX(VLC!H:H,MATCH(156,VLC!V:V,0)),\"\"),\"\"),\"\")","v":""},{"$f":"_xlfn.IFNA(IF(INDEX(VLC!I:I,MATCH(116,VLC!V:V,0))<>\"\",_xlfn.IFNA(INDEX(VLC!I:I,MATCH(116,VLC!V:V,0)),\"\"),\"\"),\"\")","v":""},{"$f":"_xlfn.IFNA(IF(INDEX(VLC!I:I,MATCH(156,VLC!V:V,0))<>\"\",_xlfn.IFNA(INDEX(VLC!I:I,MATCH(156,VLC!V:V,0)),\"\"),\"\"),\"\")","v":""},{"$f":"_xlfn.IFNA(IF(INDEX(VLC!J:J,MATCH(116,VLC!V:V,0))=\"x\",_xlfn.IFNA(INDEX(VLC!J:J,MATCH(116,VLC!V:V,0)),\"\"),\"\"),\"\")","v":""},{"$f":"_xlfn.IFNA(IF(INDEX(VLC!J:J,MATCH(156,VLC!V:V,0))=\"x\",_xlfn.IFNA(INDEX(VLC!J:J,MATCH(156,VLC!V:V,0)),\"\"),\"\"),\"\")","v":""},1016,1056]
["SK Teilnehmer 17",{"$f":"_xlfn.IFNA(INDEX(VLC!A:A,MATCH(117,VLC!V:V,0)),\"\")","v":""},{"$f":"_xlfn.IFNA(INDEX(VLC!A:A,MATCH(157,VLC!V:V,0)),\"\")","v":""},{"$f":"_xlfn.IFNA(INDEX(VLC!B:B,MATCH(117,VLC!V:V,0)),\"\")","v":""},{"$f":"_xlfn.IFNA(INDEX(VLC!C:C,MATCH(117,VLC!V:V,0)),\"\")","v":""},{"$f":"_xlfn.IFNA(IF(INDEX(VLC!H:H,MATCH(117,VLC!V:V,0))=\"x\",_xlfn.IFNA(INDEX(VLC!H:H,MATCH(117,VLC!V:V,0)),\"\"),\"\"),\"\")","v":""},{"$f":"_xlfn.IFNA(IF(INDEX(VLC!H:H,MATCH(157,VLC!V:V,0))=\"x\",_xlfn.IFNA(INDEX(VLC!H:H,MATCH(157,VLC!V:V,0)),\"\"),\"\"),\"\")","v":""},{"$f":"_xlfn.IFNA(IF(INDEX(VLC!I:I,MATCH(117,VLC!V:V,0))<>\"\",_xlfn.IFNA(INDEX(VLC!I:I,MATCH(117,VLC!V:V,0)),\"\"),\"\"),\"\")","v":""},{"$f":"_xlfn.IFNA(IF(INDEX(VLC!I:I,MATCH(157,VLC!V:V,0))<>\"\",_xlfn.IFNA(INDEX(VLC!I:I,MATCH(157,VLC!V:V,0)),\"\"),\"\"),\"\")","v":""},{"$f":"_xlfn.IFNA(IF(INDEX(VLC!J:J,MATCH(117,VLC!V:V,0))=\"x\",_xlfn.IFNA(INDEX(VLC!J:J,MATCH(117,VLC!V:V,0)),\"\"),\"\"),\"\")","v":""},{"$f":"_xlfn.IFNA(IF(INDEX(VLC!J:J,MATCH(157,VLC!V:V,0))=\"x\",_xlfn.IFNA(INDEX(VLC!J:J,MATCH(157,VLC!V:V,0)),\"\"),\"\"),\"\")","v":""},1017,1057]
["SK Teilnehmer 18",{"$f":"_xlfn.IFNA(INDEX(VLC!A:A,MATCH(118,VLC!V:V,0)),\"\")","v":""},{"$f":"_xlfn.IFNA(INDEX(VLC!A:A,MATCH(158,VLC!V:V,0)),\"\")","v":""},{"$f":"_xlfn.IFNA(INDEX(VLC!B:B,MATCH(118,VLC!V:V,0)),\"\")","v":""},{"$f":"_xlfn.IFNA(INDEX(VLC!C:C,MATCH(118,VLC!V:V,0)),\"\")","v":""},{"$f":"_xlfn.IFNA(IF(INDEX(VLC!H:H,MATCH(118,VLC!V:V,0))=\"x\",_xlfn.IFNA(INDEX(VLC!H:H,MATCH(118,VLC!V:V,0)),\"\"),\"\"),\"\")","v":""},{"$f":"_xlfn.IFNA(IF(INDEX(VLC!H:H,MATCH(158,VLC!V:V,0))=\"x\",_xlfn.IFNA(INDEX(VLC!H:H,MATCH(158,VLC!V:V,0)),\"\"),\"\"),\"\")","v":""},{"$f":"_xlfn.IFNA(IF(INDEX(VLC!I:I,MATCH(118,VLC!V:V,0))<>\"\",_xlfn.IFNA(INDEX(VLC!I:I,MATCH(118,VLC!V:V,0)),\"\"),\"\"),\"\")","v":""},{"$f":"_xlfn.IFNA(IF(INDEX(VLC!I:I,MATCH(158,VLC!V:V,0))<>\"\",_xlfn.IFNA(INDEX(VLC!I:I,MATCH(158,VLC!V:V,0)),\"\"),\"\"),\"\")","v":""},{"$f":"_xlfn.IFNA(IF(INDEX(VLC!J:J,MATCH(118,VLC!V:V,0))=\"x\",_xlfn.IFNA(INDEX(VLC!J:J,MATCH(118,VLC!V:V,0)),\"\"),\"\"),\"\")","v":""},{"$f":"_xlfn.IFNA(IF(INDEX(VLC!J:J,MATCH(158,VLC!V:V,0))=\"x\",_xlfn.IFNA(INDEX(VLC!J:J,MATCH(158,VLC!V:V,0)),\"\"),\"\"),\"\")","v":""},1018,1058]
["SK Teilnehmer 19",{"$f":"_xlfn.IFNA(INDEX(VLC!A:A,MATCH(119,VLC!V:V,0)),\"\")","v":""},{"$f":"_xlfn.IFNA(INDEX(VLC!A:A,MATCH(159,VLC!V:V,0)),\"\")","v":""},{"$f":"_xlfn.IFNA(INDEX(VLC!B:B,MATCH(119,VLC!V:V,0)),\"\")","v":""},{"$f":"_xlfn.IFNA(INDEX(VLC!C:C,MATCH(119,VLC!V:V,0)),\"\")","v":""},{"$f":"_xlfn.IFNA(IF(INDEX(VLC!H:H,MATCH(119,VLC!V:V,0))=\"x\",_xlfn.IFNA(INDEX(VLC!H:H,MATCH(119,VLC!V:V,0)),\"\"),\"\"),\"\")","v":""},{"$f":"_xlfn.IFNA(IF(INDEX(VLC!H:H,MATCH(159,VLC!V:V,0))=\"x\",_xlfn.IFNA(INDEX(VLC!H:H,MATCH(159,VLC!V:V,0)),\"\"),\"\"),\"\")","v":""},{"$f":"_xlfn.IFNA(IF(INDEX(VLC!I:I,MATCH(119,VLC!V:V,0))<>\"\",_xlfn.IFNA(INDEX(VLC!I:I,MATCH(119,VLC!V:V,0)),\"\"),\"\"),\"\")","v":""},{"$f":"_xlfn.IFNA(IF(INDEX(VLC!I:I,MATCH(159,VLC!V:V,0))<>\"\",_xlfn.IFNA(INDEX(VLC!I:I,MATCH(159,VLC!V:V,0)),\"\"),\"\"),\"\")","v":""},{"$f":"_xlfn.IFNA(IF(INDEX(VLC!J:J,MATCH(119,VLC!V:V,0))=\"x\",_xlfn.IFNA(INDEX(VLC!J:J,MATCH(119,VLC!V:V,0)),\"\"),\"\"),\"\")","v":""},{"$f":"_xlfn.IFNA(IF(INDEX(VLC!J:J,MATCH(159,VLC!V:V,0))=\"x\",_xlfn.IFNA(INDEX(VLC!J:J,MATCH(159,VLC!V:V,0)),\"\"),\"\"),\"\")","v":""},1019,1059]
["SK Teilnehmer 20",{"$f":"_xlfn.IFNA(INDEX(VLC!A:A,MATCH(120,VLC!V:V,0)),\"\")","v":""},{"$f":"_xlfn.IFNA(INDEX(VLC!A:A,MATCH(160,VLC!V:V,0)),\"\")","v":""},{"$f":"_xlfn.IFNA(INDEX(VLC!B:B,MATCH(120,VLC!V:V,0)),\"\")","v":""},{"$f":"_xlfn.IFNA(INDEX(VLC!C:C,MATCH(120,VLC!V:V,0)),\"\")","v":""},{"$f":"_xlfn.IFNA(IF(INDEX(VLC!H:H,MATCH(120,VLC!V:V,0))=\"x\",_xlfn.IFNA(INDEX(VLC!H:H,MATCH(120,VLC!V:V,0)),\"\"),\"\"),\"\")","v":""},{"$f":"_xlfn.IFNA(IF(INDEX(VLC!H:H,MATCH(160,VLC!V:V,0))=\"x\",_xlfn.IFNA(INDEX(VLC!H:H,MATCH(160,VLC!V:V,0)),\"\"),\"\"),\"\")","v":""},{"$f":"_xlfn.IFNA(IF(INDEX(VLC!I:I,MATCH(120,VLC!V:V,0))<>\"\",_xlfn.IFNA(INDEX(VLC!I:I,MATCH(120,VLC!V:V,0)),\"\"),\"\"),\"\")","v":""},{"$f":"_xlfn.IFNA(IF(INDEX(VLC!I:I,MATCH(160,VLC!V:V,0))<>\"\",_xlfn.IFNA(INDEX(VLC!I:I,MATCH(160,VLC!V:V,0)),\"\"),\"\"),\"\")","v":""},{"$f":"_xlfn.IFNA(IF(INDEX(VLC!J:J,MATCH(120,VLC!V:V,0))=\"x\",_xlfn.IFNA(INDEX(VLC!J:J,MATCH(120,VLC!V:V,0)),\"\"),\"\"),\"\")","v":""},{"$f":"_xlfn.IFNA(IF(INDEX(VLC!J:J,MATCH(160,VLC!V:V,0))=\"x\",_xlfn.IFNA(INDEX(VLC!J:J,MATCH(160,VLC!V:V,0)),\"\"),\"\"),\"\")","v":""},1020,1060]
["Gerätename:",{"$f":"$B$6","v":0},null,null,"PLC24 Stromkreis-Nummer: 2"]
["Stromkreis-Bezeichnung:"]
["Stromkreisbelegung","ID 1","ID 2","Bezeichnung","Zusatzinfo","DL",null,"GL",null,"BL"]
[null,null,null,null,null,"ID1","ID2","ID1","ID2","ID1","ID2"]
["SK Teilnehmer 1",{"$f":"_xlfn.IFNA(INDEX(VLC!A:A,MATCH(201,VLC!V:V,0)),\"\")","v":""},{"$f":"_xlfn.IFNA(INDEX(VLC!A:A,MATCH(241,VLC!V:V,0)),\"\")","v":""},{"$f":"_xlfn.IFNA(INDEX(VLC!B:B,MATCH(201,VLC!V:V,0)),\"\")","v":""},{"$f":"_xlfn.IFNA(INDEX(VLC!C:C,MATCH(201,VLC!V:V,0)),\"\")","v":""},{"$f":"_xlfn.IFNA(IF(INDEX(VLC!H:H,MATCH(201+ROW(A1)-1,VLC!V:V,0))=\"x\",_xlfn.IFNA(INDEX(VLC!H:H,MATCH(201+ROW(A1)-1,VLC!V:V,0)),\"\"),\"\"),\"\")","v":""},{"$f":"_xlfn.IFNA(IF(INDEX(VLC!H:H,MATCH(241+ROW(A1)-1,VLC!V:V,0))=\"x\",_xlfn.IFNA(INDEX(VLC!H:H,MATCH(241+ROW(A1)-1,VLC!V:V,0)),\"\"),\"\"),\"\")","v":""},{"$f":"_xlfn.IFNA(IF(INDEX(VLC!I:I,MATCH(201+ROW(A1)-1,VLC!V:V,0))<>\"\",_xlfn.IFNA(INDEX(VLC!I:I,MATCH(201+ROW(A1)-1,VLC!V:V,0)),\"\"),\"\"),\"\")","v":""},{"$f":"_xlfn.IFNA(IF(INDEX(VLC!I:I,MATCH(241+ROW(A1)-1,VLC!V:V,0))<>\"\",_xlfn.IFNA(INDEX(VLC!I:I,MATCH(241+ROW(A1)-1,VLC!V:V,0)),\"\"),\"\"),\"\")","v":""},{"$f":"_xlfn.IFNA(IF(INDEX(VLC!J:J,MATCH(201+ROW(A1)-1,VLC!V:V,0))=\"x\",_xlfn.IFNA(INDEX(VLC!J:J,MATCH(201+ROW(A1)-1,VLC!V:V,0)),\"\"),\"\"),\"\")","v":""},{"$f":"_xlfn.IFNA(IF(INDEX(VLC!J:J,MATCH(241+ROW(A1)-1,VLC!V:V,0))=\"x\",_xlfn.IFNA(INDEX(VLC!J:J,MATCH(241+ROW(A1)-1,VLC!V:V,0)),\"\"),\"\"),\"\")","v":""},{"$f":"2000+ROW(A34)-33","v":2001},{"$f":"L34+40","v":2041}]
["SK Teilnehmer 2",{"$f":"_xlfn.IFNA(INDEX(VLC!A:A,MATCH(202,VLC!V:V,0)),\"\")","v":""},{"$f":"_xlfn.IFNA(INDEX(VLC!A:A,MATCH(242,VLC!V:V,0)),\"\")","v":""},{"$f":"_xlfn.IFNA(INDEX(VLC!B:B,MATCH(202,VLC!V:V,0)),\"\")","v":""},{"$f":"_xlfn.IFNA(INDEX(VLC!C:C,MATCH(202,VLC!V:V,0)),\"\")","v":""},{"$f":"_xlfn.IFNA(IF(INDEX(VLC!H:H,MATCH(201+ROW(A2)-1,VLC!V:V,0))=\"x\",_xlfn.IFNA(INDEX(VLC!H:H,MATCH(201+ROW(A2)-1,VLC!V:V,0)),\"\"),\"\"),\"\")","v":""},{"$f":"_xlfn.IFNA(IF(INDEX(VLC!H:H,MATCH(241+ROW(A2)-1,VLC!V:V,0))=\"x\",_xlfn.IFNA(INDEX(VLC!H:H,MATCH(241+ROW(A2)-1,VLC!V:V,0)),\"\"),\"\"),\"\")","v":""},{"$f":"_xlfn.IFNA(IF(INDEX(VLC!I:I,MATCH(201+ROW(A2)-1,VLC!V:V,0))<>\"\",_xlfn.IFNA(INDEX(VLC!I:I,MATCH(201+ROW(A2)-1,VLC!V:V,0)),\"\"),\"\"),\"\")","v":""},{"$f":"_xlfn.IFNA(IF(INDEX(VLC!I:I,MATCH(241+ROW(A2)-1,VLC!V:V,0))<>\"\",_xlfn.IFNA(INDEX(VLC!I:I,MATCH(241+ROW(A2)-1,VLC!V:V,0)),\"\"),\"\"),\"\")","v":""},{"$f":"_xlfn.IFNA(IF(INDEX(VLC!J:J,MATCH(201+ROW(A2)-1,VLC!V:V,0))=\"x\",_xlfn.IFNA(INDEX(VLC!J:J,MATCH(201+ROW(A2)-1,VLC!V:V,0)),\"\"),\"\"),\"\")","v":""},{"$f":"_xlfn.IFNA(IF(INDEX(VLC!J:J,MATCH(241+ROW(A2)-1,VLC!V:V,0))=\"x\",_xlfn.IFNA(INDEX(VLC!J:J,MATCH(241+ROW(A2)-1,VLC!V:V,0)),\"\"),\"\"),\"\")","v":""},{"$f":"2000+ROW(A35)-33","v":2002},{"$f":"L35+40","v":2042}]
["SK Teilnehmer 3",{"$f":"_xlfn.IFNA(INDEX(VLC!A:A,MATCH(203,VLC!V:V,0)),\"\")","v":""},{"$f":"_xlfn.IFNA(INDEX(VLC!A:A,MATCH(243,VLC!V:V,0)),\"\")","v":""},{"$f":"_xlfn.IFNA(INDEX(VLC!B:B,MATCH(203,VLC!V:V,0)),\"\")","v":""},{"$f":"_xlfn.IFNA(INDEX(VLC!C:C,MATCH(203,VLC!V:V,0)),\"\")","v":""},{"$f":"_xlfn.IFNA(IF(INDEX(VLC!H:H,MATCH(201+ROW(A3)-1,VLC!V:V,0))=\"x\",_xlfn.IFNA(INDEX(VLC!H:H,MATCH(201+ROW(A3)-1,VLC!V:V,0)),\"\"),\"\"),\"\")","v":""},{"$f":"_xlfn.IFNA(IF(INDEX(VLC!H:H,MATCH(241+ROW(A3)-1,VLC!V:V,0))=\"x\",_xlfn.IFNA(INDEX(VLC!H:H,MATCH(241+ROW(A3)-1,VLC!V:V,0)),\"\"),\"\"),\"\")","v":""},{"$f":"_xlfn.IFNA(IF(INDEX(VLC!I:I,MATCH(201+ROW(A3)-1,VLC!V:V,0))<>\"\",_xlfn.IFNA(INDEX(VLC!I:I,MATCH(201+ROW(A3)-1,VLC!V:V,0)),\"\"),\"\"),\"\")","v":""},{"$f":"_xlfn.IFNA(IF(INDEX(VLC!I:I,MATCH(241+ROW(A3)-1,VLC!V:V,0))<>\"\",_xlfn.IFNA(INDEX(VLC!I:I,MATCH(241+ROW(A3)-1,VLC!V:V,0)),\"\"),\"\"),\"\")","v":""},{"$f":"_xlfn.IFNA(IF(INDEX(VLC!J:J,MATCH(201+ROW(A3)-1,VLC!V:V,0))=\"x\",_xlfn.IFNA(INDEX(VLC!J:J,MATCH(201+ROW(A3)-1,VLC!V:V,0)),\"\"),\"\"),\"\")","v":""},{"$f":"_xlfn.IFNA(IF(INDEX(VLC!J:J,MATCH(241+ROW(A3)-1,VLC!V:V,0))=\"x\",_xlfn.IFNA(INDEX(VLC!J:J,MATCH(241+ROW(A3)-1,VLC!V:V,0)),\"\"),\"\"),\"\")","v":""},2003,2043]
["SK Teilnehmer 4",{"$f":"_xlfn.IFNA(INDEX(VLC!A:A,MATCH(204,VLC!V:V,0)),\"\")","v":""},{"$f":"_xlfn.IFNA(INDEX(VLC!A:A,MATCH(244,VLC!V:V,0)),\"\")","v":""},{"$f":"_xlfn.IFNA(INDEX(VLC!B:B,MATCH(204,VLC!V:V,0)),\"\")","v":""},{"$f":"_xlfn.IFNA(INDEX(VLC!C:C,MATCH(204,VLC!V:V,0)),\"\")","v":""},{"$f":"_xlfn.IFNA(IF(INDEX(VLC!H:H,MATCH(201+ROW(A4)-1,VLC!V:V,0))=\"x\",_xlfn.IFNA(INDEX(VLC!H:H,MATCH(201+ROW(A4)-1,VLC!V:V,0)),\"\"),\"\"),\"\")","v":""},{"$f":"_xlfn.IFNA(IF(INDEX(VLC!H:H,MATCH(241+ROW(A4)-1,VLC!V:V,0))=\"x\",_xlfn.IFNA(INDEX(VLC!H:H,MATCH(241+ROW(A4)-1,VLC!V:V,0)),\"\"),\"\"),\"\")","v":""},{"$f":"_xlfn.IFNA(IF(INDEX(VLC!I:I,MATCH(201+ROW(A4)-1,VLC!V:V,0))<>\"\",_xlfn.IFNA(INDEX(VLC!I:I,MATCH(201+ROW(A4)-1,VLC!V:V,0)),\"\"),\"\"),\"\")","v":""},{"$f":"_xlfn.IFNA(IF(INDEX(VLC!I:I,MATCH(241+ROW(A4)-1,VLC!V:V,0))<>\"\",_xlfn.IFNA(INDEX(VLC!I:I,MATCH(241+ROW(A4)-1,VLC!V:V,0)),\"\"),\"\"),\"\")","v":""},{"$f":"_xlfn.IFNA(IF(INDEX(VLC!J:J,MATCH(201+ROW(A4)-1,VLC!V:V,0))=\"x\",_xlfn.IFNA(INDEX(VLC!J:J,MATCH(201+ROW(A4)-1,VLC!V:V,0)),\"\"),\"\"),\"\")","v":""},{"$f":"_xlfn.IFNA(IF(INDEX(VLC!J:J,MATCH(241+ROW(A4)-1,VLC!V:V,0))=\"x\",_xlfn.IFNA(INDEX(VLC!J:J,MATCH(241+ROW(A4)-1,VLC!V:V,0)),\"\"),\"\"),\"\")","v":""},2004,2044]
["SK Teilnehmer 5",{"$f":"_xlfn.IFNA(INDEX(VLC!A:A,MATCH(205,VLC!V:V,0)),\"\")","v":""},{"$f":"_xlfn.IFNA(INDEX(VLC!A:A,MATCH(245,VLC!V:V,0)),\"\")","v":""},{"$f":"_xlfn.IFNA(INDEX(VLC!B:B,MATCH(205,VLC!V:V,0)),\"\")","v":""},{"$f":"_xlfn.IFNA(INDEX(VLC!C:C,MATCH(205,VLC!V:V,0)),\"\")","v":""},{"$f":"_xlfn.IFNA(IF(INDEX(VLC!H:H,MATCH(201+ROW(A5)-1,VLC!V:V,0))=\"x\",_xlfn.IFNA(INDEX(VLC!H:H,MATCH(201+ROW(A5)-1,VLC!V:V,0)),\"\"),\"\"),\"\")","v":""},{"$f":"_xlfn.IFNA(IF(INDEX(VLC!H:H,MATCH(241+ROW(A5)-1,VLC!V:V,0))=\"x\",_xlfn.IFNA(INDEX(VLC!H:H,MATCH(241+ROW(A5)-1,VLC!V:V,0)),\"\"),\"\"),\"\")","v":""},{"$f":"_xlfn.IFNA(IF(INDEX(VLC!I:I,MATCH(201+ROW(A5)-1,VLC!V:V,0))<>\"\",_xlfn.IFNA(INDEX(VLC!I:I,MATCH(201+ROW(A5)-1,VLC!V:V,0)),\"\"),\"\"),\"\")","v":""},{"$f":"_xlfn.IFNA(IF(INDEX(VLC!I:I,MATCH(241+ROW(A5)-1,VLC!V:V,0))<>\"\",_xlfn.IFNA(INDEX(VLC!I:I,MATCH(241+ROW(A5)-1,VLC!V:V,0)),\"\"),\"\"),\"\")","v":""},{"$f":"_xlfn.IFNA(IF(INDEX(VLC!J:J,MATCH(201+ROW(A5)-1,VLC!V:V,0))=\"x\",_xlfn.IFNA(INDEX(VLC!J:J,MATCH(201+ROW(A5)-1,VLC!V:V,0)),\"\"),\"\"),\"\")","v":""},{"$f":"_xlfn.IFNA(IF(INDEX(VLC!J:J,MATCH(241+ROW(A5)-1,VLC!V:V,0))=\"x\",_xlfn.IFNA(INDEX(VLC!J:J,MATCH(241+ROW(A5)-1,VLC!V:V,0)),\"\"),\"\"),\"\")","v":""},2005,2045]
["SK Teilnehmer 6",{"$f":"_xlfn.IFNA(INDEX(VLC!A:A,MATCH(206,VLC!V:V,0)),\"\")","v":""},{"$f":"_xlfn.IFNA(INDEX(VLC!A:A,MATCH(246,VLC!V:V,0)),\"\")","v":""},{"$f":"_xlfn.IFNA(INDEX(VLC!B:B,MATCH(206,VLC!V:V,0)),\"\")","v":""},{"$f":"_xlfn.IFNA(INDEX(VLC!C:C,MATCH(206,VLC!V:V,0)),\"\")","v":""},{"$f":"_xlfn.IFNA(IF(INDEX(VLC!H:H,MATCH(201+ROW(A6)-1,VLC!V:V,0))=\"x\",_xlfn.IFNA(INDEX(VLC!H:H,MATCH(201+ROW(A6)-1,VLC!V:V,0)),\"\"),\"\"),\"\")","v":""},{"$f":"_xlfn.IFNA(IF(INDEX(VLC!H:H,MATCH(241+ROW(A6)-1,VLC!V:V,0))=\"x\",_xlfn.IFNA(INDEX(VLC!H:H,MATCH(241+ROW(A6)-1,VLC!V:V,0)),\"\"),\"\"),\"\")","v":""},{"$f":"_xlfn.IFNA(IF(INDEX(VLC!I:I,MATCH(201+ROW(A6)-1,VLC!V:V,0))<>\"\",_xlfn.IFNA(INDEX(VLC!I:I,MATCH(201+ROW(A6)-1,VLC!V:V,0)),\"\"),\"\"),\"\")","v":""},{"$f":"_xlfn.IFNA(IF(INDEX(VLC!I:I,MATCH(241+ROW(A6)-1,VLC!V:V,0))<>\"\",_xlfn.IFNA(INDEX(VLC!I:I,MATCH(241+ROW(A6)-1,VLC!V:V,0)),\"\"),\"\"),\"\")","v":""},{"$f":"_xlfn.IFNA(IF(INDEX(VLC!J:J,MATCH(201+ROW(A6)-1,VLC!V:V,0))=\"x\",_xlfn.IFNA(INDEX(VLC!J:J,MATCH(201+ROW(A6)-1,VLC!V:V,0)),\"\"),\"\"),\"\")","v":""},{"$f":"_xlfn.IFNA(IF(INDEX(VLC!J:J,MATCH(241+ROW(A6)-1,VLC!V:V,0))=\"x\",_xlfn.IFNA(INDEX(VLC!J:J,MATCH(241+ROW(A6)-1,VLC!V:V,0)),\"\"),\"\"),\"\")","v":""},2006,2046]
["SK Teilnehmer 7",{"$f":"_xlfn.IFNA(INDEX(VLC!A:A,MATCH(207,VLC!V:V,0)),\"\")","v":""},{"$f":"_xlfn.IFNA(INDEX(VLC!A:A,MATCH(247,VLC!V:V,0)),\"\")","v":""},{"$f":"_xlfn.IFNA(INDEX(VLC!B:B,MATCH(207,VLC!V:V,0)),\"\")","v":""},{"$f":"_xlfn.IFNA(INDEX(VLC!C:C,MATCH(207,VLC!V:V,0)),\"\")","v":""},{"$f":"_xlfn.IFNA(IF(INDEX(VLC!H:H,MATCH(201+ROW(A7)-1,VLC!V:V,0))=\"x\",_xlfn.IFNA(INDEX(VLC!H:H,MATCH(201+ROW(A7)-1,VLC!V:V,0)),\"\"),\"\"),\"\")","v":""},{"$f":"_xlfn.IFNA(IF(INDEX(VLC!H:H,MATCH(241+ROW(A7)-1,VLC!V:V,0))=\"x\",_xlfn.IFNA(INDEX(VLC!H:H,MATCH(241+ROW(A7)-1,VLC!V:V,0)),\"\"),\"\"),\"\")","v":""},{"$f":"_xlfn.IFNA(IF(INDEX(VLC!I:I,MATCH(201+ROW(A7)-1,VLC!V:V,0))<>\"\",_xlfn.IFNA(INDEX(VLC!I:I,MATCH(201+ROW(A7)-1,VLC!V:V,0)),\"\"),\"\"),\"\")","v":""},{"$f":"_xlfn.IFNA(IF(INDEX(VLC!I:I,MATCH(241+ROW(A7)-1,VLC!V:V,0))<>\"\",_xlfn.IFNA(INDEX(VLC!I:I,MATCH(241+ROW(A7)-1,VLC!V:V,0)),\"\"),\"\"),\"\")","v":""},{"$f":"_xlfn.IFNA(IF(INDEX(VLC!J:J,MATCH(201+ROW(A7)-1,VLC!V:V,0))=\"x\",_xlfn.IFNA(INDEX(VLC!J:J,MATCH(201+ROW(A7)-1,VLC!V:V,0)),\"\"),\"\"),\"\")","v":""},{"$f":"_xlfn.IFNA(IF(INDEX(VLC!J:J,MATCH(241+ROW(A7)-1,VLC!V:V,0))=\"x\",_xlfn.IFNA(INDEX(VLC!J:J,MATCH(241+ROW(A7)-1,VLC!V:V,0)),\"\"),\"\"),\"\")","v":""},2007,2047]
["SK Teilnehmer 8",{"$f":"_xlfn.IFNA(INDEX(VLC!A:A,MATCH(208,VLC!V:V,0)),\"\")","v":""},{"$f":"_xlfn.IFNA(INDEX(VLC!A:A,MATCH(248,VLC!V:V,0)),\"\")","v":""},{"$f":"_xlfn.IFNA(INDEX(VLC!B:B,MATCH(208,VLC!V:V,0)),\"\")","v":""},{"$f":"_xlfn.IFNA(INDEX(VLC!C:C,MATCH(208,VLC!V:V,0)),\"\")","v":""},{"$f":"_xlfn.IFNA(IF(INDEX(VLC!H:H,MATCH(201+ROW(A8)-1,VLC!V:V,0))=\"x\",_xlfn.IFNA(INDEX(VLC!H:H,MATCH(201+ROW(A8)-1,VLC!V:V,0)),\"\"),\"\"),\"\")","v":""},{"$f":"_xlfn.IFNA(IF(INDEX(VLC!H:H,MATCH(241+ROW(A8)-1,VLC!V:V,0))=\"x\",_xlfn.IFNA(INDEX(VLC!H:H,MATCH(241+ROW(A8)-1,VLC!V:V,0)),\"\"),\"\"),\"\")","v":""},{"$f":"_xlfn.IFNA(IF(INDEX(VLC!I:I,MATCH(201+ROW(A8)-1,VLC!V:V,0))<>\"\",_xlfn.IFNA(INDEX(VLC!I:I,MATCH(201+ROW(A8)-1,VLC!V:V,0)),\"\"),\"\"),\"\")","v":""},{"$f":"_xlfn.IFNA(IF(INDEX(VLC!I:I,MATCH(241+ROW(A8)-1,VLC!V:V,0))<>\"\",_xlfn.IFNA(INDEX(VLC!I:I,MATCH(241+ROW(A8)-1,VLC!V:V,0)),\"\"),\"\"),\"\")","v":""},{"$f":"_xlfn.IFNA(IF(INDEX(VLC!J:J,MATCH(201+ROW(A8)-1,VLC!V:V,0))=\"x\",_xlfn.IFNA(INDEX(VLC!J:J,MATCH(201+ROW(A8)-1,VLC!V:V,0)),\"\"),\"\"),\"\")","v":""},{"$f":"_xlfn.IFNA(IF(INDEX(VLC!J:J,MATCH(241+ROW(A8)-1,VLC!V:V,0))=\"x\",_xlfn.IFNA(INDEX(VLC!J:J,MATCH(241+ROW(A8)-1,VLC!V:V,0)),\"\"),\"\"),\"\")","v":""},2008,2048]
["SK Teilnehmer 9",{"$f":"_xlfn.IFNA(INDEX(VLC!A:A,MATCH(209,VLC!V:V,0)),\"\")","v":""},{"$f":"_xlfn.IFNA(INDEX(VLC!A:A,MATCH(249,VLC!V:V,0)),\"\")","v":""},{"$f":"_xlfn.IFNA(INDEX(VLC!B:B,MATCH(209,VLC!V:V,0)),\"\")","v":""},{"$f":"_xlfn.IFNA(INDEX(VLC!C:C,MATCH(209,VLC!V:V,0)),\"\")","v":""},{"$f":"_xlfn.IFNA(IF(INDEX(VLC!H:H,MATCH(201+ROW(A9)-1,VLC!V:V,0))=\"x\",_xlfn.IFNA(INDEX(VLC!H:H,MATCH(201+ROW(A9)-1,VLC!V:V,0)),\"\"),\"\"),\"\")","v":""},{"$f":"_xlfn.IFNA(IF(INDEX(VLC!H:H,MATCH(241+ROW(A9)-1,VLC!V:V,0))=\"x\",_xlfn.IFNA(INDEX(VLC!H:H,MATCH(241+ROW(A9)-1,VLC!V:V,0)),\"\"),\"\"),\"\")","v":""},{"$f":"_xlfn.IFNA(IF(INDEX(VLC!I:I,MATCH(201+ROW(A9)-1,VLC!V:V,0))<>\"\",_xlfn.IFNA(INDEX(VLC!I:I,MATCH(201+ROW(A9)-1,VLC!V:V,0)),\"\"),\"\"),\"\")","v":""},{"$f":"_xlfn.IFNA(IF(INDEX(VLC!I:I,MATCH(241+ROW(A9)-1,VLC!V:V,0))<>\"\",_xlfn.IFNA(INDEX(VLC!I:I,MATCH(241+ROW(A9)-1,VLC!V:V,0)),\"\"),\"\"),\"\")","v":""},{"$f":"_xlfn.IFNA(IF(INDEX(VLC!J:J,MATCH(201+ROW(A9)-1,VLC!V:V,0))=\"x\",_xlfn.IFNA(INDEX(VLC!J:J,MATCH(201+ROW(A9)-1,VLC!V:V,0)),\"\"),\"\"),\"\")","v":""},{"$f":"_xlfn.IFNA(IF(INDEX(VLC!J:J,MATCH(241+ROW(A9)-1,VLC!V:V,0))=\"x\",_xlfn.IFNA(INDEX(VLC!J:J,MATCH(241+ROW(A9)-1,VLC!V:V,0)),\"\"),\"\"),\"\")","v":""},2009,2049]
["SK Teilnehmer 10",{"$f":"_xlfn.IFNA(INDEX(VLC!A:A,MATCH(210,VLC!V:V,0)),\"\")","v":""},{"$f":"_xlfn.IFNA(INDEX(VLC!A:A,MATCH(250,VLC!V:V,0)),\"\")","v":""},{"$f":"_xlfn.IFNA(INDEX(VLC!B:B,MATCH(210,VLC!V:V,0)),\"\")","v":""},{"$f":"_xlfn.IFNA(INDEX(VLC!C:C,MATCH(210,VLC!V:V,0)),\"\")","v":""},{"$f":"_xlfn.IFNA(IF(INDEX(VLC!H:H,MATCH(201+ROW(A10)-1,VLC!V:V,0))=\"x\",_xlfn.IFNA(INDEX(VLC!H:H,MATCH(201+ROW(A10)-1,VLC!V:V,0)),\"\"),\"\"),\"\")","v":""},{"$f":"_xlfn.IFNA(IF(INDEX(VLC!H:H,MATCH(241+ROW(A10)-1,VLC!V:V,0))=\"x\",_xlfn.IFNA(INDEX(VLC!H:H,MATCH(241+ROW(A10)-1,VLC!V:V,0)),\"\"),\"\"),\"\")","v":""},{"$f":"_xlfn.IFNA(IF(INDEX(VLC!I:I,MATCH(201+ROW(A10)-1,VLC!V:V,0))<>\"\",_xlfn.IFNA(INDEX(VLC!I:I,MATCH(201+ROW(A10)-1,VLC!V:V,0)),\"\"),\"\"),\"\")","v":""},{"$f":"_xlfn.IFNA(IF(INDEX(VLC!I:I,MATCH(241+ROW(A10)-1,VLC!V:V,0))<>\"\",_xlfn.IFNA(INDEX(VLC!I:I,MATCH(241+ROW(A10)-1,VLC!V:V,0)),\"\"),\"\"),\"\")","v":""},{"$f":"_xlfn.IFNA(IF(INDEX(VLC!J:J,MATCH(201+ROW(A10)-1,VLC!V:V,0))=\"x\",_xlfn.IFNA(INDEX(VLC!J:J,MATCH(201+ROW(A10)-1,VLC!V:V,0)),\"\"),\"\"),\"\")","v":""},{"$f":"_xlfn.IFNA(IF(INDEX(VLC!J:J,MATCH(241+ROW(A10)-1,VLC!V:V,0))=\"x\",_xlfn.IFNA(INDEX(VLC!J:J,MATCH(241+ROW(A10)-1,VLC!V:V,0)),\"\"),\"\"),\"\")","v":""},2010,2050]
["SK Teilnehmer 11",{"$f":"_xlfn.IFNA(INDEX(VLC!A:A,MATCH(211,VLC!V:V,0)),\"\")","v":""},{"$f":"_xlfn.IFNA(INDEX(VLC!A:A,MATCH(251,VLC!V:V,0)),\"\")","v":""},{"$f":"_xlfn.IFNA(INDEX(VLC!B:B,MATCH(211,VLC!V:V,0)),\"\")","v":""},{"$f":"_xlfn.IFNA(INDEX(VLC!C:C,MATCH(211,VLC!V:V,0)),\"\")","v":""},{"$f":"_xlfn.IFNA(IF(INDEX(VLC!H:H,MATCH(201+ROW(A11)-1,VLC!V:V,0))=\"x\",_xlfn.IFNA(INDEX(VLC!H:H,MATCH(201+ROW(A11)-1,VLC!V:V,0)),\"\"),\"\"),\"\")","v":""},{"$f":"_xlfn.IFNA(IF(INDEX(VLC!H:H,MATCH(241+ROW(A11)-1,VLC!V:V,0))=\"x\",_xlfn.IFNA(INDEX(VLC!H:H,MATCH(241+ROW(A11)-1,VLC!V:V,0)),\"\"),\"\"),\"\")","v":""},{"$f":"_xlfn.IFNA(IF(INDEX(VLC!I:I,MATCH(201+ROW(A11)-1,VLC!V:V,0))<>\"\",_xlfn.IFNA(INDEX(VLC!I:I,MATCH(201+ROW(A11)-1,VLC!V:V,0)),\"\"),\"\"),\"\")","v":""},{"$f":"_xlfn.IFNA(IF(INDEX(VLC!I:I,MATCH(241+ROW(A11)-1,VLC!V:V,0))<>\"\",_xlfn.IFNA(INDEX(VLC!I:I,MATCH(241+ROW(A11)-1,VLC!V:V,0)),\"\"),\"\"),\"\")","v":""},{"$f":"_xlfn.IFNA(IF(INDEX(VLC!J:J,MATCH(201+ROW(A11)-1,VLC!V:V,0))=\"x\",_xlfn.IFNA(INDEX(VLC!J:J,MATCH(201+ROW(A11)-1,VLC!V:V,0)),\"\"),\"\"),\"\")","v":""},{"$f":"_xlfn.IFNA(IF(INDEX(VLC!J:J,MATCH(241+ROW(A11)-1,VLC!V:V,0))=\"x\",_xlfn.IFNA(INDEX(VLC!J:J,MATCH(241+ROW(A11)-1,VLC!V:V,0)),\"\"),\"\"),\"\")","v":""},2011,2051]
["SK Teilnehmer 12",{"$f":"_xlfn.IFNA(INDEX(VLC!A:A,MATCH(212,VLC!V:V,0)),\"\")","v":""},{"$f":"_xlfn.IFNA(INDEX(VLC!A:A,MATCH(252,VLC!V:V,0)),\"\")","v":""},{"$f":"_xlfn.IFNA(INDEX(VLC!B:B,MATCH(212,VLC!V:V,0)),\"\")","v":""},{"$f":"_xlfn.IFNA(INDEX(VLC!C:C,MATCH(212,VLC!V:V,0)),\"\")","v":""},{"$f":"_xlfn.IFNA(IF(INDEX(VLC!H:H,MATCH(201+ROW(A12)-1,VLC!V:V,0))=\"x\",_xlfn.IFNA(INDEX(VLC!H:H,MATCH(201+ROW(A12)-1,VLC!V:V,0)),\"\"),\"\"),\"\")","v":""},{"$f":"_xlfn.IFNA(IF(INDEX(VLC!H:H,MATCH(241+ROW(A12)-1,VLC!V:V,0))=\"x\",_xlfn.IFNA(INDEX(VLC!H:H,MATCH(241+ROW(A12)-1,VLC!V:V,0)),\"\"),\"\"),\"\")","v":""},{"$f":"_xlfn.IFNA(IF(INDEX(VLC!I:I,MATCH(201+ROW(A12)-1,VLC!V:V,0))<>\"\",_xlfn.IFNA(INDEX(VLC!I:I,MATCH(201+ROW(A12)-1,VLC!V:V,0)),\"\"),\"\"),\"\")","v":""},{"$f":"_xlfn.IFNA(IF(INDEX(VLC!I:I,MATCH(241+ROW(A12)-1,VLC!V:V,0))<>\"\",_xlfn.IFNA(INDEX(VLC!I:I,MATCH(241+ROW(A12)-1,VLC!V:V,0)),\"\"),\"\"),\"\")","v":""},{"$f":"_xlfn.IFNA(IF(INDEX(VLC!J:J,MATCH(201+ROW(A12)-1,VLC!V:V,0))=\"x\",_xlfn.IFNA(INDEX(VLC!J:J,MATCH(201+ROW(A12)-1,VLC!V:V,0)),\"\"),\"\"),\"\")","v":""},{"$f":"_xlfn.IFNA(IF(INDEX(VLC!J:J,MATCH(241+ROW(A12)-1,VLC!V:V,0))=\"x\",_xlfn.IFNA(INDEX(VLC!J:J,MATCH(241+ROW(A12)-1,VLC!V:V,0)),\"\"),\"\"),\"\")","v":""},2012,2052]
["SK Teilnehmer 13",{"$f":"_xlfn.IFNA(INDEX(VLC!A:A,MATCH(213,VLC!V:V,0)),\"\")","v":""},{"$f":"_xlfn.IFNA(INDEX(VLC!A:A,MATCH(253,VLC!V:V,0)),\"\")","v":""},{"$f":"_xlfn.IFNA(INDEX(VLC!B:B,MATCH(213,VLC!V:V,0)),\"\")","v":""},{"$f":"_xlfn.IFNA(INDEX(VLC!C:C,MATCH(213,VLC!V:V,0)),\"\")","v":""},{"$f":"_xlfn.IFNA(IF(INDEX(VLC!H:H,MATCH(201+ROW(A13)-1,VLC!V:V,0))=\"x\",_xlfn.IFNA(INDEX(VLC!H:H,MATCH(201+ROW(A13)-1,VLC!V:V,0)),\"\"),\"\"),\"\")","v":""},{"$f":"_xlfn.IFNA(IF(INDEX(VLC!H:H,MATCH(241+ROW(A13)-1,VLC!V:V,0))=\"x\",_xlfn.IFNA(INDEX(VLC!H:H,MATCH(241+ROW(A13)-1,VLC!V:V,0)),\"\"),\"\"),\"\")","v":""},{"$f":"_xlfn.IFNA(IF(INDEX(VLC!I:I,MATCH(201+ROW(A13)-1,VLC!V:V,0))<>\"\",_xlfn.IFNA(INDEX(VLC!I:I,MATCH(201+ROW(A13)-1,VLC!V:V,0)),\"\"),\"\"),\"\")","v":""},{"$f":"_xlfn.IFNA(IF(INDEX(VLC!I:I,MATCH(241+ROW(A13)-1,VLC!V:V,0))<>\"\",_xlfn.IFNA(INDEX(VLC!I:I,MATCH(241+ROW(A13)-1,VLC!V:V,0)),\"\"),\"\"),\"\")","v":""},{"$f":"_xlfn.IFNA(IF(INDEX(VLC!J:J,MATCH(201+ROW(A13)-1,VLC!V:V,0))=\"x\",_xlfn.IFNA(INDEX(VLC!J:J,MATCH(201+ROW(A13)-1,VLC!V:V,0)),\"\"),\"\"),\"\")","v":""},{"$f":"_xlfn.IFNA(IF(INDEX(VLC!J:J,MATCH(241+ROW(A13)-1,VLC!V:V,0))=\"x\",_xlfn.IFNA(INDEX(VLC!J:J,MATCH(241+ROW(A13)-1,VLC!V:V,0)),\"\"),\"\"),\"\")","v":""},2013,2053]
["SK Teilnehmer 14",{"$f":"_xlfn.IFNA(INDEX(VLC!A:A,MATCH(214,VLC!V:V,0)),\"\")","v":""},{"$f":"_xlfn.IFNA(INDEX(VLC!A:A,MATCH(254,VLC!V:V,0)),\"\")","v":""},{"$f":"_xlfn.IFNA(INDEX(VLC!B:B,MATCH(214,VLC!V:V,0)),\"\")","v":""},{"$f":"_xlfn.IFNA(INDEX(VLC!C:C,MATCH(214,VLC!V:V,0)),\"\")","v":""},{"$f":"_xlfn.IFNA(IF(INDEX(VLC!H:H,MATCH(201+ROW(A14)-1,VLC!V:V,0))=\"x\",_xlfn.IFNA(INDEX(VLC!H:H,MATCH(201+ROW(A14)-1,VLC!V:V,0)),\"\"),\"\"),\"\")","v":""},{"$f":"_xlfn.IFNA(IF(INDEX(VLC!H:H,MATCH(241+ROW(A14)-1,VLC!V:V,0))=\"x\",_xlfn.IFNA(INDEX(VLC!H:H,MATCH(241+ROW(A14)-1,VLC!V:V,0)),\"\"),\"\"),\"\")","v":""},{"$f":"_xlfn.IFNA(IF(INDEX(VLC!I:I,MATCH(201+ROW(A14)-1,VLC!V:V,0))<>\"\",_xlfn.IFNA(INDEX(VLC!I:I,MATCH(201+ROW(A14)-1,VLC!V:V,0)),\"\"),\"\"),\"\")","v":""},{"$f":"_xlfn.IFNA(IF(INDEX(VLC!I:I,MATCH(241+ROW(A14)-1,VLC!V:V,0))<>\"\",_xlfn.IFNA(INDEX(VLC!I:I,MATCH(241+ROW(A14)-1,VLC!V:V,0)),\"\"),\"\"),\"\")","v":""},{"$f":"_xlfn.IFNA(IF(INDEX(VLC!J:J,MATCH(201+ROW(A14)-1,VLC!V:V,0))=\"x\",_xlfn.IFNA(INDEX(VLC!J:J,MATCH(201+ROW(A14)-1,VLC!V:V,0)),\"\"),\"\"),\"\")","v":""},{"$f":"_xlfn.IFNA(IF(INDEX(VLC!J:J,MATCH(241+ROW(A14)-1,VLC!V:V,0))=\"x\",_xlfn.IFNA(INDEX(VLC!J:J,MATCH(241+ROW(A14)-1,VLC!V:V,0)),\"\"),\"\"),\"\")","v":""},2014,2054]
["SK Teilnehmer 15",{"$f":"_xlfn.IFNA(INDEX(VLC!A:A,MATCH(215,VLC!V:V,0)),\"\")","v":""},{"$f":"_xlfn.IFNA(INDEX(VLC!A:A,MATCH(255,VLC!V:V,0)),\"\")","v":""},{"$f":"_xlfn.IFNA(INDEX(VLC!B:B,MATCH(215,VLC!V:V,0)),\"\")","v":""},{"$f":"_xlfn.IFNA(INDEX(VLC!C:C,MATCH(215,VLC!V:V,0)),\"\")","v":""},{"$f":"_xlfn.IFNA(IF(INDEX(VLC!H:H,MATCH(201+ROW(A15)-1,VLC!V:V,0))=\"x\",_xlfn.IFNA(INDEX(VLC!H:H,MATCH(201+ROW(A15)-1,VLC!V:V,0)),\"\"),\"\"),\"\")","v":""},{"$f":"_xlfn.IFNA(IF(INDEX(VLC!H:H,MATCH(241+ROW(A15)-1,VLC!V:V,0))=\"x\",_xlfn.IFNA(INDEX(VLC!H:H,MATCH(241+ROW(A15)-1,VLC!V:V,0)),\"\"),\"\"),\"\")","v":""},{"$f":"_xlfn.IFNA(IF(INDEX(VLC!I:I,MATCH(201+ROW(A15)-1,VLC!V:V,0))<>\"\",_xlfn.IFNA(INDEX(VLC!I:I,MATCH(201+ROW(A15)-1,VLC!V:V,0)),\"\"),\"\"),\"\")","v":""},{"$f":"_xlfn.IFNA(IF(INDEX(VLC!I:I,MATCH(241+ROW(A15)-1,VLC!V:V,0))<>\"\",_xlfn.IFNA(INDEX(VLC!I:I,MATCH(241+ROW(A15)-1,VLC!V:V,0)),\"\"),\"\"),\"\")","v":""},{"$f":"_xlfn.IFNA(IF(INDEX(VLC!J:J,MATCH(201+ROW(A15)-1,VLC!V:V,0))=\"x\",_xlfn.IFNA(INDEX(VLC!J:J,MATCH(201+ROW(A15)-1,VLC!V:V,0)),\"\"),\"\"),\"\")","v":""},{"$f":"_xlfn.IFNA(IF(INDEX(VLC!J:J,MATCH(241+ROW(A15)-1,VLC!V:V,0))=\"x\",_xlfn.IFNA(INDEX(VLC!J:J,MATCH(241+ROW(A15)-1,VLC!V:V,0)),\"\"),\"\"),\"\")","v":""},2015,2055]
["SK Teilnehmer 16",{"$f":"_xlfn.IFNA(INDEX(VLC!A:A,MATCH(216,VLC!V:V,0)),\"\")","v":""},{"$f":"_xlfn.IFNA(INDEX(VLC!A:A,MATCH(256,VLC!V:V,0)),\"\")","v":""},{"$f":"_xlfn.IFNA(INDEX(VLC!B:B,MATCH(216,VLC!V:V,0)),\"\")","v":""},{"$f":"_xlfn.IFNA(INDEX(VLC!C:C,MATCH(216,VLC!V:V,0)),\"\")","v":""},{"$f":"_xlfn.IFNA(IF(INDEX(VLC!H:H,MATCH(201+ROW(A16)-1,VLC!V:V,0))=\"x\",_xlfn.IFNA(INDEX(VLC!H:H,MATCH(201+ROW(A16)-1,VLC!V:V,0)),\"\"),\"\"),\"\")","v":""},{"$f":"_xlfn.IFNA(IF(INDEX(VLC!H:H,MATCH(241+ROW(A16)-1,VLC!V:V,0))=\"x\",_xlfn.IFNA(INDEX(VLC!H:H,MATCH(241+ROW(A16)-1,VLC!V:V,0)),\"\"),\"\"),\"\")","v":""},{"$f":"_xlfn.IFNA(IF(INDEX(VLC!I:I,MATCH(201+ROW(A16)-1,VLC!V:V,0))<>\"\",_xlfn.IFNA(INDEX(VLC!I:I,MATCH(201+ROW(A16)-1,VLC!V:V,0)),\"\"),\"\"),\"\")","v":""},{"$f":"_xlfn.IFNA(IF(INDEX(VLC!I:I,MATCH(241+ROW(A16)-1,VLC!V:V,0))<>\"\",_xlfn.IFNA(INDEX(VLC!I:I,MATCH(241+ROW(A16)-1,VLC!V:V,0)),\"\"),\"\"),\"\")","v":""},{"$f":"_xlfn.IFNA(IF(INDEX(VLC!J:J,MATCH(201+ROW(A16)-1,VLC!V:V,0))=\"x\",_xlfn.IFNA(INDEX(VLC!J:J,MATCH(201+ROW(A16)-1,VLC!V:V,0)),\"\"),\"\"),\"\")","v":""},{"$f":"_xlfn.IFNA(IF(INDEX(VLC!J:J,MATCH(241+ROW(A16)-1,VLC!V:V,0))=\"x\",_xlfn.IFNA(INDEX(VLC!J:J,MATCH(241+ROW(A16)-1,VLC!V:V,0)),\"\"),\"\"),\"\")","v":""},2016,2056]
["SK Teilnehmer 17",{"$f":"_xlfn.IFNA(INDEX(VLC!A:A,MATCH(217,VLC!V:V,0)),\"\")","v":""},{"$f":"_xlfn.IFNA(INDEX(VLC!A:A,MATCH(257,VLC!V:V,0)),\"\")","v":""},{"$f":"_xlfn.IFNA(INDEX(VLC!B:B,MATCH(217,VLC!V:V,0)),\"\")","v":""},{"$f":"_xlfn.IFNA(INDEX(VLC!C:C,MATCH(217,VLC!V:V,0)),\"\")","v":""},{"$f":"_xlfn.IFNA(IF(INDEX(VLC!H:H,MATCH(201+ROW(A17)-1,VLC!V:V,0))=\"x\",_xlfn.IFNA(INDEX(VLC!H:H,MATCH(201+ROW(A17)-1,VLC!V:V,0)),\"\"),\"\"),\"\")","v":""},{"$f":"_xlfn.IFNA(IF(INDEX(VLC!H:H,MATCH(241+ROW(A17)-1,VLC!V:V,0))=\"x\",_xlfn.IFNA(INDEX(VLC!H:H,MATCH(241+ROW(A17)-1,VLC!V:V,0)),\"\"),\"\"),\"\")","v":""},{"$f":"_xlfn.IFNA(IF(INDEX(VLC!I:I,MATCH(201+ROW(A17)-1,VLC!V:V,0))<>\"\",_xlfn.IFNA(INDEX(VLC!I:I,MATCH(201+ROW(A17)-1,VLC!V:V,0)),\"\"),\"\"),\"\")","v":""},{"$f":"_xlfn.IFNA(IF(INDEX(VLC!I:I,MATCH(241+ROW(A17)-1,VLC!V:V,0))<>\"\",_xlfn.IFNA(INDEX(VLC!I:I,MATCH(241+ROW(A17)-1,VLC!V:V,0)),\"\"),\"\"),\"\")","v":""},{"$f":"_xlfn.IFNA(IF(INDEX(VLC!J:J,MATCH(201+ROW(A17)-1,VLC!V:V,0))=\"x\",_xlfn.IFNA(INDEX(VLC!J:J,MATCH(201+ROW(A17)-1,VLC!V:V,0)),\"\"),\"\"),\"\")","v":""},{"$f":"_xlfn.IFNA(IF(INDEX(VLC!J:J,MATCH(241+ROW(A17)-1,VLC!V:V,0))=\"x\",_xlfn.IFNA(INDEX(VLC!J:J,MATCH(241+ROW(A17)-1,VLC!V:V,0)),\"\"),\"\"),\"\")","v":""},2017,2057]
["SK Teilnehmer 18",{"$f":"_xlfn.IFNA(INDEX(VLC!A:A,MATCH(218,VLC!V:V,0)),\"\")","v":""},{"$f":"_xlfn.IFNA(INDEX(VLC!A:A,MATCH(258,VLC!V:V,0)),\"\")","v":""},{"$f":"_xlfn.IFNA(INDEX(VLC!B:B,MATCH(218,VLC!V:V,0)),\"\")","v":""},{"$f":"_xlfn.IFNA(INDEX(VLC!C:C,MATCH(218,VLC!V:V,0)),\"\")","v":""},{"$f":"_xlfn.IFNA(IF(INDEX(VLC!H:H,MATCH(201+ROW(A18)-1,VLC!V:V,0))=\"x\",_xlfn.IFNA(INDEX(VLC!H:H,MATCH(201+ROW(A18)-1,VLC!V:V,0)),\"\"),\"\"),\"\")","v":""},{"$f":"_xlfn.IFNA(IF(INDEX(VLC!H:H,MATCH(241+ROW(A18)-1,VLC!V:V,0))=\"x\",_xlfn.IFNA(INDEX(VLC!H:H,MATCH(241+ROW(A18)-1,VLC!V:V,0)),\"\"),\"\"),\"\")","v":""},{"$f":"_xlfn.IFNA(IF(INDEX(VLC!I:I,MATCH(201+ROW(A18)-1,VLC!V:V,0))<>\"\",_xlfn.IFNA(INDEX(VLC!I:I,MATCH(201+ROW(A18)-1,VLC!V:V,0)),\"\"),\"\"),\"\")","v":""},{"$f":"_xlfn.IFNA(IF(INDEX(VLC!I:I,MATCH(241+ROW(A18)-1,VLC!V:V,0))<>\"\",_xlfn.IFNA(INDEX(VLC!I:I,MATCH(241+ROW(A18)-1,VLC!V:V,0)),\"\"),\"\"),\"\")","v":""},{"$f":"_xlfn.IFNA(IF(INDEX(VLC!J:J,MATCH(201+ROW(A18)-1,VLC!V:V,0))=\"x\",_xlfn.IFNA(INDEX(VLC!J:J,MATCH(201+ROW(A18)-1,VLC!V:V,0)),\"\"),\"\"),\"\")","v":""},{"$f":"_xlfn.IFNA(IF(INDEX(VLC!J:J,MATCH(241+ROW(A18)-1,VLC!V:V,0))=\"x\",_xlfn.IFNA(INDEX(VLC!J:J,MATCH(241+ROW(A18)-1,VLC!V:V,0)),\"\"),\"\"),\"\")","v":""},2018,2058]
["SK Teilnehmer 19",{"$f":"_xlfn.IFNA(INDEX(VLC!A:A,MATCH(219,VLC!V:V,0)),\"\")","v":""},{"$f":"_xlfn.IFNA(INDEX(VLC!A:A,MATCH(259,VLC!V:V,0)),\"\")","v":""},{"$f":"_xlfn.IFNA(INDEX(VLC!B:B,MATCH(219,VLC!V:V,0)),\"\")","v":""},{"$f":"_xlfn.IFNA(INDEX(VLC!C:C,MATCH(219,VLC!V:V,0)),\"\")","v":""},{"$f":"_xlfn.IFNA(IF(INDEX(VLC!H:H,MATCH(201+ROW(A19)-1,VLC!V:V,0))=\"x\",_xlfn.IFNA(INDEX(VLC!H:H,MATCH(201+ROW(A19)-1,VLC!V:V,0)),\"\"),\"\"),\"\")","v":""},{"$f":"_xlfn.IFNA(IF(INDEX(VLC!H:H,MATCH(241+ROW(A19)-1,VLC!V:V,0))=\"x\",_xlfn.IFNA(INDEX(VLC!H:H,MATCH(241+ROW(A19)-1,VLC!V:V,0)),\"\"),\"\"),\"\")","v":""},{"$f":"_xlfn.IFNA(IF(INDEX(VLC!I:I,MATCH(201+ROW(A19)-1,VLC!V:V,0))<>\"\",_xlfn.IFNA(INDEX(VLC!I:I,MATCH(201+ROW(A19)-1,VLC!V:V,0)),\"\"),\"\"),\"\")","v":""},{"$f":"_xlfn.IFNA(IF(INDEX(VLC!I:I,MATCH(241+ROW(A19)-1,VLC!V:V,0))<>\"\",_xlfn.IFNA(INDEX(VLC!I:I,MATCH(241+ROW(A19)-1,VLC!V:V,0)),\"\"),\"\"),\"\")","v":""},{"$f":"_xlfn.IFNA(IF(INDEX(VLC!J:J,MATCH(201+ROW(A19)-1,VLC!V:V,0))=\"x\",_xlfn.IFNA(INDEX(VLC!J:J,MATCH(201+ROW(A19)-1,VLC!V:V,0)),\"\"),\"\"),\"\")","v":""},{"$f":"_xlfn.IFNA(IF(INDEX(VLC!J:J,MATCH(241+ROW(A19)-1,VLC!V:V,0))=\"x\",_xlfn.IFNA(INDEX(VLC!J:J,MATCH(241+ROW(A19)-1,VLC!V:V,0)),\"\"),\"\"),\"\")","v":""},2019,2059]
["SK Teilnehmer 20",{"$f":"_xlfn.IFNA(INDEX(VLC!A:A,MATCH(220,VLC!V:V,0)),\"\")","v":""},{"$f":"_xlfn.IFNA(INDEX(VLC!A:A,MATCH(260,VLC!V:V,0)),\"\")","v":""},{"$f":"_xlfn.IFNA(INDEX(VLC!B:B,MATCH(220,VLC!V:V,0)),\"\")","v":""},{"$f":"_xlfn.IFNA(INDEX(VLC!C:C,MATCH(220,VLC!V:V,0)),\"\")","v":""},{"$f":"_xlfn.IFNA(IF(INDEX(VLC!H:H,MATCH(201+ROW(A20)-1,VLC!V:V,0))=\"x\",_xlfn.IFNA(INDEX(VLC!H:H,MATCH(201+ROW(A20)-1,VLC!V:V,0)),\"\"),\"\"),\"\")","v":""},{"$f":"_xlfn.IFNA(IF(INDEX(VLC!H:H,MATCH(241+ROW(A20)-1,VLC!V:V,0))=\"x\",_xlfn.IFNA(INDEX(VLC!H:H,MATCH(241+ROW(A20)-1,VLC!V:V,0)),\"\"),\"\"),\"\")","v":""},{"$f":"_xlfn.IFNA(IF(INDEX(VLC!I:I,MATCH(201+ROW(A20)-1,VLC!V:V,0))<>\"\",_xlfn.IFNA(INDEX(VLC!I:I,MATCH(201+ROW(A20)-1,VLC!V:V,0)),\"\"),\"\"),\"\")","v":""},{"$f":"_xlfn.IFNA(IF(INDEX(VLC!I:I,MATCH(241+ROW(A20)-1,VLC!V:V,0))<>\"\",_xlfn.IFNA(INDEX(VLC!I:I,MATCH(241+ROW(A20)-1,VLC!V:V,0)),\"\"),\"\"),\"\")","v":""},{"$f":"_xlfn.IFNA(IF(INDEX(VLC!J:J,MATCH(201+ROW(A20)-1,VLC!V:V,0))=\"x\",_xlfn.IFNA(INDEX(VLC!J:J,MATCH(201+ROW(A20)-1,VLC!V:V,0)),\"\"),\"\"),\"\")","v":""},{"$f":"_xlfn.IFNA(IF(INDEX(VLC!J:J,MATCH(241+ROW(A20)-1,VLC!V:V,0))=\"x\",_xlfn.IFNA(INDEX(VLC!J:J,MATCH(241+ROW(A20)-1,VLC!V:V,0)),\"\"),\"\"),\"\")","v":""},2020,2060]
["Gerätename:",{"$f":"$B$6","v":0},null,null,"PLC24 Stromkreis-Nummer: 3"]
["Stromkreis-Bezeichnung:"]
["Stromkreisbelegung","ID 1","ID 2","Bezeichnung","Zusatzinfo","DL",null,"GL",null,"BL"]
[null,null,null,null,null,"ID1","ID2","ID1","ID2","ID1","ID2"]
["SK Teilnehmer 1",{"$f":"_xlfn.IFNA(INDEX(VLC!A:A,MATCH(301,VLC!V:V,0)),\"\")","v":""},{"$f":"_xlfn.IFNA(INDEX(VLC!A:A,MATCH(341,VLC!V:V,0)),\"\")","v":""},{"$f":"_xlfn.IFNA(INDEX(VLC!B:B,MATCH(301+ROW(A1)-1,VLC!V:V,0)),\"\")","v":""},{"$f":"_xlfn.IFNA(INDEX(VLC!C:C,MATCH(301+ROW(A1)-1,VLC!V:V,0)),\"\")","v":""},{"$f":"_xlfn.IFNA(IF(INDEX(VLC!H:H,MATCH(301+ROW(A1)-1,VLC!V:V,0))=\"x\",_xlfn.IFNA(INDEX(VLC!H:H,MATCH(301+ROW(A1)-1,VLC!V:V,0)),\"\"),\"\"),\"\")","v":""},{"$f":"_xlfn.IFNA(IF(INDEX(VLC!H:H,MATCH(341+ROW(A1)-1,VLC!V:V,0))=\"x\",_xlfn.IFNA(INDEX(VLC!H:H,MATCH(341+ROW(A1)-1,VLC!V:V,0)),\"\"),\"\"),\"\")","v":""},{"$f":"_xlfn.IFNA(IF(INDEX(VLC!I:I,MATCH(301+ROW(A1)-1,VLC!V:V,0))<>\"\",_xlfn.IFNA(INDEX(VLC!I:I,MATCH(301+ROW(A1)-1,VLC!V:V,0)),\"\"),\"\"),\"\")","v":""},{"$f":"_xlfn.IFNA(IF(INDEX(VLC!I:I,MATCH(341+ROW(A1)-1,VLC!V:V,0))<>\"\",_xlfn.IFNA(INDEX(VLC!I:I,MATCH(341+ROW(A1)-1,VLC!V:V,0)),\"\"),\"\"),\"\")","v":""},{"$f":"_xlfn.IFNA(IF(INDEX(VLC!J:J,MATCH(301+ROW(A1)-1,VLC!V:V,0))=\"x\",_xlfn.IFNA(INDEX(VLC!J:J,MATCH(301+ROW(A1)-1,VLC!V:V,0)),\"\"),\"\"),\"\")","v":""},{"$f":"_xlfn.IFNA(IF(INDEX(VLC!J:J,MATCH(341+ROW(A1)-1,VLC!V:V,0))=\"x\",_xlfn.IFNA(INDEX(VLC!J:J,MATCH(341+ROW(A1)-1,VLC!V:V,0)),\"\"),\"\"),\"\")","v":""},{"$f":"3000+ROW(A58)-57","v":3001},{"$f":"L58+40","v":3041}]
["SK Teilnehmer 2",{"$f":"_xlfn.IFNA(INDEX(VLC!A:A,MATCH(302,VLC!V:V,0)),\"\")","v":""},{"$f":"_xlfn.IFNA(INDEX(VLC!A:A,MATCH(342,VLC!V:V,0)),\"\")","v":""},{"$f":"_xlfn.IFNA(INDEX(VLC!B:B,MATCH(301+ROW(A2)-1,VLC!V:V,0)),\"\")","v":""},{"$f":"_xlfn.IFNA(INDEX(VLC!C:C,MATCH(301+ROW(A2)-1,VLC!V:V,0)),\"\")","v":""},{"$f":"_xlfn.IFNA(IF(INDEX(VLC!H:H,MATCH(301+ROW(A2)-1,VLC!V:V,0))=\"x\",_xlfn.IFNA(INDEX(VLC!H:H,MATCH(301+ROW(A2)-1,VLC!V:V,0)),\"\"),\"\"),\"\")","v":""},{"$f":"_xlfn.IFNA(IF(INDEX(VLC!H:H,MATCH(341+ROW(A2)-1,VLC!V:V,0))=\"x\",_xlfn.IFNA(INDEX(VLC!H:H,MATCH(341+ROW(A2)-1,VLC!V:V,0)),\"\"),\"\"),\"\")","v":""},{"$f":"_xlfn.IFNA(IF(INDEX(VLC!I:I,MATCH(301+ROW(A2)-1,VLC!V:V,0))<>\"\",_xlfn.IFNA(INDEX(VLC!I:I,MATCH(301+ROW(A2)-1,VLC!V:V,0)),\"\"),\"\"),\"\")","v":""},{"$f":"_xlfn.IFNA(IF(INDEX(VLC!I:I,MATCH(341+ROW(A2)-1,VLC!V:V,0))<>\"\",_xlfn.IFNA(INDEX(VLC!I:I,MATCH(341+ROW(A2)-1,VLC!V:V,0)),\"\"),\"\"),\"\")","v":""},{"$f":"_xlfn.IFNA(IF(INDEX(VLC!J:J,MATCH(301+ROW(A2)-1,VLC!V:V,0))=\"x\",_xlfn.IFNA(INDEX(VLC!J:J,MATCH(301+ROW(A2)-1,VLC!V:V,0)),\"\"),\"\"),\"\")","v":""},{"$f":"_xlfn.IFNA(IF(INDEX(VLC!J:J,MATCH(341+ROW(A2)-1,VLC!V:V,0))=\"x\",_xlfn.IFNA(INDEX(VLC!J:J,MATCH(341+ROW(A2)-1,VLC!V:V,0)),\"\"),\"\"),\"\")","v":""},{"$f":"3000+ROW(A59)-57","v":3002},{"$f":"L59+40","v":3042}]
["SK Teilnehmer 3",{"$f":"_xlfn.IFNA(INDEX(VLC!A:A,MATCH(303,VLC!V:V,0)),\"\")","v":""},{"$f":"_xlfn.IFNA(INDEX(VLC!A:A,MATCH(343,VLC!V:V,0)),\"\")","v":""},{"$f":"_xlfn.IFNA(INDEX(VLC!B:B,MATCH(301+ROW(A3)-1,VLC!V:V,0)),\"\")","v":""},{"$f":"_xlfn.IFNA(INDEX(VLC!C:C,MATCH(301+ROW(A3)-1,VLC!V:V,0)),\"\")","v":""},{"$f":"_xlfn.IFNA(IF(INDEX(VLC!H:H,MATCH(301+ROW(A3)-1,VLC!V:V,0))=\"x\",_xlfn.IFNA(INDEX(VLC!H:H,MATCH(301+ROW(A3)-1,VLC!V:V,0)),\"\"),\"\"),\"\")","v":""},{"$f":"_xlfn.IFNA(IF(INDEX(VLC!H:H,MATCH(341+ROW(A3)-1,VLC!V:V,0))=\"x\",_xlfn.IFNA(INDEX(VLC!H:H,MATCH(341+ROW(A3)-1,VLC!V:V,0)),\"\"),\"\"),\"\")","v":""},{"$f":"_xlfn.IFNA(IF(INDEX(VLC!I:I,MATCH(301+ROW(A3)-1,VLC!V:V,0))<>\"\",_xlfn.IFNA(INDEX(VLC!I:I,MATCH(301+ROW(A3)-1,VLC!V:V,0)),\"\"),\"\"),\"\")","v":""},{"$f":"_xlfn.IFNA(IF(INDEX(VLC!I:I,MATCH(341+ROW(A3)-1,VLC!V:V,0))<>\"\",_xlfn.IFNA(INDEX(VLC!I:I,MATCH(341+ROW(A3)-1,VLC!V:V,0)),\"\"),\"\"),\"\")","v":""},{"$f":"_xlfn.IFNA(IF(INDEX(VLC!J:J,MATCH(301+ROW(A3)-1,VLC!V:V,0))=\"x\",_xlfn.IFNA(INDEX(VLC!J:J,MATCH(301+ROW(A3)-1,VLC!V:V,0)),\"\"),\"\"),\"\")","v":""},{"$f":"_xlfn.IFNA(IF(INDEX(VLC!J:J,MATCH(341+ROW(A3)-1,VLC!V:V,0))=\"x\",_xlfn.IFNA(INDEX(VLC!J:J,MATCH(341+ROW(A3)-1,VLC!V:V,0)),\"\"),\"\"),\"\")","v":""},3003,3043]
["SK Teilnehmer 4",{"$f":"_xlfn.IFNA(INDEX(VLC!A:A,MATCH(304,VLC!V:V,0)),\"\")","v":""},{"$f":"_xlfn.IFNA(INDEX(VLC!A:A,MATCH(344,VLC!V:V,0)),\"\")","v":""},{"$f":"_xlfn.IFNA(INDEX(VLC!B:B,MATCH(301+ROW(A4)-1,VLC!V:V,0)),\"\")","v":""},{"$f":"_xlfn.IFNA(INDEX(VLC!C:C,MATCH(301+ROW(A4)-1,VLC!V:V,0)),\"\")","v":""},{"$f":"_xlfn.IFNA(IF(INDEX(VLC!H:H,MATCH(301+ROW(A4)-1,VLC!V:V,0))=\"x\",_xlfn.IFNA(INDEX(VLC!H:H,MATCH(301+ROW(A4)-1,VLC!V:V,0)),\"\"),\"\"),\"\")","v":""},{"$f":"_xlfn.IFNA(IF(INDEX(VLC!H:H,MATCH(341+ROW(A4)-1,VLC!V:V,0))=\"x\",_xlfn.IFNA(INDEX(VLC!H:H,MATCH(341+ROW(A4)-1,VLC!V:V,0)),\"\"),\"\"),\"\")","v":""},{"$f":"_xlfn.IFNA(IF(INDEX(VLC!I:I,MATCH(301+ROW(A4)-1,VLC!V:V,0))<>\"\",_xlfn.IFNA(INDEX(VLC!I:I,MATCH(301+ROW(A4)-1,VLC!V:V,0)),\"\"),\"\"),\"\")","v":""},{"$f":"_xlfn.IFNA(IF(INDEX(VLC!I:I,MATCH(341+ROW(A4)-1,VLC!V:V,0))<>\"\",_xlfn.IFNA(INDEX(VLC!I:I,MATCH(341+ROW(A4)-1,VLC!V:V,0)),\"\"),\"\"),\"\")","v":""},{"$f":"_xlfn.IFNA(IF(INDEX(VLC!J:J,MATCH(301+ROW(A4)-1,VLC!V:V,0))=\"x\",_xlfn.IFNA(INDEX(VLC!J:J,MATCH(301+ROW(A4)-1,VLC!V:V,0)),\"\"),\"\"),\"\")","v":""},{"$f":"_xlfn.IFNA(IF(INDEX(VLC!J:J,MATCH(341+ROW(A4)-1,VLC!V:V,0))=\"x\",_xlfn.IFNA(INDEX(VLC!J:J,MATCH(341+ROW(A4)-1,VLC!V:V,0)),\"\"),\"\"),\"\")","v":""},3004,3044]
["SK Teilnehmer 5",{"$f":"_xlfn.IFNA(INDEX(VLC!A:A,MATCH(305,VLC!V:V,0)),\"\")","v":""},{"$f":"_xlfn.IFNA(INDEX(VLC!A:A,MATCH(345,VLC!V:V,0)),\"\")","v":""},{"$f":"_xlfn.IFNA(INDEX(VLC!B:B,MATCH(301+ROW(A5)-1,VLC!V:V,0)),\"\")","v":""},{"$f":"_xlfn.IFNA(INDEX(VLC!C:C,MATCH(301+ROW(A5)-1,VLC!V:V,0)),\"\")","v":""},{"$f":"_xlfn.IFNA(IF(INDEX(VLC!H:H,MATCH(301+ROW(A5)-1,VLC!V:V,0))=\"x\",_xlfn.IFNA(INDEX(VLC!H:H,MATCH(301+ROW(A5)-1,VLC!V:V,0)),\"\"),\"\"),\"\")","v":""},{"$f":"_xlfn.IFNA(IF(INDEX(VLC!H:H,MATCH(341+ROW(A5)-1,VLC!V:V,0))=\"x\",_xlfn.IFNA(INDEX(VLC!H:H,MATCH(341+ROW(A5)-1,VLC!V:V,0)),\"\"),\"\"),\"\")","v":""},{"$f":"_xlfn.IFNA(IF(INDEX(VLC!I:I,MATCH(301+ROW(A5)-1,VLC!V:V,0))<>\"\",_xlfn.IFNA(INDEX(VLC!I:I,MATCH(301+ROW(A5)-1,VLC!V:V,0)),\"\"),\"\"),\"\")","v":""},{"$f":"_xlfn.IFNA(IF(INDEX(VLC!I:I,MATCH(341+ROW(A5)-1,VLC!V:V,0))<>\"\",_xlfn.IFNA(INDEX(VLC!I:I,MATCH(341+ROW(A5)-1,VLC!V:V,0)),\"\"),\"\"),\"\")","v":""},{"$f":"_xlfn.IFNA(IF(INDEX(VLC!J:J,MATCH(301+ROW(A5)-1,VLC!V:V,0))=\"x\",_xlfn.IFNA(INDEX(VLC!J:J,MATCH(301+ROW(A5)-1,VLC!V:V,0)),\"\"),\"\"),\"\")","v":""},{"$f":"_xlfn.IFNA(IF(INDEX(VLC!J:J,MATCH(341+ROW(A5)-1,VLC!V:V,0))=\"x\",_xlfn.IFNA(INDEX(VLC!J:J,MATCH(341+ROW(A5)-1,VLC!V:V,0)),\"\"),\"\"),\"\")","v":""},3005,3045]
["SK Teilnehmer 6",{"$f":"_xlfn.IFNA(INDEX(VLC!A:A,MATCH(306,VLC!V:V,0)),\"\")","v":""},{"$f":"_xlfn.IFNA(INDEX(VLC!A:A,MATCH(346,VLC!V:V,0)),\"\")","v":""},{"$f":"_xlfn.IFNA(INDEX(VLC!B:B,MATCH(301+ROW(A6)-1,VLC!V:V,0)),\"\")","v":""},{"$f":"_xlfn.IFNA(INDEX(VLC!C:C,MATCH(301+ROW(A6)-1,VLC!V:V,0)),\"\")","v":""},{"$f":"_xlfn.IFNA(IF(INDEX(VLC!H:H,MATCH(301+ROW(A6)-1,VLC!V:V,0))=\"x\",_xlfn.IFNA(INDEX(VLC!H:H,MATCH(301+ROW(A6)-1,VLC!V:V,0)),\"\"),\"\"),\"\")","v":""},{"$f":"_xlfn.IFNA(IF(INDEX(VLC!H:H,MATCH(341+ROW(A6)-1,VLC!V:V,0))=\"x\",_xlfn.IFNA(INDEX(VLC!H:H,MATCH(341+ROW(A6)-1,VLC!V:V,0)),\"\"),\"\"),\"\")","v":""},{"$f":"_xlfn.IFNA(IF(INDEX(VLC!I:I,MATCH(301+ROW(A6)-1,VLC!V:V,0))<>\"\",_xlfn.IFNA(INDEX(VLC!I:I,MATCH(301+ROW(A6)-1,VLC!V:V,0)),\"\"),\"\"),\"\")","v":""},{"$f":"_xlfn.IFNA(IF(INDEX(VLC!I:I,MATCH(341+ROW(A6)-1,VLC!V:V,0))<>\"\",_xlfn.IFNA(INDEX(VLC!I:I,MATCH(341+ROW(A6)-1,VLC!V:V,0)),\"\"),\"\"),\"\")","v":""},{"$f":"_xlfn.IFNA(IF(INDEX(VLC!J:J,MATCH(301+ROW(A6)-1,VLC!V:V,0))=\"x\",_xlfn.IFNA(INDEX(VLC!J:J,MATCH(301+ROW(A6)-1,VLC!V:V,0)),\"\"),\"\"),\"\")","v":""},{"$f":"_xlfn.IFNA(IF(INDEX(VLC!J:J,MATCH(341+ROW(A6)-1,VLC!V:V,0))=\"x\",_xlfn.IFNA(INDEX(VLC!J:J,MATCH(341+ROW(A6)-1,VLC!V:V,0)),\"\"),\"\"),\"\")","v":""},3006,3046]
["SK Teilnehmer 7",{"$f":"_xlfn.IFNA(INDEX(VLC!A:A,MATCH(307,VLC!V:V,0)),\"\")","v":""},{"$f":"_xlfn.IFNA(INDEX(VLC!A:A,MATCH(347,VLC!V:V,0)),\"\")","v":""},{"$f":"_xlfn.IFNA(INDEX(VLC!B:B,MATCH(301+ROW(A7)-1,VLC!V:V,0)),\"\")","v":""},{"$f":"_xlfn.IFNA(INDEX(VLC!C:C,MATCH(301+ROW(A7)-1,VLC!V:V,0)),\"\")","v":""},{"$f":"_xlfn.IFNA(IF(INDEX(VLC!H:H,MATCH(301+ROW(A7)-1,VLC!V:V,0))=\"x\",_xlfn.IFNA(INDEX(VLC!H:H,MATCH(301+ROW(A7)-1,VLC!V:V,0)),\"\"),\"\"),\"\")","v":""},{"$f":"_xlfn.IFNA(IF(INDEX(VLC!H:H,MATCH(341+ROW(A7)-1,VLC!V:V,0))=\"x\",_xlfn.IFNA(INDEX(VLC!H:H,MATCH(341+ROW(A7)-1,VLC!V:V,0)),\"\"),\"\"),\"\")","v":""},{"$f":"_xlfn.IFNA(IF(INDEX(VLC!I:I,MATCH(301+ROW(A7)-1,VLC!V:V,0))<>\"\",_xlfn.IFNA(INDEX(VLC!I:I,MATCH(301+ROW(A7)-1,VLC!V:V,0)),\"\"),\"\"),\"\")","v":""},{"$f":"_xlfn.IFNA(IF(INDEX(VLC!I:I,MATCH(341+ROW(A7)-1,VLC!V:V,0))<>\"\",_xlfn.IFNA(INDEX(VLC!I:I,MATCH(341+ROW(A7)-1,VLC!V:V,0)),\"\"),\"\"),\"\")","v":""},{"$f":"_xlfn.IFNA(IF(INDEX(VLC!J:J,MATCH(301+ROW(A7)-1,VLC!V:V,0))=\"x\",_xlfn.IFNA(INDEX(VLC!J:J,MATCH(301+ROW(A7)-1,VLC!V:V,0)),\"\"),\"\"),\"\")","v":""},{"$f":"_xlfn.IFNA(IF(INDEX(VLC!J:J,MATCH(341+ROW(A7)-1,VLC!V:V,0))=\"x\",_xlfn.IFNA(INDEX(VLC!J:J,MATCH(341+ROW(A7)-1,VLC!V:V,0)),\"\"),\"\"),\"\")","v":""},3007,3047]
["SK Teilnehmer 8",{"$f":"_xlfn.IFNA(INDEX(VLC!A:A,MATCH(308,VLC!V:V,0)),\"\")","v":""},{"$f":"_xlfn.IFNA(INDEX(VLC!A:A,MATCH(348,VLC!V:V,0)),\"\")","v":""},{"$f":"_xlfn.IFNA(INDEX(VLC!B:B,MATCH(301+ROW(A8)-1,VLC!V:V,0)),\"\")","v":""},{"$f":"_xlfn.IFNA(INDEX(VLC!C:C,MATCH(301+ROW(A8)-1,VLC!V:V,0)),\"\")","v":""},{"$f":"_xlfn.IFNA(IF(INDEX(VLC!H:H,MATCH(301+ROW(A8)-1,VLC!V:V,0))=\"x\",_xlfn.IFNA(INDEX(VLC!H:H,MATCH(301+ROW(A8)-1,VLC!V:V,0)),\"\"),\"\"),\"\")","v":""},{"$f":"_xlfn.IFNA(IF(INDEX(VLC!H:H,MATCH(341+ROW(A8)-1,VLC!V:V,0))=\"x\",_xlfn.IFNA(INDEX(VLC!H:H,MATCH(341+ROW(A8)-1,VLC!V:V,0)),\"\"),\"\"),\"\")","v":""},{"$f":"_xlfn.IFNA(IF(INDEX(VLC!I:I,MATCH(301+ROW(A8)-1,VLC!V:V,0))<>\"\",_xlfn.IFNA(INDEX(VLC!I:I,MATCH(301+ROW(A8)-1,VLC!V:V,0)),\"\"),\"\"),\"\")","v":""},{"$f":"_xlfn.IFNA(IF(INDEX(VLC!I:I,MATCH(341+ROW(A8)-1,VLC!V:V,0))<>\"\",_xlfn.IFNA(INDEX(VLC!I:I,MATCH(341+ROW(A8)-1,VLC!V:V,0)),\"\"),\"\"),\"\")","v":""},{"$f":"_xlfn.IFNA(IF(INDEX(VLC!J:J,MATCH(301+ROW(A8)-1,VLC!V:V,0))=\"x\",_xlfn.IFNA(INDEX(VLC!J:J,MATCH(301+ROW(A8)-1,VLC!V:V,0)),\"\"),\"\"),\"\")","v":""},{"$f":"_xlfn.IFNA(IF(INDEX(VLC!J:J,MATCH(341+ROW(A8)-1,VLC!V:V,0))=\"x\",_xlfn.IFNA(INDEX(VLC!J:J,MATCH(341+ROW(A8)-1,VLC!V:V,0)),\"\"),\"\"),\"\")","v":""},3008,3048]
["SK Teilnehmer 9",{"$f":"_xlfn.IFNA(INDEX(VLC!A:A,MATCH(309,VLC!V:V,0)),\"\")","v":""},{"$f":"_xlfn.IFNA(INDEX(VLC!A:A,MATCH(349,VLC!V:V,0)),\"\")","v":""},{"$f":"_xlfn.IFNA(INDEX(VLC!B:B,MATCH(301+ROW(A9)-1,VLC!V:V,0)),\"\")","v":""},{"$f":"_xlfn.IFNA(INDEX(VLC!C:C,MATCH(301+ROW(A9)-1,VLC!V:V,0)),\"\")","v":""},{"$f":"_xlfn.IFNA(IF(INDEX(VLC!H:H,MATCH(301+ROW(A9)-1,VLC!V:V,0))=\"x\",_xlfn.IFNA(INDEX(VLC!H:H,MATCH(301+ROW(A9)-1,VLC!V:V,0)),\"\"),\"\"),\"\")","v":""},{"$f":"_xlfn.IFNA(IF(INDEX(VLC!H:H,MATCH(341+ROW(A9)-1,VLC!V:V,0))=\"x\",_xlfn.IFNA(INDEX(VLC!H:H,MATCH(341+ROW(A9)-1,VLC!V:V,0)),\"\"),\"\"),\"\")","v":""},{"$f":"_xlfn.IFNA(IF(INDEX(VLC!I:I,MATCH(301+ROW(A9)-1,VLC!V:V,0))<>\"\",_xlfn.IFNA(INDEX(VLC!I:I,MATCH(301+ROW(A9)-1,VLC!V:V,0)),\"\"),\"\"),\"\")","v":""},{"$f":"_xlfn.IFNA(IF(INDEX(VLC!I:I,MATCH(341+ROW(A9)-1,VLC!V:V,0))<>\"\",_xlfn.IFNA(INDEX(VLC!I:I,MATCH(341+ROW(A9)-1,VLC!V:V,0)),\"\"),\"\"),\"\")","v":""},{"$f":"_xlfn.IFNA(IF(INDEX(VLC!J:J,MATCH(301+ROW(A9)-1,VLC!V:V,0))=\"x\",_xlfn.IFNA(INDEX(VLC!J:J,MATCH(301+ROW(A9)-1,VLC!V:V,0)),\"\"),\"\"),\"\")","v":""},{"$f":"_xlfn.IFNA(IF(INDEX(VLC!J:J,MATCH(341+ROW(A9)-1,VLC!V:V,0))=\"x\",_xlfn.IFNA(INDEX(VLC!J:J,MATCH(341+ROW(A9)-1,VLC!V:V,0)),\"\"),\"\"),\"\")","v":""},3009,3049]
["SK Teilnehmer 10",{"$f":"_xlfn.IFNA(INDEX(VLC!A:A,MATCH(310,VLC!V:V,0)),\"\")","v":""},{"$f":"_xlfn.IFNA(INDEX(VLC!A:A,MATCH(350,VLC!V:V,0)),\"\")","v":""},{"$f":"_xlfn.IFNA(INDEX(VLC!B:B,MATCH(301+ROW(A10)-1,VLC!V:V,0)),\"\")","v":""},{"$f":"_xlfn.IFNA(INDEX(VLC!C:C,MATCH(301+ROW(A10)-1,VLC!V:V,0)),\"\")","v":""},{"$f":"_xlfn.IFNA(IF(INDEX(VLC!H:H,MATCH(301+ROW(A10)-1,VLC!V:V,0))=\"x\",_xlfn.IFNA(INDEX(VLC!H:H,MATCH(301+ROW(A10)-1,VLC!V:V,0)),\"\"),\"\"),\"\")","v":""},{"$f":"_xlfn.IFNA(IF(INDEX(VLC!H:H,MATCH(341+ROW(A10)-1,VLC!V:V,0))=\"x\",_xlfn.IFNA(INDEX(VLC!H:H,MATCH(341+ROW(A10)-1,VLC!V:V,0)),\"\"),\"\"),\"\")","v":""},{"$f":"_xlfn.IFNA(IF(INDEX(VLC!I:I,MATCH(301+ROW(A10)-1,VLC!V:V,0))<>\"\",_xlfn.IFNA(INDEX(VLC!I:I,MATCH(301+ROW(A10)-1,VLC!V:V,0)),\"\"),\"\"),\"\")","v":""},{"$f":"_xlfn.IFNA(IF(INDEX(VLC!I:I,MATCH(341+ROW(A10)-1,VLC!V:V,0))<>\"\",_xlfn.IFNA(INDEX(VLC!I:I,MATCH(341+ROW(A10)-1,VLC!V:V,0)),\"\"),\"\"),\"\")","v":""},{"$f":"_xlfn.IFNA(IF(INDEX(VLC!J:J,MATCH(301+ROW(A10)-1,VLC!V:V,0))=\"x\",_xlfn.IFNA(INDEX(VLC!J:J,MATCH(301+ROW(A10)-1,VLC!V:V,0)),\"\"),\"\"),\"\")","v":""},{"$f":"_xlfn.IFNA(IF(INDEX(VLC!J:J,MATCH(341+ROW(A10)-1,VLC!V:V,0))=\"x\",_xlfn.IFNA(INDEX(VLC!J:J,MATCH(341+ROW(A10)-1,VLC!V:V,0)),\"\"),\"\"),\"\")","v":""},3010,3050]
["SK Teilnehmer 11",{"$f":"_xlfn.IFNA(INDEX(VLC!A:A,MATCH(311,VLC!V:V,0)),\"\")","v":""},{"$f":"_xlfn.IFNA(INDEX(VLC!A:A,MATCH(351,VLC!V:V,0)),\"\")","v":""},{"$f":"_xlfn.IFNA(INDEX(VLC!B:B,MATCH(301+ROW(A11)-1,VLC!V:V,0)),\"\")","v":""},{"$f":"_xlfn.IFNA(INDEX(VLC!C:C,MATCH(301+ROW(A11)-1,VLC!V:V,0)),\"\")","v":""},{"$f":"_xlfn.IFNA(IF(INDEX(VLC!H:H,MATCH(301+ROW(A11)-1,VLC!V:V,0))=\"x\",_xlfn.IFNA(INDEX(VLC!H:H,MATCH(301+ROW(A11)-1,VLC!V:V,0)),\"\"),\"\"),\"\")","v":""},{"$f":"_xlfn.IFNA(IF(INDEX(VLC!H:H,MATCH(341+ROW(A11)-1,VLC!V:V,0))=\"x\",_xlfn.IFNA(INDEX(VLC!H:H,MATCH(341+ROW(A11)-1,VLC!V:V,0)),\"\"),\"\"),\"\")","v":""},{"$f":"_xlfn.IFNA(IF(INDEX(VLC!I:I,MATCH(301+ROW(A11)-1,VLC!V:V,0))<>\"\",_xlfn.IFNA(INDEX(VLC!I:I,MATCH(301+ROW(A11)-1,VLC!V:V,0)),\"\"),\"\"),\"\")","v":""},{"$f":"_xlfn.IFNA(IF(INDEX(VLC!I:I,MATCH(341+ROW(A11)-1,VLC!V:V,0))<>\"\",_xlfn.IFNA(INDEX(VLC!I:I,MATCH(341+ROW(A11)-1,VLC!V:V,0)),\"\"),\"\"),\"\")","v":""},{"$f":"_xlfn.IFNA(IF(INDEX(VLC!J:J,MATCH(301+ROW(A11)-1,VLC!V:V,0))=\"x\",_xlfn.IFNA(INDEX(VLC!J:J,MATCH(301+ROW(A11)-1,VLC!V:V,0)),\"\"),\"\"),\"\")","v":""},{"$f":"_xlfn.IFNA(IF(INDEX(VLC!J:J,MATCH(341+ROW(A11)-1,VLC!V:V,0))=\"x\",_xlfn.IFNA(INDEX(VLC!J:J,MATCH(341+ROW(A11)-1,VLC!V:V,0)),\"\"),\"\"),\"\")","v":""},3011,3051]
["SK Teilnehmer 12",{"$f":"_xlfn.IFNA(INDEX(VLC!A:A,MATCH(312,VLC!V:V,0)),\"\")","v":""},{"$f":"_xlfn.IFNA(INDEX(VLC!A:A,MATCH(352,VLC!V:V,0)),\"\")","v":""},{"$f":"_xlfn.IFNA(INDEX(VLC!B:B,MATCH(301+ROW(A12)-1,VLC!V:V,0)),\"\")","v":""},{"$f":"_xlfn.IFNA(INDEX(VLC!C:C,MATCH(301+ROW(A12)-1,VLC!V:V,0)),\"\")","v":""},{"$f":"_xlfn.IFNA(IF(INDEX(VLC!H:H,MATCH(301+ROW(A12)-1,VLC!V:V,0))=\"x\",_xlfn.IFNA(INDEX(VLC!H:H,MATCH(301+ROW(A12)-1,VLC!V:V,0)),\"\"),\"\"),\"\")","v":""},{"$f":"_xlfn.IFNA(IF(INDEX(VLC!H:H,MATCH(341+ROW(A12)-1,VLC!V:V,0))=\"x\",_xlfn.IFNA(INDEX(VLC!H:H,MATCH(341+ROW(A12)-1,VLC!V:V,0)),\"\"),\"\"),\"\")","v":""},{"$f":"_xlfn.IFNA(IF(INDEX(VLC!I:I,MATCH(301+ROW(A12)-1,VLC!V:V,0))<>\"\",_xlfn.IFNA(INDEX(VLC!I:I,MATCH(301+ROW(A12)-1,VLC!V:V,0)),\"\"),\"\"),\"\")","v":""},{"$f":"_xlfn.IFNA(IF(INDEX(VLC!I:I,MATCH(341+ROW(A12)-1,VLC!V:V,0))<>\"\",_xlfn.IFNA(INDEX(VLC!I:I,MATCH(341+ROW(A12)-1,VLC!V:V,0)),\"\"),\"\"),\"\")","v":""},{"$f":"_xlfn.IFNA(IF(INDEX(VLC!J:J,MATCH(301+ROW(A12)-1,VLC!V:V,0))=\"x\",_xlfn.IFNA(INDEX(VLC!J:J,MATCH(301+ROW(A12)-1,VLC!V:V,0)),\"\"),\"\"),\"\")","v":""},{"$f":"_xlfn.IFNA(IF(INDEX(VLC!J:J,MATCH(341+ROW(A12)-1,VLC!V:V,0))=\"x\",_xlfn.IFNA(INDEX(VLC!J:J,MATCH(341+ROW(A12)-1,VLC!V:V,0)),\"\"),\"\"),\"\")","v":""},3012,3052]
["SK Teilnehmer 13",{"$f":"_xlfn.IFNA(INDEX(VLC!A:A,MATCH(313,VLC!V:V,0)),\"\")","v":""},{"$f":"_xlfn.IFNA(INDEX(VLC!A:A,MATCH(353,VLC!V:V,0)),\"\")","v":""},{"$f":"_xlfn.IFNA(INDEX(VLC!B:B,MATCH(301+ROW(A13)-1,VLC!V:V,0)),\"\")","v":""},{"$f":"_xlfn.IFNA(INDEX(VLC!C:C,MATCH(301+ROW(A13)-1,VLC!V:V,0)),\"\")","v":""},{"$f":"_xlfn.IFNA(IF(INDEX(VLC!H:H,MATCH(301+ROW(A13)-1,VLC!V:V,0))=\"x\",_xlfn.IFNA(INDEX(VLC!H:H,MATCH(301+ROW(A13)-1,VLC!V:V,0)),\"\"),\"\"),\"\")","v":""},{"$f":"_xlfn.IFNA(IF(INDEX(VLC!H:H,MATCH(341+ROW(A13)-1,VLC!V:V,0))=\"x\",_xlfn.IFNA(INDEX(VLC!H:H,MATCH(341+ROW(A13)-1,VLC!V:V,0)),\"\"),\"\"),\"\")","v":""},{"$f":"_xlfn.IFNA(IF(INDEX(VLC!I:I,MATCH(301+ROW(A13)-1,VLC!V:V,0))<>\"\",_xlfn.IFNA(INDEX(VLC!I:I,MATCH(301+ROW(A13)-1,VLC!V:V,0)),\"\"),\"\"),\"\")","v":""},{"$f":"_xlfn.IFNA(IF(INDEX(VLC!I:I,MATCH(341+ROW(A13)-1,VLC!V:V,0))<>\"\",_xlfn.IFNA(INDEX(VLC!I:I,MATCH(341+ROW(A13)-1,VLC!V:V,0)),\"\"),\"\"),\"\")","v":""},{"$f":"_xlfn.IFNA(IF(INDEX(VLC!J:J,MATCH(301+ROW(A13)-1,VLC!V:V,0))=\"x\",_xlfn.IFNA(INDEX(VLC!J:J,MATCH(301+ROW(A13)-1,VLC!V:V,0)),\"\"),\"\"),\"\")","v":""},{"$f":"_xlfn.IFNA(IF(INDEX(VLC!J:J,MATCH(341+ROW(A13)-1,VLC!V:V,0))=\"x\",_xlfn.IFNA(INDEX(VLC!J:J,MATCH(341+ROW(A13)-1,VLC!V:V,0)),\"\"),\"\"),\"\")","v":""},3013,3053]
["SK Teilnehmer 14",{"$f":"_xlfn.IFNA(INDEX(VLC!A:A,MATCH(314,VLC!V:V,0)),\"\")","v":""},{"$f":"_xlfn.IFNA(INDEX(VLC!A:A,MATCH(354,VLC!V:V,0)),\"\")","v":""},{"$f":"_xlfn.IFNA(INDEX(VLC!B:B,MATCH(301+ROW(A14)-1,VLC!V:V,0)),\"\")","v":""},{"$f":"_xlfn.IFNA(INDEX(VLC!C:C,MATCH(301+ROW(A14)-1,VLC!V:V,0)),\"\")","v":""},{"$f":"_xlfn.IFNA(IF(INDEX(VLC!H:H,MATCH(301+ROW(A14)-1,VLC!V:V,0))=\"x\",_xlfn.IFNA(INDEX(VLC!H:H,MATCH(301+ROW(A14)-1,VLC!V:V,0)),\"\"),\"\"),\"\")","v":""},{"$f":"_xlfn.IFNA(IF(INDEX(VLC!H:H,MATCH(341+ROW(A14)-1,VLC!V:V,0))=\"x\",_xlfn.IFNA(INDEX(VLC!H:H,MATCH(341+ROW(A14)-1,VLC!V:V,0)),\"\"),\"\"),\"\")","v":""},{"$f":"_xlfn.IFNA(IF(INDEX(VLC!I:I,MATCH(301+ROW(A14)-1,VLC!V:V,0))<>\"\",_xlfn.IFNA(INDEX(VLC!I:I,MATCH(301+ROW(A14)-1,VLC!V:V,0)),\"\"),\"\"),\"\")","v":""},{"$f":"_xlfn.IFNA(IF(INDEX(VLC!I:I,MATCH(341+ROW(A14)-1,VLC!V:V,0))<>\"\",_xlfn.IFNA(INDEX(VLC!I:I,MATCH(341+ROW(A14)-1,VLC!V:V,0)),\"\"),\"\"),\"\")","v":""},{"$f":"_xlfn.IFNA(IF(INDEX(VLC!J:J,MATCH(301+ROW(A14)-1,VLC!V:V,0))=\"x\",_xlfn.IFNA(INDEX(VLC!J:J,MATCH(301+ROW(A14)-1,VLC!V:V,0)),\"\"),\"\"),\"\")","v":""},{"$f":"_xlfn.IFNA(IF(INDEX(VLC!J:J,MATCH(341+ROW(A14)-1,VLC!V:V,0))=\"x\",_xlfn.IFNA(INDEX(VLC!J:J,MATCH(341+ROW(A14)-1,VLC!V:V,0)),\"\"),\"\"),\"\")","v":""},3014,3054]
["SK Teilnehmer 15",{"$f":"_xlfn.IFNA(INDEX(VLC!A:A,MATCH(315,VLC!V:V,0)),\"\")","v":""},{"$f":"_xlfn.IFNA(INDEX(VLC!A:A,MATCH(355,VLC!V:V,0)),\"\")","v":""},{"$f":"_xlfn.IFNA(INDEX(VLC!B:B,MATCH(301+ROW(A15)-1,VLC!V:V,0)),\"\")","v":""},{"$f":"_xlfn.IFNA(INDEX(VLC!C:C,MATCH(301+ROW(A15)-1,VLC!V:V,0)),\"\")","v":""},{"$f":"_xlfn.IFNA(IF(INDEX(VLC!H:H,MATCH(301+ROW(A15)-1,VLC!V:V,0))=\"x\",_xlfn.IFNA(INDEX(VLC!H:H,MATCH(301+ROW(A15)-1,VLC!V:V,0)),\"\"),\"\"),\"\")","v":""},{"$f":"_xlfn.IFNA(IF(INDEX(VLC!H:H,MATCH(341+ROW(A15)-1,VLC!V:V,0))=\"x\",_xlfn.IFNA(INDEX(VLC!H:H,MATCH(341+ROW(A15)-1,VLC!V:V,0)),\"\"),\"\"),\"\")","v":""},{"$f":"_xlfn.IFNA(IF(INDEX(VLC!I:I,MATCH(301+ROW(A15)-1,VLC!V:V,0))<>\"\",_xlfn.IFNA(INDEX(VLC!I:I,MATCH(301+ROW(A15)-1,VLC!V:V,0)),\"\"),\"\"),\"\")","v":""},{"$f":"_xlfn.IFNA(IF(INDEX(VLC!I:I,MATCH(341+ROW(A15)-1,VLC!V:V,0))<>\"\",_xlfn.IFNA(INDEX(VLC!I:I,MATCH(341+ROW(A15)-1,VLC!V:V,0)),\"\"),\"\"),\"\")","v":""},{"$f":"_xlfn.IFNA(IF(INDEX(VLC!J:J,MATCH(301+ROW(A15)-1,VLC!V:V,0))=\"x\",_xlfn.IFNA(INDEX(VLC!J:J,MATCH(301+ROW(A15)-1,VLC!V:V,0)),\"\"),\"\"),\"\")","v":""},{"$f":"_xlfn.IFNA(IF(INDEX(VLC!J:J,MATCH(341+ROW(A15)-1,VLC!V:V,0))=\"x\",_xlfn.IFNA(INDEX(VLC!J:J,MATCH(341+ROW(A15)-1,VLC!V:V,0)),\"\"),\"\"),\"\")","v":""},3015,3055]
["SK Teilnehmer 16",{"$f":"_xlfn.IFNA(INDEX(VLC!A:A,MATCH(316,VLC!V:V,0)),\"\")","v":""},{"$f":"_xlfn.IFNA(INDEX(VLC!A:A,MATCH(356,VLC!V:V,0)),\"\")","v":""},{"$f":"_xlfn.IFNA(INDEX(VLC!B:B,MATCH(301+ROW(A16)-1,VLC!V:V,0)),\"\")","v":""},{"$f":"_xlfn.IFNA(INDEX(VLC!C:C,MATCH(301+ROW(A16)-1,VLC!V:V,0)),\"\")","v":""},{"$f":"_xlfn.IFNA(IF(INDEX(VLC!H:H,MATCH(301+ROW(A16)-1,VLC!V:V,0))=\"x\",_xlfn.IFNA(INDEX(VLC!H:H,MATCH(301+ROW(A16)-1,VLC!V:V,0)),\"\"),\"\"),\"\")","v":""},{"$f":"_xlfn.IFNA(IF(INDEX(VLC!H:H,MATCH(341+ROW(A16)-1,VLC!V:V,0))=\"x\",_xlfn.IFNA(INDEX(VLC!H:H,MATCH(341+ROW(A16)-1,VLC!V:V,0)),\"\"),\"\"),\"\")","v":""},{"$f":"_xlfn.IFNA(IF(INDEX(VLC!I:I,MATCH(301+ROW(A16)-1,VLC!V:V,0))<>\"\",_xlfn.IFNA(INDEX(VLC!I:I,MATCH(301+ROW(A16)-1,VLC!V:V,0)),\"\"),\"\"),\"\")","v":""},{"$f":"_xlfn.IFNA(IF(INDEX(VLC!I:I,MATCH(341+ROW(A16)-1,VLC!V:V,0))<>\"\",_xlfn.IFNA(INDEX(VLC!I:I,MATCH(341+ROW(A16)-1,VLC!V:V,0)),\"\"),\"\"),\"\")","v":""},{"$f":"_xlfn.IFNA(IF(INDEX(VLC!J:J,MATCH(301+ROW(A16)-1,VLC!V:V,0))=\"x\",_xlfn.IFNA(INDEX(VLC!J:J,MATCH(301+ROW(A16)-1,VLC!V:V,0)),\"\"),\"\"),\"\")","v":""},{"$f":"_xlfn.IFNA(IF(INDEX(VLC!J:J,MATCH(341+ROW(A16)-1,VLC!V:V,0))=\"x\",_xlfn.IFNA(INDEX(VLC!J:J,MATCH(341+ROW(A16)-1,VLC!V:V,0)),\"\"),\"\"),\"\")","v":""},3016,3056]
["SK Teilnehmer 17",{"$f":"_xlfn.IFNA(INDEX(VLC!A:A,MATCH(317,VLC!V:V,0)),\"\")","v":""},{"$f":"_xlfn.IFNA(INDEX(VLC!A:A,MATCH(357,VLC!V:V,0)),\"\")","v":""},{"$f":"_xlfn.IFNA(INDEX(VLC!B:B,MATCH(301+ROW(A17)-1,VLC!V:V,0)),\"\")","v":""},{"$f":"_xlfn.IFNA(INDEX(VLC!C:C,MATCH(301+ROW(A17)-1,VLC!V:V,0)),\"\")","v":""},{"$f":"_xlfn.IFNA(IF(INDEX(VLC!H:H,MATCH(301+ROW(A17)-1,VLC!V:V,0))=\"x\",_xlfn.IFNA(INDEX(VLC!H:H,MATCH(301+ROW(A17)-1,VLC!V:V,0)),\"\"),\"\"),\"\")","v":""},{"$f":"_xlfn.IFNA(IF(INDEX(VLC!H:H,MATCH(341+ROW(A17)-1,VLC!V:V,0))=\"x\",_xlfn.IFNA(INDEX(VLC!H:H,MATCH(341+ROW(A17)-1,VLC!V:V,0)),\"\"),\"\"),\"\")","v":""},{"$f":"_xlfn.IFNA(IF(INDEX(VLC!I:I,MATCH(301+ROW(A17)-1,VLC!V:V,0))<>\"\",_xlfn.IFNA(INDEX(VLC!I:I,MATCH(301+ROW(A17)-1,VLC!V:V,0)),\"\"),\"\"),\"\")","v":""},{"$f":"_xlfn.IFNA(IF(INDEX(VLC!I:I,MATCH(341+ROW(A17)-1,VLC!V:V,0))<>\"\",_xlfn.IFNA(INDEX(VLC!I:I,MATCH(341+ROW(A17)-1,VLC!V:V,0)),\"\"),\"\"),\"\")","v":""},{"$f":"_xlfn.IFNA(IF(INDEX(VLC!J:J,MATCH(301+ROW(A17)-1,VLC!V:V,0))=\"x\",_xlfn.IFNA(INDEX(VLC!J:J,MATCH(301+ROW(A17)-1,VLC!V:V,0)),\"\"),\"\"),\"\")","v":""},{"$f":"_xlfn.IFNA(IF(INDEX(VLC!J:J,MATCH(341+ROW(A17)-1,VLC!V:V,0))=\"x\",_xlfn.IFNA(INDEX(VLC!J:J,MATCH(341+ROW(A17)-1,VLC!V:V,0)),\"\"),\"\"),\"\")","v":""},3017,3057]
["SK Teilnehmer 18",{"$f":"_xlfn.IFNA(INDEX(VLC!A:A,MATCH(318,VLC!V:V,0)),\"\")","v":""},{"$f":"_xlfn.IFNA(INDEX(VLC!A:A,MATCH(358,VLC!V:V,0)),\"\")","v":""},{"$f":"_xlfn.IFNA(INDEX(VLC!B:B,MATCH(301+ROW(A18)-1,VLC!V:V,0)),\"\")","v":""},{"$f":"_xlfn.IFNA(INDEX(VLC!C:C,MATCH(301+ROW(A18)-1,VLC!V:V,0)),\"\")","v":""},{"$f":"_xlfn.IFNA(IF(INDEX(VLC!H:H,MATCH(301+ROW(A18)-1,VLC!V:V,0))=\"x\",_xlfn.IFNA(INDEX(VLC!H:H,MATCH(301+ROW(A18)-1,VLC!V:V,0)),\"\"),\"\"),\"\")","v":""},{"$f":"_xlfn.IFNA(IF(INDEX(VLC!H:H,MATCH(341+ROW(A18)-1,VLC!V:V,0))=\"x\",_xlfn.IFNA(INDEX(VLC!H:H,MATCH(341+ROW(A18)-1,VLC!V:V,0)),\"\"),\"\"),\"\")","v":""},{"$f":"_xlfn.IFNA(IF(INDEX(VLC!I:I,MATCH(301+ROW(A18)-1,VLC!V:V,0))<>\"\",_xlfn.IFNA(INDEX(VLC!I:I,MATCH(301+ROW(A18)-1,VLC!V:V,0)),\"\"),\"\"),\"\")","v":""},{"$f":"_xlfn.IFNA(IF(INDEX(VLC!I:I,MATCH(341+ROW(A18)-1,VLC!V:V,0))<>\"\",_xlfn.IFNA(INDEX(VLC!I:I,MATCH(341+ROW(A18)-1,VLC!V:V,0)),\"\"),\"\"),\"\")","v":""},{"$f":"_xlfn.IFNA(IF(INDEX(VLC!J:J,MATCH(301+ROW(A18)-1,VLC!V:V,0))=\"x\",_xlfn.IFNA(INDEX(VLC!J:J,MATCH(301+ROW(A18)-1,VLC!V:V,0)),\"\"),\"\"),\"\")","v":""},{"$f":"_xlfn.IFNA(IF(INDEX(VLC!J:J,MATCH(341+ROW(A18)-1,VLC!V:V,0))=\"x\",_xlfn.IFNA(INDEX(VLC!J:J,MATCH(341+ROW(A18)-1,VLC!V:V,0)),\"\"),\"\"),\"\")","v":""},3018,3058]
["SK Teilnehmer 19",{"$f":"_xlfn.IFNA(INDEX(VLC!A:A,MATCH(319,VLC!V:V,0)),\"\")","v":""},{"$f":"_xlfn.IFNA(INDEX(VLC!A:A,MATCH(359,VLC!V:V,0)),\"\")","v":""},{"$f":"_xlfn.IFNA(INDEX(VLC!B:B,MATCH(301+ROW(A19)-1,VLC!V:V,0)),\"\")","v":""},{"$f":"_xlfn.IFNA(INDEX(VLC!C:C,MATCH(301+ROW(A19)-1,VLC!V:V,0)),\"\")","v":""},{"$f":"_xlfn.IFNA(IF(INDEX(VLC!H:H,MATCH(301+ROW(A19)-1,VLC!V:V,0))=\"x\",_xlfn.IFNA(INDEX(VLC!H:H,MATCH(301+ROW(A19)-1,VLC!V:V,0)),\"\"),\"\"),\"\")","v":""},{"$f":"_xlfn.IFNA(IF(INDEX(VLC!H:H,MATCH(341+ROW(A19)-1,VLC!V:V,0))=\"x\",_xlfn.IFNA(INDEX(VLC!H:H,MATCH(341+ROW(A19)-1,VLC!V:V,0)),\"\"),\"\"),\"\")","v":""},{"$f":"_xlfn.IFNA(IF(INDEX(VLC!I:I,MATCH(301+ROW(A19)-1,VLC!V:V,0))<>\"\",_xlfn.IFNA(INDEX(VLC!I:I,MATCH(301+ROW(A19)-1,VLC!V:V,0)),\"\"),\"\"),\"\")","v":""},{"$f":"_xlfn.IFNA(IF(INDEX(VLC!I:I,MATCH(341+ROW(A19)-1,VLC!V:V,0))<>\"\",_xlfn.IFNA(INDEX(VLC!I:I,MATCH(341+ROW(A19)-1,VLC!V:V,0)),\"\"),\"\"),\"\")","v":""},{"$f":"_xlfn.IFNA(IF(INDEX(VLC!J:J,MATCH(301+ROW(A19)-1,VLC!V:V,0))=\"x\",_xlfn.IFNA(INDEX(VLC!J:J,MATCH(301+ROW(A19)-1,VLC!V:V,0)),\"\"),\"\"),\"\")","v":""},{"$f":"_xlfn.IFNA(IF(INDEX(VLC!J:J,MATCH(341+ROW(A19)-1,VLC!V:V,0))=\"x\",_xlfn.IFNA(INDEX(VLC!J:J,MATCH(341+ROW(A19)-1,VLC!V:V,0)),\"\"),\"\"),\"\")","v":""},3019,3059]
["SK Teilnehmer 20",{"$f":"_xlfn.IFNA(INDEX(VLC!A:A,MATCH(320,VLC!V:V,0)),\"\")","v":""},{"$f":"_xlfn.IFNA(INDEX(VLC!A:A,MATCH(360,VLC!V:V,0)),\"\")","v":""},{"$f":"_xlfn.IFNA(INDEX(VLC!B:B,MATCH(301+ROW(A20)-1,VLC!V:V,0)),\"\")","v":""},{"$f":"_xlfn.IFNA(INDEX(VLC!C:C,MATCH(301+ROW(A20)-1,VLC!V:V,0)),\"\")","v":""},{"$f":"_xlfn.IFNA(IF(INDEX(VLC!H:H,MATCH(301+ROW(A20)-1,VLC!V:V,0))=\"x\",_xlfn.IFNA(INDEX(VLC!H:H,MATCH(301+ROW(A20)-1,VLC!V:V,0)),\"\"),\"\"),\"\")","v":""},{"$f":"_xlfn.IFNA(IF(INDEX(VLC!H:H,MATCH(341+ROW(A20)-1,VLC!V:V,0))=\"x\",_xlfn.IFNA(INDEX(VLC!H:H,MATCH(341+ROW(A20)-1,VLC!V:V,0)),\"\"),\"\"),\"\")","v":""},{"$f":"_xlfn.IFNA(IF(INDEX(VLC!I:I,MATCH(301+ROW(A20)-1,VLC!V:V,0))<>\"\",_xlfn.IFNA(INDEX(VLC!I:I,MATCH(301+ROW(A20)-1,VLC!V:V,0)),\"\"),\"\"),\"\")","v":""},{"$f":"_xlfn.IFNA(IF(INDEX(VLC!I:I,MATCH(341+ROW(A20)-1,VLC!V:V,0))<>\"\",_xlfn.IFNA(INDEX(VLC!I:I,MATCH(341+ROW(A20)-1,VLC!V:V,0)),\"\"),\"\"),\"\")","v":""},{"$f":"_xlfn.IFNA(IF(INDEX(VLC!J:J,MATCH(301+ROW(A20)-1,VLC!V:V,0))=\"x\",_xlfn.IFNA(INDEX(VLC!J:J,MATCH(301+ROW(A20)-1,VLC!V:V,0)),\"\"),\"\"),\"\")","v":""},{"$f":"_xlfn.IFNA(IF(INDEX(VLC!J:J,MATCH(341+ROW(A20)-1,VLC!V:V,0))=\"x\",_xlfn.IFNA(INDEX(VLC!J:J,MATCH(341+ROW(A20)-1,VLC!V:V,0)),\"\"),\"\"),\"\")","v":""},3020,3060]
["Gerätename:",{"$f":"$B$6","v":0},null,null,"PLC24 Stromkreis-Nummer: 4"]
["Stromkreis-Bezeichnung:"]
["Stromkreisbelegung","ID 1","ID 2","Bezeichnung","Zusatzinfo","DL",null,"GL",null,"BL"]
[null,null,null,null,null,"ID1","ID2","ID1","ID2","ID1","ID2"]
["SK Teilnehmer 1",{"$f":"_xlfn.IFNA(INDEX(VLC!A:A,MATCH(401,VLC!V:V,0)),\"\")","v":""},{"$f":"_xlfn.IFNA(INDEX(VLC!A:A,MATCH(441,VLC!V:V,0)),\"\")","v":""},{"$f":"_xlfn.IFNA(INDEX(VLC!B:B,MATCH(401+ROW(A1)-1,VLC!V:V,0)),\"\")","v":""},{"$f":"_xlfn.IFNA(INDEX(VLC!C:C,MATCH(401+ROW(A1)-1,VLC!V:V,0)),\"\")","v":""},{"$f":"_xlfn.IFNA(IF(INDEX(VLC!H:H,MATCH(401+ROW(A1)-1,VLC!V:V,0))=\"x\",_xlfn.IFNA(INDEX(VLC!H:H,MATCH(401+ROW(A1)-1,VLC!V:V,0)),\"\"),\"\"),\"\")","v":""},{"$f":"_xlfn.IFNA(IF(INDEX(VLC!H:H,MATCH(441+ROW(A1)-1,VLC!V:V,0))=\"x\",_xlfn.IFNA(INDEX(VLC!H:H,MATCH(441+ROW(A1)-1,VLC!V:V,0)),\"\"),\"\"),\"\")","v":""},{"$f":"_xlfn.IFNA(IF(INDEX(VLC!I:I,MATCH(401+ROW(A1)-1,VLC!V:V,0))<>\"\",_xlfn.IFNA(INDEX(VLC!I:I,MATCH(401+ROW(A1)-1,VLC!V:V,0)),\"\"),\"\"),\"\")","v":""},{"$f":"_xlfn.IFNA(IF(INDEX(VLC!I:I,MATCH(441+ROW(A1)-1,VLC!V:V,0))<>\"\",_xlfn.IFNA(INDEX(VLC!I:I,MATCH(441+ROW(A1)-1,VLC!V:V,0)),\"\"),\"\"),\"\")","v":""},{"$f":"_xlfn.IFNA(IF(INDEX(VLC!J:J,MATCH(401+ROW(A1)-1,VLC!V:V,0))=\"x\",_xlfn.IFNA(INDEX(VLC!J:J,MATCH(401+ROW(A1)-1,VLC!V:V,0)),\"\"),\"\"),\"\")","v":""},{"$f":"_xlfn.IFNA(IF(INDEX(VLC!J:J,MATCH(441+ROW(A1)-1,VLC!V:V,0))=\"x\",_xlfn.IFNA(INDEX(VLC!J:J,MATCH(441+ROW(A1)-1,VLC!V:V,0)),\"\"),\"\"),\"\")","v":""},{"$f":"4000+ROW(A82)-81","v":4001},{"$f":"L82+40","v":4041}]
["SK Teilnehmer 2",{"$f":"_xlfn.IFNA(INDEX(VLC!A:A,MATCH(402,VLC!V:V,0)),\"\")","v":""},{"$f":"_xlfn.IFNA(INDEX(VLC!A:A,MATCH(442,VLC!V:V,0)),\"\")","v":""},{"$f":"_xlfn.IFNA(INDEX(VLC!B:B,MATCH(401+ROW(A2)-1,VLC!V:V,0)),\"\")","v":""},{"$f":"_xlfn.IFNA(INDEX(VLC!C:C,MATCH(401+ROW(A2)-1,VLC!V:V,0)),\"\")","v":""},{"$f":"_xlfn.IFNA(IF(INDEX(VLC!H:H,MATCH(401+ROW(A2)-1,VLC!V:V,0))=\"x\",_xlfn.IFNA(INDEX(VLC!H:H,MATCH(401+ROW(A2)-1,VLC!V:V,0)),\"\"),\"\"),\"\")","v":""},{"$f":"_xlfn.IFNA(IF(INDEX(VLC!H:H,MATCH(441+ROW(A2)-1,VLC!V:V,0))=\"x\",_xlfn.IFNA(INDEX(VLC!H:H,MATCH(441+ROW(A2)-1,VLC!V:V,0)),\"\"),\"\"),\"\")","v":""},{"$f":"_xlfn.IFNA(IF(INDEX(VLC!I:I,MATCH(401+ROW(A2)-1,VLC!V:V,0))<>\"\",_xlfn.IFNA(INDEX(VLC!I:I,MATCH(401+ROW(A2)-1,VLC!V:V,0)),\"\"),\"\"),\"\")","v":""},{"$f":"_xlfn.IFNA(IF(INDEX(VLC!I:I,MATCH(441+ROW(A2)-1,VLC!V:V,0))<>\"\",_xlfn.IFNA(INDEX(VLC!I:I,MATCH(441+ROW(A2)-1,VLC!V:V,0)),\"\"),\"\"),\"\")","v":""},{"$f":"_xlfn.IFNA(IF(INDEX(VLC!J:J,MATCH(401+ROW(A2)-1,VLC!V:V,0))=\"x\",_xlfn.IFNA(INDEX(VLC!J:J,MATCH(401+ROW(A2)-1,VLC!V:V,0)),\"\"),\"\"),\"\")","v":""},{"$f":"_xlfn.IFNA(IF(INDEX(VLC!J:J,MATCH(441+ROW(A2)-1,VLC!V:V,0))=\"x\",_xlfn.IFNA(INDEX(VLC!J:J,MATCH(441+ROW(A2)-1,VLC!V:V,0)),\"\"),\"\"),\"\")","v":""},{"$f":"4000+ROW(A83)-81","v":4002},{"$f":"L83+40","v":4042}]
["SK Teilnehmer 3",{"$f":"_xlfn.IFNA(INDEX(VLC!A:A,MATCH(403,VLC!V:V,0)),\"\")","v":""},{"$f":"_xlfn.IFNA(INDEX(VLC!A:A,MATCH(443,VLC!V:V,0)),\"\")","v":""},{"$f":"_xlfn.IFNA(INDEX(VLC!B:B,MATCH(401+ROW(A3)-1,VLC!V:V,0)),\"\")","v":""},{"$f":"_xlfn.IFNA(INDEX(VLC!C:C,MATCH(401+ROW(A3)-1,VLC!V:V,0)),\"\")","v":""},{"$f":"_xlfn.IFNA(IF(INDEX(VLC!H:H,MATCH(401+ROW(A3)-1,VLC!V:V,0))=\"x\",_xlfn.IFNA(INDEX(VLC!H:H,MATCH(401+ROW(A3)-1,VLC!V:V,0)),\"\"),\"\"),\"\")","v":""},{"$f":"_xlfn.IFNA(IF(INDEX(VLC!H:H,MATCH(441+ROW(A3)-1,VLC!V:V,0))=\"x\",_xlfn.IFNA(INDEX(VLC!H:H,MATCH(441+ROW(A3)-1,VLC!V:V,0)),\"\"),\"\"),\"\")","v":""},{"$f":"_xlfn.IFNA(IF(INDEX(VLC!I:I,MATCH(401+ROW(A3)-1,VLC!V:V,0))<>\"\",_xlfn.IFNA(INDEX(VLC!I:I,MATCH(401+ROW(A3)-1,VLC!V:V,0)),\"\"),\"\"),\"\")","v":""},{"$f":"_xlfn.IFNA(IF(INDEX(VLC!I:I,MATCH(441+ROW(A3)-1,VLC!V:V,0))<>\"\",_xlfn.IFNA(INDEX(VLC!I:I,MATCH(441+ROW(A3)-1,VLC!V:V,0)),\"\"),\"\"),\"\")","v":""},{"$f":"_xlfn.IFNA(IF(INDEX(VLC!J:J,MATCH(401+ROW(A3)-1,VLC!V:V,0))=\"x\",_xlfn.IFNA(INDEX(VLC!J:J,MATCH(401+ROW(A3)-1,VLC!V:V,0)),\"\"),\"\"),\"\")","v":""},{"$f":"_xlfn.IFNA(IF(INDEX(VLC!J:J,MATCH(441+ROW(A3)-1,VLC!V:V,0))=\"x\",_xlfn.IFNA(INDEX(VLC!J:J,MATCH(441+ROW(A3)-1,VLC!V:V,0)),\"\"),\"\"),\"\")","v":""},4003,4043]
["SK Teilnehmer 4",{"$f":"_xlfn.IFNA(INDEX(VLC!A:A,MATCH(404,VLC!V:V,0)),\"\")","v":""},{"$f":"_xlfn.IFNA(INDEX(VLC!A:A,MATCH(444,VLC!V:V,0)),\"\")","v":""},{"$f":"_xlfn.IFNA(INDEX(VLC!B:B,MATCH(401+ROW(A4)-1,VLC!V:V,0)),\"\")","v":""},{"$f":"_xlfn.IFNA(INDEX(VLC!C:C,MATCH(401+ROW(A4)-1,VLC!V:V,0)),\"\")","v":""},{"$f":"_xlfn.IFNA(IF(INDEX(VLC!H:H,MATCH(401+ROW(A4)-1,VLC!V:V,0))=\"x\",_xlfn.IFNA(INDEX(VLC!H:H,MATCH(401+ROW(A4)-1,VLC!V:V,0)),\"\"),\"\"),\"\")","v":""},{"$f":"_xlfn.IFNA(IF(INDEX(VLC!H:H,MATCH(441+ROW(A4)-1,VLC!V:V,0))=\"x\",_xlfn.IFNA(INDEX(VLC!H:H,MATCH(441+ROW(A4)-1,VLC!V:V,0)),\"\"),\"\"),\"\")","v":""},{"$f":"_xlfn.IFNA(IF(INDEX(VLC!I:I,MATCH(401+ROW(A4)-1,VLC!V:V,0))<>\"\",_xlfn.IFNA(INDEX(VLC!I:I,MATCH(401+ROW(A4)-1,VLC!V:V,0)),\"\"),\"\"),\"\")","v":""},{"$f":"_xlfn.IFNA(IF(INDEX(VLC!I:I,MATCH(441+ROW(A4)-1,VLC!V:V,0))<>\"\",_xlfn.IFNA(INDEX(VLC!I:I,MATCH(441+ROW(A4)-1,VLC!V:V,0)),\"\"),\"\"),\"\")","v":""},{"$f":"_xlfn.IFNA(IF(INDEX(VLC!J:J,MATCH(401+ROW(A4)-1,VLC!V:V,0))=\"x\",_xlfn.IFNA(INDEX(VLC!J:J,MATCH(401+ROW(A4)-1,VLC!V:V,0)),\"\"),\"\"),\"\")","v":""},{"$f":"_xlfn.IFNA(IF(INDEX(VLC!J:J,MATCH(441+ROW(A4)-1,VLC!V:V,0))=\"x\",_xlfn.IFNA(INDEX(VLC!J:J,MATCH(441+ROW(A4)-1,VLC!V:V,0)),\"\"),\"\"),\"\")","v":""},4004,4044]
["SK Teilnehmer 5",{"$f":"_xlfn.IFNA(INDEX(VLC!A:A,MATCH(405,VLC!V:V,0)),\"\")","v":""},{"$f":"_xlfn.IFNA(INDEX(VLC!A:A,MATCH(445,VLC!V:V,0)),\"\")","v":""},{"$f":"_xlfn.IFNA(INDEX(VLC!B:B,MATCH(401+ROW(A5)-1,VLC!V:V,0)),\"\")","v":""},{"$f":"_xlfn.IFNA(INDEX(VLC!C:C,MATCH(401+ROW(A5)-1,VLC!V:V,0)),\"\")","v":""},{"$f":"_xlfn.IFNA(IF(INDEX(VLC!H:H,MATCH(401+ROW(A5)-1,VLC!V:V,0))=\"x\",_xlfn.IFNA(INDEX(VLC!H:H,MATCH(401+ROW(A5)-1,VLC!V:V,0)),\"\"),\"\"),\"\")","v":""},{"$f":"_xlfn.IFNA(IF(INDEX(VLC!H:H,MATCH(441+ROW(A5)-1,VLC!V:V,0))=\"x\",_xlfn.IFNA(INDEX(VLC!H:H,MATCH(441+ROW(A5)-1,VLC!V:V,0)),\"\"),\"\"),\"\")","v":""},{"$f":"_xlfn.IFNA(IF(INDEX(VLC!I:I,MATCH(401+ROW(A5)-1,VLC!V:V,0))<>\"\",_xlfn.IFNA(INDEX(VLC!I:I,MATCH(401+ROW(A5)-1,VLC!V:V,0)),\"\"),\"\"),\"\")","v":""},{"$f":"_xlfn.IFNA(IF(INDEX(VLC!I:I,MATCH(441+ROW(A5)-1,VLC!V:V,0))<>\"\",_xlfn.IFNA(INDEX(VLC!I:I,MATCH(441+ROW(A5)-1,VLC!V:V,0)),\"\"),\"\"),\"\")","v":""},{"$f":"_xlfn.IFNA(IF(INDEX(VLC!J:J,MATCH(401+ROW(A5)-1,VLC!V:V,0))=\"x\",_xlfn.IFNA(INDEX(VLC!J:J,MATCH(401+ROW(A5)-1,VLC!V:V,0)),\"\"),\"\"),\"\")","v":""},{"$f":"_xlfn.IFNA(IF(INDEX(VLC!J:J,MATCH(441+ROW(A5)-1,VLC!V:V,0))=\"x\",_xlfn.IFNA(INDEX(VLC!J:J,MATCH(441+ROW(A5)-1,VLC!V:V,0)),\"\"),\"\"),\"\")","v":""},4005,4045]
["SK Teilnehmer 6",{"$f":"_xlfn.IFNA(INDEX(VLC!A:A,MATCH(406,VLC!V:V,0)),\"\")","v":""},{"$f":"_xlfn.IFNA(INDEX(VLC!A:A,MATCH(446,VLC!V:V,0)),\"\")","v":""},{"$f":"_xlfn.IFNA(INDEX(VLC!B:B,MATCH(401+ROW(A6)-1,VLC!V:V,0)),\"\")","v":""},{"$f":"_xlfn.IFNA(INDEX(VLC!C:C,MATCH(401+ROW(A6)-1,VLC!V:V,0)),\"\")","v":""},{"$f":"_xlfn.IFNA(IF(INDEX(VLC!H:H,MATCH(401+ROW(A6)-1,VLC!V:V,0))=\"x\",_xlfn.IFNA(INDEX(VLC!H:H,MATCH(401+ROW(A6)-1,VLC!V:V,0)),\"\"),\"\"),\"\")","v":""},{"$f":"_xlfn.IFNA(IF(INDEX(VLC!H:H,MATCH(441+ROW(A6)-1,VLC!V:V,0))=\"x\",_xlfn.IFNA(INDEX(VLC!H:H,MATCH(441+ROW(A6)-1,VLC!V:V,0)),\"\"),\"\"),\"\")","v":""},{"$f":"_xlfn.IFNA(IF(INDEX(VLC!I:I,MATCH(401+ROW(A6)-1,VLC!V:V,0))<>\"\",_xlfn.IFNA(INDEX(VLC!I:I,MATCH(401+ROW(A6)-1,VLC!V:V,0)),\"\"),\"\"),\"\")","v":""},{"$f":"_xlfn.IFNA(IF(INDEX(VLC!I:I,MATCH(441+ROW(A6)-1,VLC!V:V,0))<>\"\",_xlfn.IFNA(INDEX(VLC!I:I,MATCH(441+ROW(A6)-1,VLC!V:V,0)),\"\"),\"\"),\"\")","v":""},{"$f":"_xlfn.IFNA(IF(INDEX(VLC!J:J,MATCH(401+ROW(A6)-1,VLC!V:V,0))=\"x\",_xlfn.IFNA(INDEX(VLC!J:J,MATCH(401+ROW(A6)-1,VLC!V:V,0)),\"\"),\"\"),\"\")","v":""},{"$f":"_xlfn.IFNA(IF(INDEX(VLC!J:J,MATCH(441+ROW(A6)-1,VLC!V:V,0))=\"x\",_xlfn.IFNA(INDEX(VLC!J:J,MATCH(441+ROW(A6)-1,VLC!V:V,0)),\"\"),\"\"),\"\")","v":""},4006,4046]
["SK Teilnehmer 7",{"$f":"_xlfn.IFNA(INDEX(VLC!A:A,MATCH(407,VLC!V:V,0)),\"\")","v":""},{"$f":"_xlfn.IFNA(INDEX(VLC!A:A,MATCH(447,VLC!V:V,0)),\"\")","v":""},{"$f":"_xlfn.IFNA(INDEX(VLC!B:B,MATCH(401+ROW(A7)-1,VLC!V:V,0)),\"\")","v":""},{"$f":"_xlfn.IFNA(INDEX(VLC!C:C,MATCH(401+ROW(A7)-1,VLC!V:V,0)),\"\")","v":""},{"$f":"_xlfn.IFNA(IF(INDEX(VLC!H:H,MATCH(401+ROW(A7)-1,VLC!V:V,0))=\"x\",_xlfn.IFNA(INDEX(VLC!H:H,MATCH(401+ROW(A7)-1,VLC!V:V,0)),\"\"),\"\"),\"\")","v":""},{"$f":"_xlfn.IFNA(IF(INDEX(VLC!H:H,MATCH(441+ROW(A7)-1,VLC!V:V,0))=\"x\",_xlfn.IFNA(INDEX(VLC!H:H,MATCH(441+ROW(A7)-1,VLC!V:V,0)),\"\"),\"\"),\"\")","v":""},{"$f":"_xlfn.IFNA(IF(INDEX(VLC!I:I,MATCH(401+ROW(A7)-1,VLC!V:V,0))<>\"\",_xlfn.IFNA(INDEX(VLC!I:I,MATCH(401+ROW(A7)-1,VLC!V:V,0)),\"\"),\"\"),\"\")","v":""},{"$f":"_xlfn.IFNA(IF(INDEX(VLC!I:I,MATCH(441+ROW(A7)-1,VLC!V:V,0))<>\"\",_xlfn.IFNA(INDEX(VLC!I:I,MATCH(441+ROW(A7)-1,VLC!V:V,0)),\"\"),\"\"),\"\")","v":""},{"$f":"_xlfn.IFNA(IF(INDEX(VLC!J:J,MATCH(401+ROW(A7)-1,VLC!V:V,0))=\"x\",_xlfn.IFNA(INDEX(VLC!J:J,MATCH(401+ROW(A7)-1,VLC!V:V,0)),\"\"),\"\"),\"\")","v":""},{"$f":"_xlfn.IFNA(IF(INDEX(VLC!J:J,MATCH(441+ROW(A7)-1,VLC!V:V,0))=\"x\",_xlfn.IFNA(INDEX(VLC!J:J,MATCH(441+ROW(A7)-1,VLC!V:V,0)),\"\"),\"\"),\"\")","v":""},4007,4047]
["SK Teilnehmer 8",{"$f":"_xlfn.IFNA(INDEX(VLC!A:A,MATCH(408,VLC!V:V,0)),\"\")","v":""},{"$f":"_xlfn.IFNA(INDEX(VLC!A:A,MATCH(448,VLC!V:V,0)),\"\")","v":""},{"$f":"_xlfn.IFNA(INDEX(VLC!B:B,MATCH(401+ROW(A8)-1,VLC!V:V,0)),\"\")","v":""},{"$f":"_xlfn.IFNA(INDEX(VLC!C:C,MATCH(401+ROW(A8)-1,VLC!V:V,0)),\"\")","v":""},{"$f":"_xlfn.IFNA(IF(INDEX(VLC!H:H,MATCH(401+ROW(A8)-1,VLC!V:V,0))=\"x\",_xlfn.IFNA(INDEX(VLC!H:H,MATCH(401+ROW(A8)-1,VLC!V:V,0)),\"\"),\"\"),\"\")","v":""},{"$f":"_xlfn.IFNA(IF(INDEX(VLC!H:H,MATCH(441+ROW(A8)-1,VLC!V:V,0))=\"x\",_xlfn.IFNA(INDEX(VLC!H:H,MATCH(441+ROW(A8)-1,VLC!V:V,0)),\"\"),\"\"),\"\")","v":""},{"$f":"_xlfn.IFNA(IF(INDEX(VLC!I:I,MATCH(401+ROW(A8)-1,VLC!V:V,0))<>\"\",_xlfn.IFNA(INDEX(VLC!I:I,MATCH(401+ROW(A8)-1,VLC!V:V,0)),\"\"),\"\"),\"\")","v":""},{"$f":"_xlfn.IFNA(IF(INDEX(VLC!I:I,MATCH(441+ROW(A8)-1,VLC!V:V,0))<>\"\",_xlfn.IFNA(INDEX(VLC!I:I,MATCH(441+ROW(A8)-1,VLC!V:V,0)),\"\"),\"\"),\"\")","v":""},{"$f":"_xlfn.IFNA(IF(INDEX(VLC!J:J,MATCH(401+ROW(A8)-1,VLC!V:V,0))=\"x\",_xlfn.IFNA(INDEX(VLC!J:J,MATCH(401+ROW(A8)-1,VLC!V:V,0)),\"\"),\"\"),\"\")","v":""},{"$f":"_xlfn.IFNA(IF(INDEX(VLC!J:J,MATCH(441+ROW(A8)-1,VLC!V:V,0))=\"x\",_xlfn.IFNA(INDEX(VLC!J:J,MATCH(441+ROW(A8)-1,VLC!V:V,0)),\"\"),\"\"),\"\")","v":""},4008,4048]
["SK Teilnehmer 9",{"$f":"_xlfn.IFNA(INDEX(VLC!A:A,MATCH(409,VLC!V:V,0)),\"\")","v":""},{"$f":"_xlfn.IFNA(INDEX(VLC!A:A,MATCH(449,VLC!V:V,0)),\"\")","v":""},{"$f":"_xlfn.IFNA(INDEX(VLC!B:B,MATCH(401+ROW(A9)-1,VLC!V:V,0)),\"\")","v":""},{"$f":"_xlfn.IFNA(INDEX(VLC!C:C,MATCH(401+ROW(A9)-1,VLC!V:V,0)),\"\")","v":""},{"$f":"_xlfn.IFNA(IF(INDEX(VLC!H:H,MATCH(401+ROW(A9)-1,VLC!V:V,0))=\"x\",_xlfn.IFNA(INDEX(VLC!H:H,MATCH(401+ROW(A9)-1,VLC!V:V,0)),\"\"),\"\"),\"\")","v":""},{"$f":"_xlfn.IFNA(IF(INDEX(VLC!H:H,MATCH(441+ROW(A9)-1,VLC!V:V,0))=\"x\",_xlfn.IFNA(INDEX(VLC!H:H,MATCH(441+ROW(A9)-1,VLC!V:V,0)),\"\"),\"\"),\"\")","v":""},{"$f":"_xlfn.IFNA(IF(INDEX(VLC!I:I,MATCH(401+ROW(A9)-1,VLC!V:V,0))<>\"\",_xlfn.IFNA(INDEX(VLC!I:I,MATCH(401+ROW(A9)-1,VLC!V:V,0)),\"\"),\"\"),\"\")","v":""},{"$f":"_xlfn.IFNA(IF(INDEX(VLC!I:I,MATCH(441+ROW(A9)-1,VLC!V:V,0))<>\"\",_xlfn.IFNA(INDEX(VLC!I:I,MATCH(441+ROW(A9)-1,VLC!V:V,0)),\"\"),\"\"),\"\")","v":""},{"$f":"_xlfn.IFNA(IF(INDEX(VLC!J:J,MATCH(401+ROW(A9)-1,VLC!V:V,0))=\"x\",_xlfn.IFNA(INDEX(VLC!J:J,MATCH(401+ROW(A9)-1,VLC!V:V,0)),\"\"),\"\"),\"\")","v":""},{"$f":"_xlfn.IFNA(IF(INDEX(VLC!J:J,MATCH(441+ROW(A9)-1,VLC!V:V,0))=\"x\",_xlfn.IFNA(INDEX(VLC!J:J,MATCH(441+ROW(A9)-1,VLC!V:V,0)),\"\"),\"\"),\"\")","v":""},4009,4049]
["SK Teilnehmer 10",{"$f":"_xlfn.IFNA(INDEX(VLC!A:A,MATCH(410,VLC!V:V,0)),\"\")","v":""},{"$f":"_xlfn.IFNA(INDEX(VLC!A:A,MATCH(450,VLC!V:V,0)),\"\")","v":""},{"$f":"_xlfn.IFNA(INDEX(VLC!B:B,MATCH(401+ROW(A10)-1,VLC!V:V,0)),\"\")","v":""},{"$f":"_xlfn.IFNA(INDEX(VLC!C:C,MATCH(401+ROW(A10)-1,VLC!V:V,0)),\"\")","v":""},{"$f":"_xlfn.IFNA(IF(INDEX(VLC!H:H,MATCH(401+ROW(A10)-1,VLC!V:V,0))=\"x\",_xlfn.IFNA(INDEX(VLC!H:H,MATCH(401+ROW(A10)-1,VLC!V:V,0)),\"\"),\"\"),\"\")","v":""},{"$f":"_xlfn.IFNA(IF(INDEX(VLC!H:H,MATCH(441+ROW(A10)-1,VLC!V:V,0))=\"x\",_xlfn.IFNA(INDEX(VLC!H:H,MATCH(441+ROW(A10)-1,VLC!V:V,0)),\"\"),\"\"),\"\")","v":""},{"$f":"_xlfn.IFNA(IF(INDEX(VLC!I:I,MATCH(401+ROW(A10)-1,VLC!V:V,0))<>\"\",_xlfn.IFNA(INDEX(VLC!I:I,MATCH(401+ROW(A10)-1,VLC!V:V,0)),\"\"),\"\"),\"\")","v":""},{"$f":"_xlfn.IFNA(IF(INDEX(VLC!I:I,MATCH(441+ROW(A10)-1,VLC!V:V,0))<>\"\",_xlfn.IFNA(INDEX(VLC!I:I,MATCH(441+ROW(A10)-1,VLC!V:V,0)),\"\"),\"\"),\"\")","v":""},{"$f":"_xlfn.IFNA(IF(INDEX(VLC!J:J,MATCH(401+ROW(A10)-1,VLC!V:V,0))=\"x\",_xlfn.IFNA(INDEX(VLC!J:J,MATCH(401+ROW(A10)-1,VLC!V:V,0)),\"\"),\"\"),\"\")","v":""},{"$f":"_xlfn.IFNA(IF(INDEX(VLC!J:J,MATCH(441+ROW(A10)-1,VLC!V:V,0))=\"x\",_xlfn.IFNA(INDEX(VLC!J:J,MATCH(441+ROW(A10)-1,VLC!V:V,0)),\"\"),\"\"),\"\")","v":""},4010,4050]
["SK Teilnehmer 11",{"$f":"_xlfn.IFNA(INDEX(VLC!A:A,MATCH(411,VLC!V:V,0)),\"\")","v":""},{"$f":"_xlfn.IFNA(INDEX(VLC!A:A,MATCH(451,VLC!V:V,0)),\"\")","v":""},{"$f":"_xlfn.IFNA(INDEX(VLC!B:B,MATCH(401+ROW(A11)-1,VLC!V:V,0)),\"\")","v":""},{"$f":"_xlfn.IFNA(INDEX(VLC!C:C,MATCH(401+ROW(A11)-1,VLC!V:V,0)),\"\")","v":""},{"$f":"_xlfn.IFNA(IF(INDEX(VLC!H:H,MATCH(401+ROW(A11)-1,VLC!V:V,0))=\"x\",_xlfn.IFNA(INDEX(VLC!H:H,MATCH(401+ROW(A11)-1,VLC!V:V,0)),\"\"),\"\"),\"\")","v":""},{"$f":"_xlfn.IFNA(IF(INDEX(VLC!H:H,MATCH(441+ROW(A11)-1,VLC!V:V,0))=\"x\",_xlfn.IFNA(INDEX(VLC!H:H,MATCH(441+ROW(A11)-1,VLC!V:V,0)),\"\"),\"\"),\"\")","v":""},{"$f":"_xlfn.IFNA(IF(INDEX(VLC!I:I,MATCH(401+ROW(A11)-1,VLC!V:V,0))<>\"\",_xlfn.IFNA(INDEX(VLC!I:I,MATCH(401+ROW(A11)-1,VLC!V:V,0)),\"\"),\"\"),\"\")","v":""},{"$f":"_xlfn.IFNA(IF(INDEX(VLC!I:I,MATCH(441+ROW(A11)-1,VLC!V:V,0))<>\"\",_xlfn.IFNA(INDEX(VLC!I:I,MATCH(441+ROW(A11)-1,VLC!V:V,0)),\"\"),\"\"),\"\")","v":""},{"$f":"_xlfn.IFNA(IF(INDEX(VLC!J:J,MATCH(401+ROW(A11)-1,VLC!V:V,0))=\"x\",_xlfn.IFNA(INDEX(VLC!J:J,MATCH(401+ROW(A11)-1,VLC!V:V,0)),\"\"),\"\"),\"\")","v":""},{"$f":"_xlfn.IFNA(IF(INDEX(VLC!J:J,MATCH(441+ROW(A11)-1,VLC!V:V,0))=\"x\",_xlfn.IFNA(INDEX(VLC!J:J,MATCH(441+ROW(A11)-1,VLC!V:V,0)),\"\"),\"\"),\"\")","v":""},4011,4051]
["SK Teilnehmer 12",{"$f":"_xlfn.IFNA(INDEX(VLC!A:A,MATCH(412,VLC!V:V,0)),\"\")","v":""},{"$f":"_xlfn.IFNA(INDEX(VLC!A:A,MATCH(452,VLC!V:V,0)),\"\")","v":""},{"$f":"_xlfn.IFNA(INDEX(VLC!B:B,MATCH(401+ROW(A12)-1,VLC!V:V,0)),\"\")","v":""},{"$f":"_xlfn.IFNA(INDEX(VLC!C:C,MATCH(401+ROW(A12)-1,VLC!V:V,0)),\"\")","v":""},{"$f":"_xlfn.IFNA(IF(INDEX(VLC!H:H,MATCH(401+ROW(A12)-1,VLC!V:V,0))=\"x\",_xlfn.IFNA(INDEX(VLC!H:H,MATCH(401+ROW(A12)-1,VLC!V:V,0)),\"\"),\"\"),\"\")","v":""},{"$f":"_xlfn.IFNA(IF(INDEX(VLC!H:H,MATCH(441+ROW(A12)-1,VLC!V:V,0))=\"x\",_xlfn.IFNA(INDEX(VLC!H:H,MATCH(441+ROW(A12)-1,VLC!V:V,0)),\"\"),\"\"),\"\")","v":""},{"$f":"_xlfn.IFNA(IF(INDEX(VLC!I:I,MATCH(401+ROW(A12)-1,VLC!V:V,0))<>\"\",_xlfn.IFNA(INDEX(VLC!I:I,MATCH(401+ROW(A12)-1,VLC!V:V,0)),\"\"),\"\"),\"\")","v":""},{"$f":"_xlfn.IFNA(IF(INDEX(VLC!I:I,MATCH(441+ROW(A12)-1,VLC!V:V,0))<>\"\",_xlfn.IFNA(INDEX(VLC!I:I,MATCH(441+ROW(A12)-1,VLC!V:V,0)),\"\"),\"\"),\"\")","v":""},{"$f":"_xlfn.IFNA(IF(INDEX(VLC!J:J,MATCH(401+ROW(A12)-1,VLC!V:V,0))=\"x\",_xlfn.IFNA(INDEX(VLC!J:J,MATCH(401+ROW(A12)-1,VLC!V:V,0)),\"\"),\"\"),\"\")","v":""},{"$f":"_xlfn.IFNA(IF(INDEX(VLC!J:J,MATCH(441+ROW(A12)-1,VLC!V:V,0))=\"x\",_xlfn.IFNA(INDEX(VLC!J:J,MATCH(441+ROW(A12)-1,VLC!V:V,0)),\"\"),\"\"),\"\")","v":""},4012,4052]
["SK Teilnehmer 13",{"$f":"_xlfn.IFNA(INDEX(VLC!A:A,MATCH(413,VLC!V:V,0)),\"\")","v":""},{"$f":"_xlfn.IFNA(INDEX(VLC!A:A,MATCH(453,VLC!V:V,0)),\"\")","v":""},{"$f":"_xlfn.IFNA(INDEX(VLC!B:B,MATCH(401+ROW(A13)-1,VLC!V:V,0)),\"\")","v":""},{"$f":"_xlfn.IFNA(INDEX(VLC!C:C,MATCH(401+ROW(A13)-1,VLC!V:V,0)),\"\")","v":""},{"$f":"_xlfn.IFNA(IF(INDEX(VLC!H:H,MATCH(401+ROW(A13)-1,VLC!V:V,0))=\"x\",_xlfn.IFNA(INDEX(VLC!H:H,MATCH(401+ROW(A13)-1,VLC!V:V,0)),\"\"),\"\"),\"\")","v":""},{"$f":"_xlfn.IFNA(IF(INDEX(VLC!H:H,MATCH(441+ROW(A13)-1,VLC!V:V,0))=\"x\",_xlfn.IFNA(INDEX(VLC!H:H,MATCH(441+ROW(A13)-1,VLC!V:V,0)),\"\"),\"\"),\"\")","v":""},{"$f":"_xlfn.IFNA(IF(INDEX(VLC!I:I,MATCH(401+ROW(A13)-1,VLC!V:V,0))<>\"\",_xlfn.IFNA(INDEX(VLC!I:I,MATCH(401+ROW(A13)-1,VLC!V:V,0)),\"\"),\"\"),\"\")","v":""},{"$f":"_xlfn.IFNA(IF(INDEX(VLC!I:I,MATCH(441+ROW(A13)-1,VLC!V:V,0))<>\"\",_xlfn.IFNA(INDEX(VLC!I:I,MATCH(441+ROW(A13)-1,VLC!V:V,0)),\"\"),\"\"),\"\")","v":""},{"$f":"_xlfn.IFNA(IF(INDEX(VLC!J:J,MATCH(401+ROW(A13)-1,VLC!V:V,0))=\"x\",_xlfn.IFNA(INDEX(VLC!J:J,MATCH(401+ROW(A13)-1,VLC!V:V,0)),\"\"),\"\"),\"\")","v":""},{"$f":"_xlfn.IFNA(IF(INDEX(VLC!J:J,MATCH(441+ROW(A13)-1,VLC!V:V,0))=\"x\",_xlfn.IFNA(INDEX(VLC!J:J,MATCH(441+ROW(A13)-1,VLC!V:V,0)),\"\"),\"\"),\"\")","v":""},4013,4053]
["SK Teilnehmer 14",{"$f":"_xlfn.IFNA(INDEX(VLC!A:A,MATCH(414,VLC!V:V,0)),\"\")","v":""},{"$f":"_xlfn.IFNA(INDEX(VLC!A:A,MATCH(454,VLC!V:V,0)),\"\")","v":""},{"$f":"_xlfn.IFNA(INDEX(VLC!B:B,MATCH(401+ROW(A14)-1,VLC!V:V,0)),\"\")","v":""},{"$f":"_xlfn.IFNA(INDEX(VLC!C:C,MATCH(401+ROW(A14)-1,VLC!V:V,0)),\"\")","v":""},{"$f":"_xlfn.IFNA(IF(INDEX(VLC!H:H,MATCH(401+ROW(A14)-1,VLC!V:V,0))=\"x\",_xlfn.IFNA(INDEX(VLC!H:H,MATCH(401+ROW(A14)-1,VLC!V:V,0)),\"\"),\"\"),\"\")","v":""},{"$f":"_xlfn.IFNA(IF(INDEX(VLC!H:H,MATCH(441+ROW(A14)-1,VLC!V:V,0))=\"x\",_xlfn.IFNA(INDEX(VLC!H:H,MATCH(441+ROW(A14)-1,VLC!V:V,0)),\"\"),\"\"),\"\")","v":""},{"$f":"_xlfn.IFNA(IF(INDEX(VLC!I:I,MATCH(401+ROW(A14)-1,VLC!V:V,0))<>\"\",_xlfn.IFNA(INDEX(VLC!I:I,MATCH(401+ROW(A14)-1,VLC!V:V,0)),\"\"),\"\"),\"\")","v":""},{"$f":"_xlfn.IFNA(IF(INDEX(VLC!I:I,MATCH(441+ROW(A14)-1,VLC!V:V,0))<>\"\",_xlfn.IFNA(INDEX(VLC!I:I,MATCH(441+ROW(A14)-1,VLC!V:V,0)),\"\"),\"\"),\"\")","v":""},{"$f":"_xlfn.IFNA(IF(INDEX(VLC!J:J,MATCH(401+ROW(A14)-1,VLC!V:V,0))=\"x\",_xlfn.IFNA(INDEX(VLC!J:J,MATCH(401+ROW(A14)-1,VLC!V:V,0)),\"\"),\"\"),\"\")","v":""},{"$f":"_xlfn.IFNA(IF(INDEX(VLC!J:J,MATCH(441+ROW(A14)-1,VLC!V:V,0))=\"x\",_xlfn.IFNA(INDEX(VLC!J:J,MATCH(441+ROW(A14)-1,VLC!V:V,0)),\"\"),\"\"),\"\")","v":""},4014,4054]
["SK Teilnehmer 15",{"$f":"_xlfn.IFNA(INDEX(VLC!A:A,MATCH(415,VLC!V:V,0)),\"\")","v":""},{"$f":"_xlfn.IFNA(INDEX(VLC!A:A,MATCH(455,VLC!V:V,0)),\"\")","v":""},{"$f":"_xlfn.IFNA(INDEX(VLC!B:B,MATCH(401+ROW(A15)-1,VLC!V:V,0)),\"\")","v":""},{"$f":"_xlfn.IFNA(INDEX(VLC!C:C,MATCH(401+ROW(A15)-1,VLC!V:V,0)),\"\")","v":""},{"$f":"_xlfn.IFNA(IF(INDEX(VLC!H:H,MATCH(401+ROW(A15)-1,VLC!V:V,0))=\"x\",_xlfn.IFNA(INDEX(VLC!H:H,MATCH(401+ROW(A15)-1,VLC!V:V,0)),\"\"),\"\"),\"\")","v":""},{"$f":"_xlfn.IFNA(IF(INDEX(VLC!H:H,MATCH(441+ROW(A15)-1,VLC!V:V,0))=\"x\",_xlfn.IFNA(INDEX(VLC!H:H,MATCH(441+ROW(A15)-1,VLC!V:V,0)),\"\"),\"\"),\"\")","v":""},{"$f":"_xlfn.IFNA(IF(INDEX(VLC!I:I,MATCH(401+ROW(A15)-1,VLC!V:V,0))<>\"\",_xlfn.IFNA(INDEX(VLC!I:I,MATCH(401+ROW(A15)-1,VLC!V:V,0)),\"\"),\"\"),\"\")","v":""},{"$f":"_xlfn.IFNA(IF(INDEX(VLC!I:I,MATCH(441+ROW(A15)-1,VLC!V:V,0))<>\"\",_xlfn.IFNA(INDEX(VLC!I:I,MATCH(441+ROW(A15)-1,VLC!V:V,0)),\"\"),\"\"),\"\")","v":""},{"$f":"_xlfn.IFNA(IF(INDEX(VLC!J:J,MATCH(401+ROW(A15)-1,VLC!V:V,0))=\"x\",_xlfn.IFNA(INDEX(VLC!J:J,MATCH(401+ROW(A15)-1,VLC!V:V,0)),\"\"),\"\"),\"\")","v":""},{"$f":"_xlfn.IFNA(IF(INDEX(VLC!J:J,MATCH(441+ROW(A15)-1,VLC!V:V,0))=\"x\",_xlfn.IFNA(INDEX(VLC!J:J,MATCH(441+ROW(A15)-1,VLC!V:V,0)),\"\"),\"\"),\"\")","v":""},4015,4055]
["SK Teilnehmer 16",{"$f":"_xlfn.IFNA(INDEX(VLC!A:A,MATCH(416,VLC!V:V,0)),\"\")","v":""},{"$f":"_xlfn.IFNA(INDEX(VLC!A:A,MATCH(456,VLC!V:V,0)),\"\")","v":""},{"$f":"_xlfn.IFNA(INDEX(VLC!B:B,MATCH(401+ROW(A16)-1,VLC!V:V,0)),\"\")","v":""},{"$f":"_xlfn.IFNA(INDEX(VLC!C:C,MATCH(401+ROW(A16)-1,VLC!V:V,0)),\"\")","v":""},{"$f":"_xlfn.IFNA(IF(INDEX(VLC!H:H,MATCH(401+ROW(A16)-1,VLC!V:V,0))=\"x\",_xlfn.IFNA(INDEX(VLC!H:H,MATCH(401+ROW(A16)-1,VLC!V:V,0)),\"\"),\"\"),\"\")","v":""},{"$f":"_xlfn.IFNA(IF(INDEX(VLC!H:H,MATCH(441+ROW(A16)-1,VLC!V:V,0))=\"x\",_xlfn.IFNA(INDEX(VLC!H:H,MATCH(441+ROW(A16)-1,VLC!V:V,0)),\"\"),\"\"),\"\")","v":""},{"$f":"_xlfn.IFNA(IF(INDEX(VLC!I:I,MATCH(401+ROW(A16)-1,VLC!V:V,0))<>\"\",_xlfn.IFNA(INDEX(VLC!I:I,MATCH(401+ROW(A16)-1,VLC!V:V,0)),\"\"),\"\"),\"\")","v":""},{"$f":"_xlfn.IFNA(IF(INDEX(VLC!I:I,MATCH(441+ROW(A16)-1,VLC!V:V,0))<>\"\",_xlfn.IFNA(INDEX(VLC!I:I,MATCH(441+ROW(A16)-1,VLC!V:V,0)),\"\"),\"\"),\"\")","v":""},{"$f":"_xlfn.IFNA(IF(INDEX(VLC!J:J,MATCH(401+ROW(A16)-1,VLC!V:V,0))=\"x\",_xlfn.IFNA(INDEX(VLC!J:J,MATCH(401+ROW(A16)-1,VLC!V:V,0)),\"\"),\"\"),\"\")","v":""},{"$f":"_xlfn.IFNA(IF(INDEX(VLC!J:J,MATCH(441+ROW(A16)-1,VLC!V:V,0))=\"x\",_xlfn.IFNA(INDEX(VLC!J:J,MATCH(441+ROW(A16)-1,VLC!V:V,0)),\"\"),\"\"),\"\")","v":""},4016,4056]
["SK Teilnehmer 17",{"$f":"_xlfn.IFNA(INDEX(VLC!A:A,MATCH(417,VLC!V:V,0)),\"\")","v":""},{"$f":"_xlfn.IFNA(INDEX(VLC!A:A,MATCH(457,VLC!V:V,0)),\"\")","v":""},{"$f":"_xlfn.IFNA(INDEX(VLC!B:B,MATCH(401+ROW(A17)-1,VLC!V:V,0)),\"\")","v":""},{"$f":"_xlfn.IFNA(INDEX(VLC!C:C,MATCH(401+ROW(A17)-1,VLC!V:V,0)),\"\")","v":""},{"$f":"_xlfn.IFNA(IF(INDEX(VLC!H:H,MATCH(401+ROW(A17)-1,VLC!V:V,0))=\"x\",_xlfn.IFNA(INDEX(VLC!H:H,MATCH(401+ROW(A17)-1,VLC!V:V,0)),\"\"),\"\"),\"\")","v":""},{"$f":"_xlfn.IFNA(IF(INDEX(VLC!H:H,MATCH(441+ROW(A17)-1,VLC!V:V,0))=\"x\",_xlfn.IFNA(INDEX(VLC!H:H,MATCH(441+ROW(A17)-1,VLC!V:V,0)),\"\"),\"\"),\"\")","v":""},{"$f":"_xlfn.IFNA(IF(INDEX(VLC!I:I,MATCH(401+ROW(A17)-1,VLC!V:V,0))<>\"\",_xlfn.IFNA(INDEX(VLC!I:I,MATCH(401+ROW(A17)-1,VLC!V:V,0)),\"\"),\"\"),\"\")","v":""},{"$f":"_xlfn.IFNA(IF(INDEX(VLC!I:I,MATCH(441+ROW(A17)-1,VLC!V:V,0))<>\"\",_xlfn.IFNA(INDEX(VLC!I:I,MATCH(441+ROW(A17)-1,VLC!V:V,0)),\"\"),\"\"),\"\")","v":""},{"$f":"_xlfn.IFNA(IF(INDEX(VLC!J:J,MATCH(401+ROW(A17)-1,VLC!V:V,0))=\"x\",_xlfn.IFNA(INDEX(VLC!J:J,MATCH(401+ROW(A17)-1,VLC!V:V,0)),\"\"),\"\"),\"\")","v":""},{"$f":"_xlfn.IFNA(IF(INDEX(VLC!J:J,MATCH(441+ROW(A17)-1,VLC!V:V,0))=\"x\",_xlfn.IFNA(INDEX(VLC!J:J,MATCH(441+ROW(A17)-1,VLC!V:V,0)),\"\"),\"\"),\"\")","v":""},4017,4057]
["SK Teilnehmer 18",{"$f":"_xlfn.IFNA(INDEX(VLC!A:A,MATCH(418,VLC!V:V,0)),\"\")","v":""},{"$f":"_xlfn.IFNA(INDEX(VLC!A:A,MATCH(458,VLC!V:V,0)),\"\")","v":""},{"$f":"_xlfn.IFNA(INDEX(VLC!B:B,MATCH(401+ROW(A18)-1,VLC!V:V,0)),\"\")","v":""},{"$f":"_xlfn.IFNA(INDEX(VLC!C:C,MATCH(401+ROW(A18)-1,VLC!V:V,0)),\"\")","v":""},{"$f":"_xlfn.IFNA(IF(INDEX(VLC!H:H,MATCH(401+ROW(A18)-1,VLC!V:V,0))=\"x\",_xlfn.IFNA(INDEX(VLC!H:H,MATCH(401+ROW(A18)-1,VLC!V:V,0)),\"\"),\"\"),\"\")","v":""},{"$f":"_xlfn.IFNA(IF(INDEX(VLC!H:H,MATCH(441+ROW(A18)-1,VLC!V:V,0))=\"x\",_xlfn.IFNA(INDEX(VLC!H:H,MATCH(441+ROW(A18)-1,VLC!V:V,0)),\"\"),\"\"),\"\")","v":""},{"$f":"_xlfn.IFNA(IF(INDEX(VLC!I:I,MATCH(401+ROW(A18)-1,VLC!V:V,0))<>\"\",_xlfn.IFNA(INDEX(VLC!I:I,MATCH(401+ROW(A18)-1,VLC!V:V,0)),\"\"),\"\"),\"\")","v":""},{"$f":"_xlfn.IFNA(IF(INDEX(VLC!I:I,MATCH(441+ROW(A18)-1,VLC!V:V,0))<>\"\",_xlfn.IFNA(INDEX(VLC!I:I,MATCH(441+ROW(A18)-1,VLC!V:V,0)),\"\"),\"\"),\"\")","v":""},{"$f":"_xlfn.IFNA(IF(INDEX(VLC!J:J,MATCH(401+ROW(A18)-1,VLC!V:V,0))=\"x\",_xlfn.IFNA(INDEX(VLC!J:J,MATCH(401+ROW(A18)-1,VLC!V:V,0)),\"\"),\"\"),\"\")","v":""},{"$f":"_xlfn.IFNA(IF(INDEX(VLC!J:J,MATCH(441+ROW(A18)-1,VLC!V:V,0))=\"x\",_xlfn.IFNA(INDEX(VLC!J:J,MATCH(441+ROW(A18)-1,VLC!V:V,0)),\"\"),\"\"),\"\")","v":""},4018,4058]
["SK Teilnehmer 19",{"$f":"_xlfn.IFNA(INDEX(VLC!A:A,MATCH(419,VLC!V:V,0)),\"\")","v":""},{"$f":"_xlfn.IFNA(INDEX(VLC!A:A,MATCH(459,VLC!V:V,0)),\"\")","v":""},{"$f":"_xlfn.IFNA(INDEX(VLC!B:B,MATCH(401+ROW(A19)-1,VLC!V:V,0)),\"\")","v":""},{"$f":"_xlfn.IFNA(INDEX(VLC!C:C,MATCH(401+ROW(A19)-1,VLC!V:V,0)),\"\")","v":""},{"$f":"_xlfn.IFNA(IF(INDEX(VLC!H:H,MATCH(401+ROW(A19)-1,VLC!V:V,0))=\"x\",_xlfn.IFNA(INDEX(VLC!H:H,MATCH(401+ROW(A19)-1,VLC!V:V,0)),\"\"),\"\"),\"\")","v":""},{"$f":"_xlfn.IFNA(IF(INDEX(VLC!H:H,MATCH(441+ROW(A19)-1,VLC!V:V,0))=\"x\",_xlfn.IFNA(INDEX(VLC!H:H,MATCH(441+ROW(A19)-1,VLC!V:V,0)),\"\"),\"\"),\"\")","v":""},{"$f":"_xlfn.IFNA(IF(INDEX(VLC!I:I,MATCH(401+ROW(A19)-1,VLC!V:V,0))<>\"\",_xlfn.IFNA(INDEX(VLC!I:I,MATCH(401+ROW(A19)-1,VLC!V:V,0)),\"\"),\"\"),\"\")","v":""},{"$f":"_xlfn.IFNA(IF(INDEX(VLC!I:I,MATCH(441+ROW(A19)-1,VLC!V:V,0))<>\"\",_xlfn.IFNA(INDEX(VLC!I:I,MATCH(441+ROW(A19)-1,VLC!V:V,0)),\"\"),\"\"),\"\")","v":""},{"$f":"_xlfn.IFNA(IF(INDEX(VLC!J:J,MATCH(401+ROW(A19)-1,VLC!V:V,0))=\"x\",_xlfn.IFNA(INDEX(VLC!J:J,MATCH(401+ROW(A19)-1,VLC!V:V,0)),\"\"),\"\"),\"\")","v":""},{"$f":"_xlfn.IFNA(IF(INDEX(VLC!J:J,MATCH(441+ROW(A19)-1,VLC!V:V,0))=\"x\",_xlfn.IFNA(INDEX(VLC!J:J,MATCH(441+ROW(A19)-1,VLC!V:V,0)),\"\"),\"\"),\"\")","v":""},4019,4059]
["SK Teilnehmer 20",{"$f":"_xlfn.IFNA(INDEX(VLC!A:A,MATCH(420,VLC!V:V,0)),\"\")","v":""},{"$f":"_xlfn.IFNA(INDEX(VLC!A:A,MATCH(460,VLC!V:V,0)),\"\")","v":""},{"$f":"_xlfn.IFNA(INDEX(VLC!B:B,MATCH(401+ROW(A20)-1,VLC!V:V,0)),\"\")","v":""},{"$f":"_xlfn.IFNA(INDEX(VLC!C:C,MATCH(401+ROW(A20)-1,VLC!V:V,0)),\"\")","v":""},{"$f":"_xlfn.IFNA(IF(INDEX(VLC!H:H,MATCH(401+ROW(A20)-1,VLC!V:V,0))=\"x\",_xlfn.IFNA(INDEX(VLC!H:H,MATCH(401+ROW(A20)-1,VLC!V:V,0)),\"\"),\"\"),\"\")","v":""},{"$f":"_xlfn.IFNA(IF(INDEX(VLC!H:H,MATCH(441+ROW(A20)-1,VLC!V:V,0))=\"x\",_xlfn.IFNA(INDEX(VLC!H:H,MATCH(441+ROW(A20)-1,VLC!V:V,0)),\"\"),\"\"),\"\")","v":""},{"$f":"_xlfn.IFNA(IF(INDEX(VLC!I:I,MATCH(401+ROW(A20)-1,VLC!V:V,0))<>\"\",_xlfn.IFNA(INDEX(VLC!I:I,MATCH(401+ROW(A20)-1,VLC!V:V,0)),\"\"),\"\"),\"\")","v":""},{"$f":"_xlfn.IFNA(IF(INDEX(VLC!I:I,MATCH(441+ROW(A20)-1,VLC!V:V,0))<>\"\",_xlfn.IFNA(INDEX(VLC!I:I,MATCH(441+ROW(A20)-1,VLC!V:V,0)),\"\"),\"\"),\"\")","v":""},{"$f":"_xlfn.IFNA(IF(INDEX(VLC!J:J,MATCH(401+ROW(A20)-1,VLC!V:V,0))=\"x\",_xlfn.IFNA(INDEX(VLC!J:J,MATCH(401+ROW(A20)-1,VLC!V:V,0)),\"\"),\"\"),\"\")","v":""},{"$f":"_xlfn.IFNA(IF(INDEX(VLC!J:J,MATCH(441+ROW(A20)-1,VLC!V:V,0))=\"x\",_xlfn.IFNA(INDEX(VLC!J:J,MATCH(441+ROW(A20)-1,VLC!V:V,0)),\"\"),\"\"),\"\")","v":""},4020,4060]
["Gerätename:",{"$f":"$B$6","v":0},null,null,"PLC24 Stromkreis-Nummer: 5"]
["Stromkreis-Bezeichnung:"]
["Stromkreisbelegung","ID 1","ID 2","Bezeichnung","Zusatzinfo","DL",null,"GL",null,"BL"]
[null,null,null,null,null,"ID1","ID2","ID1","ID2","ID1","ID2"]
["SK Teilnehmer 1",{"$f":"_xlfn.IFNA(INDEX(VLC!A:A,MATCH(501,VLC!V:V,0)),\"\")","v":""},{"$f":"_xlfn.IFNA(INDEX(VLC!A:A,MATCH(541,VLC!V:V,0)),\"\")","v":""},{"$f":"_xlfn.IFNA(INDEX(VLC!B:B,MATCH(501+ROW(A1)-1,VLC!V:V,0)),\"\")","v":""},{"$f":"_xlfn.IFNA(INDEX(VLC!C:C,MATCH(501+ROW(A1)-1,VLC!V:V,0)),\"\")","v":""},{"$f":"_xlfn.IFNA(IF(INDEX(VLC!H:H,MATCH(501+ROW(A1)-1,VLC!V:V,0))=\"x\",_xlfn.IFNA(INDEX(VLC!H:H,MATCH(501+ROW(A1)-1,VLC!V:V,0)),\"\"),\"\"),\"\")","v":""},{"$f":"_xlfn.IFNA(IF(INDEX(VLC!H:H,MATCH(541+ROW(A1)-1,VLC!V:V,0))=\"x\",_xlfn.IFNA(INDEX(VLC!H:H,MATCH(541+ROW(A1)-1,VLC!V:V,0)),\"\"),\"\"),\"\")","v":""},{"$f":"_xlfn.IFNA(IF(INDEX(VLC!I:I,MATCH(501+ROW(A1)-1,VLC!V:V,0))<>\"\",_xlfn.IFNA(INDEX(VLC!I:I,MATCH(501+ROW(A1)-1,VLC!V:V,0)),\"\"),\"\"),\"\")","v":""},{"$f":"_xlfn.IFNA(IF(INDEX(VLC!I:I,MATCH(541+ROW(A1)-1,VLC!V:V,0))<>\"\",_xlfn.IFNA(INDEX(VLC!I:I,MATCH(541+ROW(A1)-1,VLC!V:V,0)),\"\"),\"\"),\"\")","v":""},{"$f":"_xlfn.IFNA(IF(INDEX(VLC!J:J,MATCH(501+ROW(A1)-1,VLC!V:V,0))=\"x\",_xlfn.IFNA(INDEX(VLC!J:J,MATCH(501+ROW(A1)-1,VLC!V:V,0)),\"\"),\"\"),\"\")","v":""},{"$f":"_xlfn.IFNA(IF(INDEX(VLC!J:J,MATCH(541+ROW(A1)-1,VLC!V:V,0))=\"x\",_xlfn.IFNA(INDEX(VLC!J:J,MATCH(541+ROW(A1)-1,VLC!V:V,0)),\"\"),\"\"),\"\")","v":""},{"$f":"5000+ROW(A106)-105","v":5001},{"$f":"L106+40","v":5041}]
["SK Teilnehmer 2",{"$f":"_xlfn.IFNA(INDEX(VLC!A:A,MATCH(502,VLC!V:V,0)),\"\")","v":""},{"$f":"_xlfn.IFNA(INDEX(VLC!A:A,MATCH(542,VLC!V:V,0)),\"\")","v":""},{"$f":"_xlfn.IFNA(INDEX(VLC!B:B,MATCH(501+ROW(A2)-1,VLC!V:V,0)),\"\")","v":""},{"$f":"_xlfn.IFNA(INDEX(VLC!C:C,MATCH(501+ROW(A2)-1,VLC!V:V,0)),\"\")","v":""},{"$f":"_xlfn.IFNA(IF(INDEX(VLC!H:H,MATCH(501+ROW(A2)-1,VLC!V:V,0))=\"x\",_xlfn.IFNA(INDEX(VLC!H:H,MATCH(501+ROW(A2)-1,VLC!V:V,0)),\"\"),\"\"),\"\")","v":""},{"$f":"_xlfn.IFNA(IF(INDEX(VLC!H:H,MATCH(541+ROW(A2)-1,VLC!V:V,0))=\"x\",_xlfn.IFNA(INDEX(VLC!H:H,MATCH(541+ROW(A2)-1,VLC!V:V,0)),\"\"),\"\"),\"\")","v":""},{"$f":"_xlfn.IFNA(IF(INDEX(VLC!I:I,MATCH(501+ROW(A2)-1,VLC!V:V,0))<>\"\",_xlfn.IFNA(INDEX(VLC!I:I,MATCH(501+ROW(A2)-1,VLC!V:V,0)),\"\"),\"\"),\"\")","v":""},{"$f":"_xlfn.IFNA(IF(INDEX(VLC!I:I,MATCH(541+ROW(A2)-1,VLC!V:V,0))<>\"\",_xlfn.IFNA(INDEX(VLC!I:I,MATCH(541+ROW(A2)-1,VLC!V:V,0)),\"\"),\"\"),\"\")","v":""},{"$f":"_xlfn.IFNA(IF(INDEX(VLC!J:J,MATCH(501+ROW(A2)-1,VLC!V:V,0))=\"x\",_xlfn.IFNA(INDEX(VLC!J:J,MATCH(501+ROW(A2)-1,VLC!V:V,0)),\"\"),\"\"),\"\")","v":""},{"$f":"_xlfn.IFNA(IF(INDEX(VLC!J:J,MATCH(541+ROW(A2)-1,VLC!V:V,0))=\"x\",_xlfn.IFNA(INDEX(VLC!J:J,MATCH(541+ROW(A2)-1,VLC!V:V,0)),\"\"),\"\"),\"\")","v":""},{"$f":"5000+ROW(A107)-105","v":5002},{"$f":"L107+40","v":5042}]
["SK Teilnehmer 3",{"$f":"_xlfn.IFNA(INDEX(VLC!A:A,MATCH(503,VLC!V:V,0)),\"\")","v":""},{"$f":"_xlfn.IFNA(INDEX(VLC!A:A,MATCH(543,VLC!V:V,0)),\"\")","v":""},{"$f":"_xlfn.IFNA(INDEX(VLC!B:B,MATCH(501+ROW(A3)-1,VLC!V:V,0)),\"\")","v":""},{"$f":"_xlfn.IFNA(INDEX(VLC!C:C,MATCH(501+ROW(A3)-1,VLC!V:V,0)),\"\")","v":""},{"$f":"_xlfn.IFNA(IF(INDEX(VLC!H:H,MATCH(501+ROW(A3)-1,VLC!V:V,0))=\"x\",_xlfn.IFNA(INDEX(VLC!H:H,MATCH(501+ROW(A3)-1,VLC!V:V,0)),\"\"),\"\"),\"\")","v":""},{"$f":"_xlfn.IFNA(IF(INDEX(VLC!H:H,MATCH(541+ROW(A3)-1,VLC!V:V,0))=\"x\",_xlfn.IFNA(INDEX(VLC!H:H,MATCH(541+ROW(A3)-1,VLC!V:V,0)),\"\"),\"\"),\"\")","v":""},{"$f":"_xlfn.IFNA(IF(INDEX(VLC!I:I,MATCH(501+ROW(A3)-1,VLC!V:V,0))<>\"\",_xlfn.IFNA(INDEX(VLC!I:I,MATCH(501+ROW(A3)-1,VLC!V:V,0)),\"\"),\"\"),\"\")","v":""},{"$f":"_xlfn.IFNA(IF(INDEX(VLC!I:I,MATCH(541+ROW(A3)-1,VLC!V:V,0))<>\"\",_xlfn.IFNA(INDEX(VLC!I:I,MATCH(541+ROW(A3)-1,VLC!V:V,0)),\"\"),\"\"),\"\")","v":""},{"$f":"_xlfn.IFNA(IF(INDEX(VLC!J:J,MATCH(501+ROW(A3)-1,VLC!V:V,0))=\"x\",_xlfn.IFNA(INDEX(VLC!J:J,MATCH(501+ROW(A3)-1,VLC!V:V,0)),\"\"),\"\"),\"\")","v":""},{"$f":"_xlfn.IFNA(IF(INDEX(VLC!J:J,MATCH(541+ROW(A3)-1,VLC!V:V,0))=\"x\",_xlfn.IFNA(INDEX(VLC!J:J,MATCH(541+ROW(A3)-1,VLC!V:V,0)),\"\"),\"\"),\"\")","v":""},5003,5043]
["SK Teilnehmer 4",{"$f":"_xlfn.IFNA(INDEX(VLC!A:A,MATCH(504,VLC!V:V,0)),\"\")","v":""},{"$f":"_xlfn.IFNA(INDEX(VLC!A:A,MATCH(544,VLC!V:V,0)),\"\")","v":""},{"$f":"_xlfn.IFNA(INDEX(VLC!B:B,MATCH(501+ROW(A4)-1,VLC!V:V,0)),\"\")","v":""},{"$f":"_xlfn.IFNA(INDEX(VLC!C:C,MATCH(501+ROW(A4)-1,VLC!V:V,0)),\"\")","v":""},{"$f":"_xlfn.IFNA(IF(INDEX(VLC!H:H,MATCH(501+ROW(A4)-1,VLC!V:V,0))=\"x\",_xlfn.IFNA(INDEX(VLC!H:H,MATCH(501+ROW(A4)-1,VLC!V:V,0)),\"\"),\"\"),\"\")","v":""},{"$f":"_xlfn.IFNA(IF(INDEX(VLC!H:H,MATCH(541+ROW(A4)-1,VLC!V:V,0))=\"x\",_xlfn.IFNA(INDEX(VLC!H:H,MATCH(541+ROW(A4)-1,VLC!V:V,0)),\"\"),\"\"),\"\")","v":""},{"$f":"_xlfn.IFNA(IF(INDEX(VLC!I:I,MATCH(501+ROW(A4)-1,VLC!V:V,0))<>\"\",_xlfn.IFNA(INDEX(VLC!I:I,MATCH(501+ROW(A4)-1,VLC!V:V,0)),\"\"),\"\"),\"\")","v":""},{"$f":"_xlfn.IFNA(IF(INDEX(VLC!I:I,MATCH(541+ROW(A4)-1,VLC!V:V,0))<>\"\",_xlfn.IFNA(INDEX(VLC!I:I,MATCH(541+ROW(A4)-1,VLC!V:V,0)),\"\"),\"\"),\"\")","v":""},{"$f":"_xlfn.IFNA(IF(INDEX(VLC!J:J,MATCH(501+ROW(A4)-1,VLC!V:V,0))=\"x\",_xlfn.IFNA(INDEX(VLC!J:J,MATCH(501+ROW(A4)-1,VLC!V:V,0)),\"\"),\"\"),\"\")","v":""},{"$f":"_xlfn.IFNA(IF(INDEX(VLC!J:J,MATCH(541+ROW(A4)-1,VLC!V:V,0))=\"x\",_xlfn.IFNA(INDEX(VLC!J:J,MATCH(541+ROW(A4)-1,VLC!V:V,0)),\"\"),\"\"),\"\")","v":""},5004,5044]
["SK Teilnehmer 5",{"$f":"_xlfn.IFNA(INDEX(VLC!A:A,MATCH(505,VLC!V:V,0)),\"\")","v":""},{"$f":"_xlfn.IFNA(INDEX(VLC!A:A,MATCH(545,VLC!V:V,0)),\"\")","v":""},{"$f":"_xlfn.IFNA(INDEX(VLC!B:B,MATCH(501+ROW(A5)-1,VLC!V:V,0)),\"\")","v":""},{"$f":"_xlfn.IFNA(INDEX(VLC!C:C,MATCH(501+ROW(A5)-1,VLC!V:V,0)),\"\")","v":""},{"$f":"_xlfn.IFNA(IF(INDEX(VLC!H:H,MATCH(501+ROW(A5)-1,VLC!V:V,0))=\"x\",_xlfn.IFNA(INDEX(VLC!H:H,MATCH(501+ROW(A5)-1,VLC!V:V,0)),\"\"),\"\"),\"\")","v":""},{"$f":"_xlfn.IFNA(IF(INDEX(VLC!H:H,MATCH(541+ROW(A5)-1,VLC!V:V,0))=\"x\",_xlfn.IFNA(INDEX(VLC!H:H,MATCH(541+ROW(A5)-1,VLC!V:V,0)),\"\"),\"\"),\"\")","v":""},{"$f":"_xlfn.IFNA(IF(INDEX(VLC!I:I,MATCH(501+ROW(A5)-1,VLC!V:V,0))<>\"\",_xlfn.IFNA(INDEX(VLC!I:I,MATCH(501+ROW(A5)-1,VLC!V:V,0)),\"\"),\"\"),\"\")","v":""},{"$f":"_xlfn.IFNA(IF(INDEX(VLC!I:I,MATCH(541+ROW(A5)-1,VLC!V:V,0))<>\"\",_xlfn.IFNA(INDEX(VLC!I:I,MATCH(541+ROW(A5)-1,VLC!V:V,0)),\"\"),\"\"),\"\")","v":""},{"$f":"_xlfn.IFNA(IF(INDEX(VLC!J:J,MATCH(501+ROW(A5)-1,VLC!V:V,0))=\"x\",_xlfn.IFNA(INDEX(VLC!J:J,MATCH(501+ROW(A5)-1,VLC!V:V,0)),\"\"),\"\"),\"\")","v":""},{"$f":"_xlfn.IFNA(IF(INDEX(VLC!J:J,MATCH(541+ROW(A5)-1,VLC!V:V,0))=\"x\",_xlfn.IFNA(INDEX(VLC!J:J,MATCH(541+ROW(A5)-1,VLC!V:V,0)),\"\"),\"\"),\"\")","v":""},5005,5045]
["SK Teilnehmer 6",{"$f":"_xlfn.IFNA(INDEX(VLC!A:A,MATCH(506,VLC!V:V,0)),\"\")","v":""},{"$f":"_xlfn.IFNA(INDEX(VLC!A:A,MATCH(546,VLC!V:V,0)),\"\")","v":""},{"$f":"_xlfn.IFNA(INDEX(VLC!B:B,MATCH(501+ROW(A6)-1,VLC!V:V,0)),\"\")","v":""},{"$f":"_xlfn.IFNA(INDEX(VLC!C:C,MATCH(501+ROW(A6)-1,VLC!V:V,0)),\"\")","v":""},{"$f":"_xlfn.IFNA(IF(INDEX(VLC!H:H,MATCH(501+ROW(A6)-1,VLC!V:V,0))=\"x\",_xlfn.IFNA(INDEX(VLC!H:H,MATCH(501+ROW(A6)-1,VLC!V:V,0)),\"\"),\"\"),\"\")","v":""},{"$f":"_xlfn.IFNA(IF(INDEX(VLC!H:H,MATCH(541+ROW(A6)-1,VLC!V:V,0))=\"x\",_xlfn.IFNA(INDEX(VLC!H:H,MATCH(541+ROW(A6)-1,VLC!V:V,0)),\"\"),\"\"),\"\")","v":""},{"$f":"_xlfn.IFNA(IF(INDEX(VLC!I:I,MATCH(501+ROW(A6)-1,VLC!V:V,0))<>\"\",_xlfn.IFNA(INDEX(VLC!I:I,MATCH(501+ROW(A6)-1,VLC!V:V,0)),\"\"),\"\"),\"\")","v":""},{"$f":"_xlfn.IFNA(IF(INDEX(VLC!I:I,MATCH(541+ROW(A6)-1,VLC!V:V,0))<>\"\",_xlfn.IFNA(INDEX(VLC!I:I,MATCH(541+ROW(A6)-1,VLC!V:V,0)),\"\"),\"\"),\"\")","v":""},{"$f":"_xlfn.IFNA(IF(INDEX(VLC!J:J,MATCH(501+ROW(A6)-1,VLC!V:V,0))=\"x\",_xlfn.IFNA(INDEX(VLC!J:J,MATCH(501+ROW(A6)-1,VLC!V:V,0)),\"\"),\"\"),\"\")","v":""},{"$f":"_xlfn.IFNA(IF(INDEX(VLC!J:J,MATCH(541+ROW(A6)-1,VLC!V:V,0))=\"x\",_xlfn.IFNA(INDEX(VLC!J:J,MATCH(541+ROW(A6)-1,VLC!V:V,0)),\"\"),\"\"),\"\")","v":""},5006,5046]
["SK Teilnehmer 7",{"$f":"_xlfn.IFNA(INDEX(VLC!A:A,MATCH(507,VLC!V:V,0)),\"\")","v":""},{"$f":"_xlfn.IFNA(INDEX(VLC!A:A,MATCH(547,VLC!V:V,0)),\"\")","v":""},{"$f":"_xlfn.IFNA(INDEX(VLC!B:B,MATCH(501+ROW(A7)-1,VLC!V:V,0)),\"\")","v":""},{"$f":"_xlfn.IFNA(INDEX(VLC!C:C,MATCH(501+ROW(A7)-1,VLC!V:V,0)),\"\")","v":""},{"$f":"_xlfn.IFNA(IF(INDEX(VLC!H:H,MATCH(501+ROW(A7)-1,VLC!V:V,0))=\"x\",_xlfn.IFNA(INDEX(VLC!H:H,MATCH(501+ROW(A7)-1,VLC!V:V,0)),\"\"),\"\"),\"\")","v":""},{"$f":"_xlfn.IFNA(IF(INDEX(VLC!H:H,MATCH(541+ROW(A7)-1,VLC!V:V,0))=\"x\",_xlfn.IFNA(INDEX(VLC!H:H,MATCH(541+ROW(A7)-1,VLC!V:V,0)),\"\"),\"\"),\"\")","v":""},{"$f":"_xlfn.IFNA(IF(INDEX(VLC!I:I,MATCH(501+ROW(A7)-1,VLC!V:V,0))<>\"\",_xlfn.IFNA(INDEX(VLC!I:I,MATCH(501+ROW(A7)-1,VLC!V:V,0)),\"\"),\"\"),\"\")","v":""},{"$f":"_xlfn.IFNA(IF(INDEX(VLC!I:I,MATCH(541+ROW(A7)-1,VLC!V:V,0))<>\"\",_xlfn.IFNA(INDEX(VLC!I:I,MATCH(541+ROW(A7)-1,VLC!V:V,0)),\"\"),\"\"),\"\")","v":""},{"$f":"_xlfn.IFNA(IF(INDEX(VLC!J:J,MATCH(501+ROW(A7)-1,VLC!V:V,0))=\"x\",_xlfn.IFNA(INDEX(VLC!J:J,MATCH(501+ROW(A7)-1,VLC!V:V,0)),\"\"),\"\"),\"\")","v":""},{"$f":"_xlfn.IFNA(IF(INDEX(VLC!J:J,MATCH(541+ROW(A7)-1,VLC!V:V,0))=\"x\",_xlfn.IFNA(INDEX(VLC!J:J,MATCH(541+ROW(A7)-1,VLC!V:V,0)),\"\"),\"\"),\"\")","v":""},5007,5047]
["SK Teilnehmer 8",{"$f":"_xlfn.IFNA(INDEX(VLC!A:A,MATCH(508,VLC!V:V,0)),\"\")","v":""},{"$f":"_xlfn.IFNA(INDEX(VLC!A:A,MATCH(548,VLC!V:V,0)),\"\")","v":""},{"$f":"_xlfn.IFNA(INDEX(VLC!B:B,MATCH(501+ROW(A8)-1,VLC!V:V,0)),\"\")","v":""},{"$f":"_xlfn.IFNA(INDEX(VLC!C:C,MATCH(501+ROW(A8)-1,VLC!V:V,0)),\"\")","v":""},{"$f":"_xlfn.IFNA(IF(INDEX(VLC!H:H,MATCH(501+ROW(A8)-1,VLC!V:V,0))=\"x\",_xlfn.IFNA(INDEX(VLC!H:H,MATCH(501+ROW(A8)-1,VLC!V:V,0)),\"\"),\"\"),\"\")","v":""},{"$f":"_xlfn.IFNA(IF(INDEX(VLC!H:H,MATCH(541+ROW(A8)-1,VLC!V:V,0))=\"x\",_xlfn.IFNA(INDEX(VLC!H:H,MATCH(541+ROW(A8)-1,VLC!V:V,0)),\"\"),\"\"),\"\")","v":""},{"$f":"_xlfn.IFNA(IF(INDEX(VLC!I:I,MATCH(501+ROW(A8)-1,VLC!V:V,0))<>\"\",_xlfn.IFNA(INDEX(VLC!I:I,MATCH(501+ROW(A8)-1,VLC!V:V,0)),\"\"),\"\"),\"\")","v":""},{"$f":"_xlfn.IFNA(IF(INDEX(VLC!I:I,MATCH(541+ROW(A8)-1,VLC!V:V,0))<>\"\",_xlfn.IFNA(INDEX(VLC!I:I,MATCH(541+ROW(A8)-1,VLC!V:V,0)),\"\"),\"\"),\"\")","v":""},{"$f":"_xlfn.IFNA(IF(INDEX(VLC!J:J,MATCH(501+ROW(A8)-1,VLC!V:V,0))=\"x\",_xlfn.IFNA(INDEX(VLC!J:J,MATCH(501+ROW(A8)-1,VLC!V:V,0)),\"\"),\"\"),\"\")","v":""},{"$f":"_xlfn.IFNA(IF(INDEX(VLC!J:J,MATCH(541+ROW(A8)-1,VLC!V:V,0))=\"x\",_xlfn.IFNA(INDEX(VLC!J:J,MATCH(541+ROW(A8)-1,VLC!V:V,0)),\"\"),\"\"),\"\")","v":""},5008,5048]
["SK Teilnehmer 9",{"$f":"_xlfn.IFNA(INDEX(VLC!A:A,MATCH(509,VLC!V:V,0)),\"\")","v":""},{"$f":"_xlfn.IFNA(INDEX(VLC!A:A,MATCH(549,VLC!V:V,0)),\"\")","v":""},{"$f":"_xlfn.IFNA(INDEX(VLC!B:B,MATCH(501+ROW(A9)-1,VLC!V:V,0)),\"\")","v":""},{"$f":"_xlfn.IFNA(INDEX(VLC!C:C,MATCH(501+ROW(A9)-1,VLC!V:V,0)),\"\")","v":""},{"$f":"_xlfn.IFNA(IF(INDEX(VLC!H:H,MATCH(501+ROW(A9)-1,VLC!V:V,0))=\"x\",_xlfn.IFNA(INDEX(VLC!H:H,MATCH(501+ROW(A9)-1,VLC!V:V,0)),\"\"),\"\"),\"\")","v":""},{"$f":"_xlfn.IFNA(IF(INDEX(VLC!H:H,MATCH(541+ROW(A9)-1,VLC!V:V,0))=\"x\",_xlfn.IFNA(INDEX(VLC!H:H,MATCH(541+ROW(A9)-1,VLC!V:V,0)),\"\"),\"\"),\"\")","v":""},{"$f":"_xlfn.IFNA(IF(INDEX(VLC!I:I,MATCH(501+ROW(A9)-1,VLC!V:V,0))<>\"\",_xlfn.IFNA(INDEX(VLC!I:I,MATCH(501+ROW(A9)-1,VLC!V:V,0)),\"\"),\"\"),\"\")","v":""},{"$f":"_xlfn.IFNA(IF(INDEX(VLC!I:I,MATCH(541+ROW(A9)-1,VLC!V:V,0))<>\"\",_xlfn.IFNA(INDEX(VLC!I:I,MATCH(541+ROW(A9)-1,VLC!V:V,0)),\"\"),\"\"),\"\")","v":""},{"$f":"_xlfn.IFNA(IF(INDEX(VLC!J:J,MATCH(501+ROW(A9)-1,VLC!V:V,0))=\"x\",_xlfn.IFNA(INDEX(VLC!J:J,MATCH(501+ROW(A9)-1,VLC!V:V,0)),\"\"),\"\"),\"\")","v":""},{"$f":"_xlfn.IFNA(IF(INDEX(VLC!J:J,MATCH(541+ROW(A9)-1,VLC!V:V,0))=\"x\",_xlfn.IFNA(INDEX(VLC!J:J,MATCH(541+ROW(A9)-1,VLC!V:V,0)),\"\"),\"\"),\"\")","v":""},5009,5049]
["SK Teilnehmer 10",{"$f":"_xlfn.IFNA(INDEX(VLC!A:A,MATCH(510,VLC!V:V,0)),\"\")","v":""},{"$f":"_xlfn.IFNA(INDEX(VLC!A:A,MATCH(550,VLC!V:V,0)),\"\")","v":""},{"$f":"_xlfn.IFNA(INDEX(VLC!B:B,MATCH(501+ROW(A10)-1,VLC!V:V,0)),\"\")","v":""},{"$f":"_xlfn.IFNA(INDEX(VLC!C:C,MATCH(501+ROW(A10)-1,VLC!V:V,0)),\"\")","v":""},{"$f":"_xlfn.IFNA(IF(INDEX(VLC!H:H,MATCH(501+ROW(A10)-1,VLC!V:V,0))=\"x\",_xlfn.IFNA(INDEX(VLC!H:H,MATCH(501+ROW(A10)-1,VLC!V:V,0)),\"\"),\"\"),\"\")","v":""},{"$f":"_xlfn.IFNA(IF(INDEX(VLC!H:H,MATCH(541+ROW(A10)-1,VLC!V:V,0))=\"x\",_xlfn.IFNA(INDEX(VLC!H:H,MATCH(541+ROW(A10)-1,VLC!V:V,0)),\"\"),\"\"),\"\")","v":""},{"$f":"_xlfn.IFNA(IF(INDEX(VLC!I:I,MATCH(501+ROW(A10)-1,VLC!V:V,0))<>\"\",_xlfn.IFNA(INDEX(VLC!I:I,MATCH(501+ROW(A10)-1,VLC!V:V,0)),\"\"),\"\"),\"\")","v":""},{"$f":"_xlfn.IFNA(IF(INDEX(VLC!I:I,MATCH(541+ROW(A10)-1,VLC!V:V,0))<>\"\",_xlfn.IFNA(INDEX(VLC!I:I,MATCH(541+ROW(A10)-1,VLC!V:V,0)),\"\"),\"\"),\"\")","v":""},{"$f":"_xlfn.IFNA(IF(INDEX(VLC!J:J,MATCH(501+ROW(A10)-1,VLC!V:V,0))=\"x\",_xlfn.IFNA(INDEX(VLC!J:J,MATCH(501+ROW(A10)-1,VLC!V:V,0)),\"\"),\"\"),\"\")","v":""},{"$f":"_xlfn.IFNA(IF(INDEX(VLC!J:J,MATCH(541+ROW(A10)-1,VLC!V:V,0))=\"x\",_xlfn.IFNA(INDEX(VLC!J:J,MATCH(541+ROW(A10)-1,VLC!V:V,0)),\"\"),\"\"),\"\")","v":""},5010,5050]
["SK Teilnehmer 11",{"$f":"_xlfn.IFNA(INDEX(VLC!A:A,MATCH(511,VLC!V:V,0)),\"\")","v":""},{"$f":"_xlfn.IFNA(INDEX(VLC!A:A,MATCH(551,VLC!V:V,0)),\"\")","v":""},{"$f":"_xlfn.IFNA(INDEX(VLC!B:B,MATCH(501+ROW(A11)-1,VLC!V:V,0)),\"\")","v":""},{"$f":"_xlfn.IFNA(INDEX(VLC!C:C,MATCH(501+ROW(A11)-1,VLC!V:V,0)),\"\")","v":""},{"$f":"_xlfn.IFNA(IF(INDEX(VLC!H:H,MATCH(501+ROW(A11)-1,VLC!V:V,0))=\"x\",_xlfn.IFNA(INDEX(VLC!H:H,MATCH(501+ROW(A11)-1,VLC!V:V,0)),\"\"),\"\"),\"\")","v":""},{"$f":"_xlfn.IFNA(IF(INDEX(VLC!H:H,MATCH(541+ROW(A11)-1,VLC!V:V,0))=\"x\",_xlfn.IFNA(INDEX(VLC!H:H,MATCH(541+ROW(A11)-1,VLC!V:V,0)),\"\"),\"\"),\"\")","v":""},{"$f":"_xlfn.IFNA(IF(INDEX(VLC!I:I,MATCH(501+ROW(A11)-1,VLC!V:V,0))<>\"\",_xlfn.IFNA(INDEX(VLC!I:I,MATCH(501+ROW(A11)-1,VLC!V:V,0)),\"\"),\"\"),\"\")","v":""},{"$f":"_xlfn.IFNA(IF(INDEX(VLC!I:I,MATCH(541+ROW(A11)-1,VLC!V:V,0))<>\"\",_xlfn.IFNA(INDEX(VLC!I:I,MATCH(541+ROW(A11)-1,VLC!V:V,0)),\"\"),\"\"),\"\")","v":""},{"$f":"_xlfn.IFNA(IF(INDEX(VLC!J:J,MATCH(501+ROW(A11)-1,VLC!V:V,0))=\"x\",_xlfn.IFNA(INDEX(VLC!J:J,MATCH(501+ROW(A11)-1,VLC!V:V,0)),\"\"),\"\"),\"\")","v":""},{"$f":"_xlfn.IFNA(IF(INDEX(VLC!J:J,MATCH(541+ROW(A11)-1,VLC!V:V,0))=\"x\",_xlfn.IFNA(INDEX(VLC!J:J,MATCH(541+ROW(A11)-1,VLC!V:V,0)),\"\"),\"\"),\"\")","v":""},5011,5051]
["SK Teilnehmer 12",{"$f":"_xlfn.IFNA(INDEX(VLC!A:A,MATCH(512,VLC!V:V,0)),\"\")","v":""},{"$f":"_xlfn.IFNA(INDEX(VLC!A:A,MATCH(552,VLC!V:V,0)),\"\")","v":""},{"$f":"_xlfn.IFNA(INDEX(VLC!B:B,MATCH(501+ROW(A12)-1,VLC!V:V,0)),\"\")","v":""},{"$f":"_xlfn.IFNA(INDEX(VLC!C:C,MATCH(501+ROW(A12)-1,VLC!V:V,0)),\"\")","v":""},{"$f":"_xlfn.IFNA(IF(INDEX(VLC!H:H,MATCH(501+ROW(A12)-1,VLC!V:V,0))=\"x\",_xlfn.IFNA(INDEX(VLC!H:H,MATCH(501+ROW(A12)-1,VLC!V:V,0)),\"\"),\"\"),\"\")","v":""},{"$f":"_xlfn.IFNA(IF(INDEX(VLC!H:H,MATCH(541+ROW(A12)-1,VLC!V:V,0))=\"x\",_xlfn.IFNA(INDEX(VLC!H:H,MATCH(541+ROW(A12)-1,VLC!V:V,0)),\"\"),\"\"),\"\")","v":""},{"$f":"_xlfn.IFNA(IF(INDEX(VLC!I:I,MATCH(501+ROW(A12)-1,VLC!V:V,0))<>\"\",_xlfn.IFNA(INDEX(VLC!I:I,MATCH(501+ROW(A12)-1,VLC!V:V,0)),\"\"),\"\"),\"\")","v":""},{"$f":"_xlfn.IFNA(IF(INDEX(VLC!I:I,MATCH(541+ROW(A12)-1,VLC!V:V,0))<>\"\",_xlfn.IFNA(INDEX(VLC!I:I,MATCH(541+ROW(A12)-1,VLC!V:V,0)),\"\"),\"\"),\"\")","v":""},{"$f":"_xlfn.IFNA(IF(INDEX(VLC!J:J,MATCH(501+ROW(A12)-1,VLC!V:V,0))=\"x\",_xlfn.IFNA(INDEX(VLC!J:J,MATCH(501+ROW(A12)-1,VLC!V:V,0)),\"\"),\"\"),\"\")","v":""},{"$f":"_xlfn.IFNA(IF(INDEX(VLC!J:J,MATCH(541+ROW(A12)-1,VLC!V:V,0))=\"x\",_xlfn.IFNA(INDEX(VLC!J:J,MATCH(541+ROW(A12)-1,VLC!V:V,0)),\"\"),\"\"),\"\")","v":""},5012,5052]
["SK Teilnehmer 13",{"$f":"_xlfn.IFNA(INDEX(VLC!A:A,MATCH(513,VLC!V:V,0)),\"\")","v":""},{"$f":"_xlfn.IFNA(INDEX(VLC!A:A,MATCH(553,VLC!V:V,0)),\"\")","v":""},{"$f":"_xlfn.IFNA(INDEX(VLC!B:B,MATCH(501+ROW(A13)-1,VLC!V:V,0)),\"\")","v":""},{"$f":"_xlfn.IFNA(INDEX(VLC!C:C,MATCH(501+ROW(A13)-1,VLC!V:V,0)),\"\")","v":""},{"$f":"_xlfn.IFNA(IF(INDEX(VLC!H:H,MATCH(501+ROW(A13)-1,VLC!V:V,0))=\"x\",_xlfn.IFNA(INDEX(VLC!H:H,MATCH(501+ROW(A13)-1,VLC!V:V,0)),\"\"),\"\"),\"\")","v":""},{"$f":"_xlfn.IFNA(IF(INDEX(VLC!H:H,MATCH(541+ROW(A13)-1,VLC!V:V,0))=\"x\",_xlfn.IFNA(INDEX(VLC!H:H,MATCH(541+ROW(A13)-1,VLC!V:V,0)),\"\"),\"\"),\"\")","v":""},{"$f":"_xlfn.IFNA(IF(INDEX(VLC!I:I,MATCH(501+ROW(A13)-1,VLC!V:V,0))<>\"\",_xlfn.IFNA(INDEX(VLC!I:I,MATCH(501+ROW(A13)-1,VLC!V:V,0)),\"\"),\"\"),\"\")","v":""},{"$f":"_xlfn.IFNA(IF(INDEX(VLC!I:I,MATCH(541+ROW(A13)-1,VLC!V:V,0))<>\"\",_xlfn.IFNA(INDEX(VLC!I:I,MATCH(541+ROW(A13)-1,VLC!V:V,0)),\"\"),\"\"),\"\")","v":""},{"$f":"_xlfn.IFNA(IF(INDEX(VLC!J:J,MATCH(501+ROW(A13)-1,VLC!V:V,0))=\"x\",_xlfn.IFNA(INDEX(VLC!J:J,MATCH(501+ROW(A13)-1,VLC!V:V,0)),\"\"),\"\"),\"\")","v":""},{"$f":"_xlfn.IFNA(IF(INDEX(VLC!J:J,MATCH(541+ROW(A13)-1,VLC!V:V,0))=\"x\",_xlfn.IFNA(INDEX(VLC!J:J,MATCH(541+ROW(A13)-1,VLC!V:V,0)),\"\"),\"\"),\"\")","v":""},5013,5053]
["SK Teilnehmer 14",{"$f":"_xlfn.IFNA(INDEX(VLC!A:A,MATCH(514,VLC!V:V,0)),\"\")","v":""},{"$f":"_xlfn.IFNA(INDEX(VLC!A:A,MATCH(554,VLC!V:V,0)),\"\")","v":""},{"$f":"_xlfn.IFNA(INDEX(VLC!B:B,MATCH(501+ROW(A14)-1,VLC!V:V,0)),\"\")","v":""},{"$f":"_xlfn.IFNA(INDEX(VLC!C:C,MATCH(501+ROW(A14)-1,VLC!V:V,0)),\"\")","v":""},{"$f":"_xlfn.IFNA(IF(INDEX(VLC!H:H,MATCH(501+ROW(A14)-1,VLC!V:V,0))=\"x\",_xlfn.IFNA(INDEX(VLC!H:H,MATCH(501+ROW(A14)-1,VLC!V:V,0)),\"\"),\"\"),\"\")","v":""},{"$f":"_xlfn.IFNA(IF(INDEX(VLC!H:H,MATCH(541+ROW(A14)-1,VLC!V:V,0))=\"x\",_xlfn.IFNA(INDEX(VLC!H:H,MATCH(541+ROW(A14)-1,VLC!V:V,0)),\"\"),\"\"),\"\")","v":""},{"$f":"_xlfn.IFNA(IF(INDEX(VLC!I:I,MATCH(501+ROW(A14)-1,VLC!V:V,0))<>\"\",_xlfn.IFNA(INDEX(VLC!I:I,MATCH(501+ROW(A14)-1,VLC!V:V,0)),\"\"),\"\"),\"\")","v":""},{"$f":"_xlfn.IFNA(IF(INDEX(VLC!I:I,MATCH(541+ROW(A14)-1,VLC!V:V,0))<>\"\",_xlfn.IFNA(INDEX(VLC!I:I,MATCH(541+ROW(A14)-1,VLC!V:V,0)),\"\"),\"\"),\"\")","v":""},{"$f":"_xlfn.IFNA(IF(INDEX(VLC!J:J,MATCH(501+ROW(A14)-1,VLC!V:V,0))=\"x\",_xlfn.IFNA(INDEX(VLC!J:J,MATCH(501+ROW(A14)-1,VLC!V:V,0)),\"\"),\"\"),\"\")","v":""},{"$f":"_xlfn.IFNA(IF(INDEX(VLC!J:J,MATCH(541+ROW(A14)-1,VLC!V:V,0))=\"x\",_xlfn.IFNA(INDEX(VLC!J:J,MATCH(541+ROW(A14)-1,VLC!V:V,0)),\"\"),\"\"),\"\")","v":""},5014,5054]
["SK Teilnehmer 15",{"$f":"_xlfn.IFNA(INDEX(VLC!A:A,MATCH(515,VLC!V:V,0)),\"\")","v":""},{"$f":"_xlfn.IFNA(INDEX(VLC!A:A,MATCH(555,VLC!V:V,0)),\"\")","v":""},{"$f":"_xlfn.IFNA(INDEX(VLC!B:B,MATCH(501+ROW(A15)-1,VLC!V:V,0)),\"\")","v":""},{"$f":"_xlfn.IFNA(INDEX(VLC!C:C,MATCH(501+ROW(A15)-1,VLC!V:V,0)),\"\")","v":""},{"$f":"_xlfn.IFNA(IF(INDEX(VLC!H:H,MATCH(501+ROW(A15)-1,VLC!V:V,0))=\"x\",_xlfn.IFNA(INDEX(VLC!H:H,MATCH(501+ROW(A15)-1,VLC!V:V,0)),\"\"),\"\"),\"\")","v":""},{"$f":"_xlfn.IFNA(IF(INDEX(VLC!H:H,MATCH(541+ROW(A15)-1,VLC!V:V,0))=\"x\",_xlfn.IFNA(INDEX(VLC!H:H,MATCH(541+ROW(A15)-1,VLC!V:V,0)),\"\"),\"\"),\"\")","v":""},{"$f":"_xlfn.IFNA(IF(INDEX(VLC!I:I,MATCH(501+ROW(A15)-1,VLC!V:V,0))<>\"\",_xlfn.IFNA(INDEX(VLC!I:I,MATCH(501+ROW(A15)-1,VLC!V:V,0)),\"\"),\"\"),\"\")","v":""},{"$f":"_xlfn.IFNA(IF(INDEX(VLC!I:I,MATCH(541+ROW(A15)-1,VLC!V:V,0))<>\"\",_xlfn.IFNA(INDEX(VLC!I:I,MATCH(541+ROW(A15)-1,VLC!V:V,0)),\"\"),\"\"),\"\")","v":""},{"$f":"_xlfn.IFNA(IF(INDEX(VLC!J:J,MATCH(501+ROW(A15)-1,VLC!V:V,0))=\"x\",_xlfn.IFNA(INDEX(VLC!J:J,MATCH(501+ROW(A15)-1,VLC!V:V,0)),\"\"),\"\"),\"\")","v":""},{"$f":"_xlfn.IFNA(IF(INDEX(VLC!J:J,MATCH(541+ROW(A15)-1,VLC!V:V,0))=\"x\",_xlfn.IFNA(INDEX(VLC!J:J,MATCH(541+ROW(A15)-1,VLC!V:V,0)),\"\"),\"\"),\"\")","v":""},5015,5055]
["SK Teilnehmer 16",{"$f":"_xlfn.IFNA(INDEX(VLC!A:A,MATCH(516,VLC!V:V,0)),\"\")","v":""},{"$f":"_xlfn.IFNA(INDEX(VLC!A:A,MATCH(556,VLC!V:V,0)),\"\")","v":""},{"$f":"_xlfn.IFNA(INDEX(VLC!B:B,MATCH(501+ROW(A16)-1,VLC!V:V,0)),\"\")","v":""},{"$f":"_xlfn.IFNA(INDEX(VLC!C:C,MATCH(501+ROW(A16)-1,VLC!V:V,0)),\"\")","v":""},{"$f":"_xlfn.IFNA(IF(INDEX(VLC!H:H,MATCH(501+ROW(A16)-1,VLC!V:V,0))=\"x\",_xlfn.IFNA(INDEX(VLC!H:H,MATCH(501+ROW(A16)-1,VLC!V:V,0)),\"\"),\"\"),\"\")","v":""},{"$f":"_xlfn.IFNA(IF(INDEX(VLC!H:H,MATCH(541+ROW(A16)-1,VLC!V:V,0))=\"x\",_xlfn.IFNA(INDEX(VLC!H:H,MATCH(541+ROW(A16)-1,VLC!V:V,0)),\"\"),\"\"),\"\")","v":""},{"$f":"_xlfn.IFNA(IF(INDEX(VLC!I:I,MATCH(501+ROW(A16)-1,VLC!V:V,0))<>\"\",_xlfn.IFNA(INDEX(VLC!I:I,MATCH(501+ROW(A16)-1,VLC!V:V,0)),\"\"),\"\"),\"\")","v":""},{"$f":"_xlfn.IFNA(IF(INDEX(VLC!I:I,MATCH(541+ROW(A16)-1,VLC!V:V,0))<>\"\",_xlfn.IFNA(INDEX(VLC!I:I,MATCH(541+ROW(A16)-1,VLC!V:V,0)),\"\"),\"\"),\"\")","v":""},{"$f":"_xlfn.IFNA(IF(INDEX(VLC!J:J,MATCH(501+ROW(A16)-1,VLC!V:V,0))=\"x\",_xlfn.IFNA(INDEX(VLC!J:J,MATCH(501+ROW(A16)-1,VLC!V:V,0)),\"\"),\"\"),\"\")","v":""},{"$f":"_xlfn.IFNA(IF(INDEX(VLC!J:J,MATCH(541+ROW(A16)-1,VLC!V:V,0))=\"x\",_xlfn.IFNA(INDEX(VLC!J:J,MATCH(541+ROW(A16)-1,VLC!V:V,0)),\"\"),\"\"),\"\")","v":""},5016,5056]
["SK Teilnehmer 17",{"$f":"_xlfn.IFNA(INDEX(VLC!A:A,MATCH(517,VLC!V:V,0)),\"\")","v":""},{"$f":"_xlfn.IFNA(INDEX(VLC!A:A,MATCH(557,VLC!V:V,0)),\"\")","v":""},{"$f":"_xlfn.IFNA(INDEX(VLC!B:B,MATCH(501+ROW(A17)-1,VLC!V:V,0)),\"\")","v":""},{"$f":"_xlfn.IFNA(INDEX(VLC!C:C,MATCH(501+ROW(A17)-1,VLC!V:V,0)),\"\")","v":""},{"$f":"_xlfn.IFNA(IF(INDEX(VLC!H:H,MATCH(501+ROW(A17)-1,VLC!V:V,0))=\"x\",_xlfn.IFNA(INDEX(VLC!H:H,MATCH(501+ROW(A17)-1,VLC!V:V,0)),\"\"),\"\"),\"\")","v":""},{"$f":"_xlfn.IFNA(IF(INDEX(VLC!H:H,MATCH(541+ROW(A17)-1,VLC!V:V,0))=\"x\",_xlfn.IFNA(INDEX(VLC!H:H,MATCH(541+ROW(A17)-1,VLC!V:V,0)),\"\"),\"\"),\"\")","v":""},{"$f":"_xlfn.IFNA(IF(INDEX(VLC!I:I,MATCH(501+ROW(A17)-1,VLC!V:V,0))<>\"\",_xlfn.IFNA(INDEX(VLC!I:I,MATCH(501+ROW(A17)-1,VLC!V:V,0)),\"\"),\"\"),\"\")","v":""},{"$f":"_xlfn.IFNA(IF(INDEX(VLC!I:I,MATCH(541+ROW(A17)-1,VLC!V:V,0))<>\"\",_xlfn.IFNA(INDEX(VLC!I:I,MATCH(541+ROW(A17)-1,VLC!V:V,0)),\"\"),\"\"),\"\")","v":""},{"$f":"_xlfn.IFNA(IF(INDEX(VLC!J:J,MATCH(501+ROW(A17)-1,VLC!V:V,0))=\"x\",_xlfn.IFNA(INDEX(VLC!J:J,MATCH(501+ROW(A17)-1,VLC!V:V,0)),\"\"),\"\"),\"\")","v":""},{"$f":"_xlfn.IFNA(IF(INDEX(VLC!J:J,MATCH(541+ROW(A17)-1,VLC!V:V,0))=\"x\",_xlfn.IFNA(INDEX(VLC!J:J,MATCH(541+ROW(A17)-1,VLC!V:V,0)),\"\"),\"\"),\"\")","v":""},5017,5057]
["SK Teilnehmer 18",{"$f":"_xlfn.IFNA(INDEX(VLC!A:A,MATCH(518,VLC!V:V,0)),\"\")","v":""},{"$f":"_xlfn.IFNA(INDEX(VLC!A:A,MATCH(558,VLC!V:V,0)),\"\")","v":""},{"$f":"_xlfn.IFNA(INDEX(VLC!B:B,MATCH(501+ROW(A18)-1,VLC!V:V,0)),\"\")","v":""},{"$f":"_xlfn.IFNA(INDEX(VLC!C:C,MATCH(501+ROW(A18)-1,VLC!V:V,0)),\"\")","v":""},{"$f":"_xlfn.IFNA(IF(INDEX(VLC!H:H,MATCH(501+ROW(A18)-1,VLC!V:V,0))=\"x\",_xlfn.IFNA(INDEX(VLC!H:H,MATCH(501+ROW(A18)-1,VLC!V:V,0)),\"\"),\"\"),\"\")","v":""},{"$f":"_xlfn.IFNA(IF(INDEX(VLC!H:H,MATCH(541+ROW(A18)-1,VLC!V:V,0))=\"x\",_xlfn.IFNA(INDEX(VLC!H:H,MATCH(541+ROW(A18)-1,VLC!V:V,0)),\"\"),\"\"),\"\")","v":""},{"$f":"_xlfn.IFNA(IF(INDEX(VLC!I:I,MATCH(501+ROW(A18)-1,VLC!V:V,0))<>\"\",_xlfn.IFNA(INDEX(VLC!I:I,MATCH(501+ROW(A18)-1,VLC!V:V,0)),\"\"),\"\"),\"\")","v":""},{"$f":"_xlfn.IFNA(IF(INDEX(VLC!I:I,MATCH(541+ROW(A18)-1,VLC!V:V,0))<>\"\",_xlfn.IFNA(INDEX(VLC!I:I,MATCH(541+ROW(A18)-1,VLC!V:V,0)),\"\"),\"\"),\"\")","v":""},{"$f":"_xlfn.IFNA(IF(INDEX(VLC!J:J,MATCH(501+ROW(A18)-1,VLC!V:V,0))=\"x\",_xlfn.IFNA(INDEX(VLC!J:J,MATCH(501+ROW(A18)-1,VLC!V:V,0)),\"\"),\"\"),\"\")","v":""},{"$f":"_xlfn.IFNA(IF(INDEX(VLC!J:J,MATCH(541+ROW(A18)-1,VLC!V:V,0))=\"x\",_xlfn.IFNA(INDEX(VLC!J:J,MATCH(541+ROW(A18)-1,VLC!V:V,0)),\"\"),\"\"),\"\")","v":""},5018,5058]
["SK Teilnehmer 19",{"$f":"_xlfn.IFNA(INDEX(VLC!A:A,MATCH(519,VLC!V:V,0)),\"\")","v":""},{"$f":"_xlfn.IFNA(INDEX(VLC!A:A,MATCH(559,VLC!V:V,0)),\"\")","v":""},{"$f":"_xlfn.IFNA(INDEX(VLC!B:B,MATCH(501+ROW(A19)-1,VLC!V:V,0)),\"\")","v":""},{"$f":"_xlfn.IFNA(INDEX(VLC!C:C,MATCH(501+ROW(A19)-1,VLC!V:V,0)),\"\")","v":""},{"$f":"_xlfn.IFNA(IF(INDEX(VLC!H:H,MATCH(501+ROW(A19)-1,VLC!V:V,0))=\"x\",_xlfn.IFNA(INDEX(VLC!H:H,MATCH(501+ROW(A19)-1,VLC!V:V,0)),\"\"),\"\"),\"\")","v":""},{"$f":"_xlfn.IFNA(IF(INDEX(VLC!H:H,MATCH(541+ROW(A19)-1,VLC!V:V,0))=\"x\",_xlfn.IFNA(INDEX(VLC!H:H,MATCH(541+ROW(A19)-1,VLC!V:V,0)),\"\"),\"\"),\"\")","v":""},{"$f":"_xlfn.IFNA(IF(INDEX(VLC!I:I,MATCH(501+ROW(A19)-1,VLC!V:V,0))<>\"\",_xlfn.IFNA(INDEX(VLC!I:I,MATCH(501+ROW(A19)-1,VLC!V:V,0)),\"\"),\"\"),\"\")","v":""},{"$f":"_xlfn.IFNA(IF(INDEX(VLC!I:I,MATCH(541+ROW(A19)-1,VLC!V:V,0))<>\"\",_xlfn.IFNA(INDEX(VLC!I:I,MATCH(541+ROW(A19)-1,VLC!V:V,0)),\"\"),\"\"),\"\")","v":""},{"$f":"_xlfn.IFNA(IF(INDEX(VLC!J:J,MATCH(501+ROW(A19)-1,VLC!V:V,0))=\"x\",_xlfn.IFNA(INDEX(VLC!J:J,MATCH(501+ROW(A19)-1,VLC!V:V,0)),\"\"),\"\"),\"\")","v":""},{"$f":"_xlfn.IFNA(IF(INDEX(VLC!J:J,MATCH(541+ROW(A19)-1,VLC!V:V,0))=\"x\",_xlfn.IFNA(INDEX(VLC!J:J,MATCH(541+ROW(A19)-1,VLC!V:V,0)),\"\"),\"\"),\"\")","v":""},5019,5059]
["SK Teilnehmer 20",{"$f":"_xlfn.IFNA(INDEX(VLC!A:A,MATCH(520,VLC!V:V,0)),\"\")","v":""},{"$f":"_xlfn.IFNA(INDEX(VLC!A:A,MATCH(560,VLC!V:V,0)),\"\")","v":""},{"$f":"_xlfn.IFNA(INDEX(VLC!B:B,MATCH(501+ROW(A20)-1,VLC!V:V,0)),\"\")","v":""},{"$f":"_xlfn.IFNA(INDEX(VLC!C:C,MATCH(501+ROW(A20)-1,VLC!V:V,0)),\"\")","v":""},{"$f":"_xlfn.IFNA(IF(INDEX(VLC!H:H,MATCH(501+ROW(A20)-1,VLC!V:V,0))=\"x\",_xlfn.IFNA(INDEX(VLC!H:H,MATCH(501+ROW(A20)-1,VLC!V:V,0)),\"\"),\"\"),\"\")","v":""},{"$f":"_xlfn.IFNA(IF(INDEX(VLC!H:H,MATCH(541+ROW(A20)-1,VLC!V:V,0))=\"x\",_xlfn.IFNA(INDEX(VLC!H:H,MATCH(541+ROW(A20)-1,VLC!V:V,0)),\"\"),\"\"),\"\")","v":""},{"$f":"_xlfn.IFNA(IF(INDEX(VLC!I:I,MATCH(501+ROW(A20)-1,VLC!V:V,0))<>\"\",_xlfn.IFNA(INDEX(VLC!I:I,MATCH(501+ROW(A20)-1,VLC!V:V,0)),\"\"),\"\"),\"\")","v":""},{"$f":"_xlfn.IFNA(IF(INDEX(VLC!I:I,MATCH(541+ROW(A20)-1,VLC!V:V,0))<>\"\",_xlfn.IFNA(INDEX(VLC!I:I,MATCH(541+ROW(A20)-1,VLC!V:V,0)),\"\"),\"\"),\"\")","v":""},{"$f":"_xlfn.IFNA(IF(INDEX(VLC!J:J,MATCH(501+ROW(A20)-1,VLC!V:V,0))=\"x\",_xlfn.IFNA(INDEX(VLC!J:J,MATCH(501+ROW(A20)-1,VLC!V:V,0)),\"\"),\"\"),\"\")","v":""},{"$f":"_xlfn.IFNA(IF(INDEX(VLC!J:J,MATCH(541+ROW(A20)-1,VLC!V:V,0))=\"x\",_xlfn.IFNA(INDEX(VLC!J:J,MATCH(541+ROW(A20)-1,VLC!V:V,0)),\"\"),\"\"),\"\")","v":""},5020,5060]
["Gerätename:",{"$f":"$B$6","v":0},null,null,"PLC24 Stromkreis-Nummer: 6"]
["Stromkreis-Bezeichnung:"]
["Stromkreisbelegung","ID 1","ID 2","Bezeichnung","Zusatzinfo","DL",null,"GL",null,"BL"]
[null,null,null,null,null,"ID1","ID2","ID1","ID2","ID1","ID2"]
["SK Teilnehmer 1",{"$f":"_xlfn.IFNA(INDEX(VLC!A:A,MATCH(601,VLC!V:V,0)),\"\")","v":""},{"$f":"_xlfn.IFNA(INDEX(VLC!A:A,MATCH(641,VLC!V:V,0)),\"\")","v":""},{"$f":"_xlfn.IFNA(INDEX(VLC!B:B,MATCH(601+ROW(A1)-1,VLC!V:V,0)),\"\")","v":""},{"$f":"_xlfn.IFNA(INDEX(VLC!C:C,MATCH(601+ROW(A1)-1,VLC!V:V,0)),\"\")","v":""},{"$f":"_xlfn.IFNA(IF(INDEX(VLC!H:H,MATCH(601+ROW(A1)-1,VLC!V:V,0))=\"x\",_xlfn.IFNA(INDEX(VLC!H:H,MATCH(601+ROW(A1)-1,VLC!V:V,0)),\"\"),\"\"),\"\")","v":""},{"$f":"_xlfn.IFNA(IF(INDEX(VLC!H:H,MATCH(641+ROW(A1)-1,VLC!V:V,0))=\"x\",_xlfn.IFNA(INDEX(VLC!H:H,MATCH(641+ROW(A1)-1,VLC!V:V,0)),\"\"),\"\"),\"\")","v":""},{"$f":"_xlfn.IFNA(IF(INDEX(VLC!I:I,MATCH(601+ROW(A1)-1,VLC!V:V,0))<>\"\",_xlfn.IFNA(INDEX(VLC!I:I,MATCH(601+ROW(A1)-1,VLC!V:V,0)),\"\"),\"\"),\"\")","v":""},{"$f":"_xlfn.IFNA(IF(INDEX(VLC!I:I,MATCH(641+ROW(A1)-1,VLC!V:V,0))<>\"\",_xlfn.IFNA(INDEX(VLC!I:I,MATCH(641+ROW(A1)-1,VLC!V:V,0)),\"\"),\"\"),\"\")","v":""},{"$f":"_xlfn.IFNA(IF(INDEX(VLC!J:J,MATCH(601+ROW(A1)-1,VLC!V:V,0))=\"x\",_xlfn.IFNA(INDEX(VLC!J:J,MATCH(601+ROW(A1)-1,VLC!V:V,0)),\"\"),\"\"),\"\")","v":""},{"$f":"_xlfn.IFNA(IF(INDEX(VLC!J:J,MATCH(641+ROW(A1)-1,VLC!V:V,0))=\"x\",_xlfn.IFNA(INDEX(VLC!J:J,MATCH(641+ROW(A1)-1,VLC!V:V,0)),\"\"),\"\"),\"\")","v":""},{"$f":"6000+ROW(A130)-129","v":6001},{"$f":"L130+40","v":6041}]
["SK Teilnehmer 2",{"$f":"_xlfn.IFNA(INDEX(VLC!A:A,MATCH(602,VLC!V:V,0)),\"\")","v":""},{"$f":"_xlfn.IFNA(INDEX(VLC!A:A,MATCH(642,VLC!V:V,0)),\"\")","v":""},{"$f":"_xlfn.IFNA(INDEX(VLC!B:B,MATCH(601+ROW(A2)-1,VLC!V:V,0)),\"\")","v":""},{"$f":"_xlfn.IFNA(INDEX(VLC!C:C,MATCH(601+ROW(A2)-1,VLC!V:V,0)),\"\")","v":""},{"$f":"_xlfn.IFNA(IF(INDEX(VLC!H:H,MATCH(601+ROW(A2)-1,VLC!V:V,0))=\"x\",_xlfn.IFNA(INDEX(VLC!H:H,MATCH(601+ROW(A2)-1,VLC!V:V,0)),\"\"),\"\"),\"\")","v":""},{"$f":"_xlfn.IFNA(IF(INDEX(VLC!H:H,MATCH(641+ROW(A2)-1,VLC!V:V,0))=\"x\",_xlfn.IFNA(INDEX(VLC!H:H,MATCH(641+ROW(A2)-1,VLC!V:V,0)),\"\"),\"\"),\"\")","v":""},{"$f":"_xlfn.IFNA(IF(INDEX(VLC!I:I,MATCH(601+ROW(A2)-1,VLC!V:V,0))<>\"\",_xlfn.IFNA(INDEX(VLC!I:I,MATCH(601+ROW(A2)-1,VLC!V:V,0)),\"\"),\"\"),\"\")","v":""},{"$f":"_xlfn.IFNA(IF(INDEX(VLC!I:I,MATCH(641+ROW(A2)-1,VLC!V:V,0))<>\"\",_xlfn.IFNA(INDEX(VLC!I:I,MATCH(641+ROW(A2)-1,VLC!V:V,0)),\"\"),\"\"),\"\")","v":""},{"$f":"_xlfn.IFNA(IF(INDEX(VLC!J:J,MATCH(601+ROW(A2)-1,VLC!V:V,0))=\"x\",_xlfn.IFNA(INDEX(VLC!J:J,MATCH(601+ROW(A2)-1,VLC!V:V,0)),\"\"),\"\"),\"\")","v":""},{"$f":"_xlfn.IFNA(IF(INDEX(VLC!J:J,MATCH(641+ROW(A2)-1,VLC!V:V,0))=\"x\",_xlfn.IFNA(INDEX(VLC!J:J,MATCH(641+ROW(A2)-1,VLC!V:V,0)),\"\"),\"\"),\"\")","v":""},{"$f":"6000+ROW(A131)-129","v":6002},{"$f":"L131+40","v":6042}]
["SK Teilnehmer 3",{"$f":"_xlfn.IFNA(INDEX(VLC!A:A,MATCH(603,VLC!V:V,0)),\"\")","v":""},{"$f":"_xlfn.IFNA(INDEX(VLC!A:A,MATCH(643,VLC!V:V,0)),\"\")","v":""},{"$f":"_xlfn.IFNA(INDEX(VLC!B:B,MATCH(601+ROW(A3)-1,VLC!V:V,0)),\"\")","v":""},{"$f":"_xlfn.IFNA(INDEX(VLC!C:C,MATCH(601+ROW(A3)-1,VLC!V:V,0)),\"\")","v":""},{"$f":"_xlfn.IFNA(IF(INDEX(VLC!H:H,MATCH(601+ROW(A3)-1,VLC!V:V,0))=\"x\",_xlfn.IFNA(INDEX(VLC!H:H,MATCH(601+ROW(A3)-1,VLC!V:V,0)),\"\"),\"\"),\"\")","v":""},{"$f":"_xlfn.IFNA(IF(INDEX(VLC!H:H,MATCH(641+ROW(A3)-1,VLC!V:V,0))=\"x\",_xlfn.IFNA(INDEX(VLC!H:H,MATCH(641+ROW(A3)-1,VLC!V:V,0)),\"\"),\"\"),\"\")","v":""},{"$f":"_xlfn.IFNA(IF(INDEX(VLC!I:I,MATCH(601+ROW(A3)-1,VLC!V:V,0))<>\"\",_xlfn.IFNA(INDEX(VLC!I:I,MATCH(601+ROW(A3)-1,VLC!V:V,0)),\"\"),\"\"),\"\")","v":""},{"$f":"_xlfn.IFNA(IF(INDEX(VLC!I:I,MATCH(641+ROW(A3)-1,VLC!V:V,0))<>\"\",_xlfn.IFNA(INDEX(VLC!I:I,MATCH(641+ROW(A3)-1,VLC!V:V,0)),\"\"),\"\"),\"\")","v":""},{"$f":"_xlfn.IFNA(IF(INDEX(VLC!J:J,MATCH(601+ROW(A3)-1,VLC!V:V,0))=\"x\",_xlfn.IFNA(INDEX(VLC!J:J,MATCH(601+ROW(A3)-1,VLC!V:V,0)),\"\"),\"\"),\"\")","v":""},{"$f":"_xlfn.IFNA(IF(INDEX(VLC!J:J,MATCH(641+ROW(A3)-1,VLC!V:V,0))=\"x\",_xlfn.IFNA(INDEX(VLC!J:J,MATCH(641+ROW(A3)-1,VLC!V:V,0)),\"\"),\"\"),\"\")","v":""},6003,6043]
["SK Teilnehmer 4",{"$f":"_xlfn.IFNA(INDEX(VLC!A:A,MATCH(604,VLC!V:V,0)),\"\")","v":""},{"$f":"_xlfn.IFNA(INDEX(VLC!A:A,MATCH(644,VLC!V:V,0)),\"\")","v":""},{"$f":"_xlfn.IFNA(INDEX(VLC!B:B,MATCH(601+ROW(A4)-1,VLC!V:V,0)),\"\")","v":""},{"$f":"_xlfn.IFNA(INDEX(VLC!C:C,MATCH(601+ROW(A4)-1,VLC!V:V,0)),\"\")","v":""},{"$f":"_xlfn.IFNA(IF(INDEX(VLC!H:H,MATCH(601+ROW(A4)-1,VLC!V:V,0))=\"x\",_xlfn.IFNA(INDEX(VLC!H:H,MATCH(601+ROW(A4)-1,VLC!V:V,0)),\"\"),\"\"),\"\")","v":""},{"$f":"_xlfn.IFNA(IF(INDEX(VLC!H:H,MATCH(641+ROW(A4)-1,VLC!V:V,0))=\"x\",_xlfn.IFNA(INDEX(VLC!H:H,MATCH(641+ROW(A4)-1,VLC!V:V,0)),\"\"),\"\"),\"\")","v":""},{"$f":"_xlfn.IFNA(IF(INDEX(VLC!I:I,MATCH(601+ROW(A4)-1,VLC!V:V,0))<>\"\",_xlfn.IFNA(INDEX(VLC!I:I,MATCH(601+ROW(A4)-1,VLC!V:V,0)),\"\"),\"\"),\"\")","v":""},{"$f":"_xlfn.IFNA(IF(INDEX(VLC!I:I,MATCH(641+ROW(A4)-1,VLC!V:V,0))<>\"\",_xlfn.IFNA(INDEX(VLC!I:I,MATCH(641+ROW(A4)-1,VLC!V:V,0)),\"\"),\"\"),\"\")","v":""},{"$f":"_xlfn.IFNA(IF(INDEX(VLC!J:J,MATCH(601+ROW(A4)-1,VLC!V:V,0))=\"x\",_xlfn.IFNA(INDEX(VLC!J:J,MATCH(601+ROW(A4)-1,VLC!V:V,0)),\"\"),\"\"),\"\")","v":""},{"$f":"_xlfn.IFNA(IF(INDEX(VLC!J:J,MATCH(641+ROW(A4)-1,VLC!V:V,0))=\"x\",_xlfn.IFNA(INDEX(VLC!J:J,MATCH(641+ROW(A4)-1,VLC!V:V,0)),\"\"),\"\"),\"\")","v":""},6004,6044]
["SK Teilnehmer 5",{"$f":"_xlfn.IFNA(INDEX(VLC!A:A,MATCH(605,VLC!V:V,0)),\"\")","v":""},{"$f":"_xlfn.IFNA(INDEX(VLC!A:A,MATCH(645,VLC!V:V,0)),\"\")","v":""},{"$f":"_xlfn.IFNA(INDEX(VLC!B:B,MATCH(601+ROW(A5)-1,VLC!V:V,0)),\"\")","v":""},{"$f":"_xlfn.IFNA(INDEX(VLC!C:C,MATCH(601+ROW(A5)-1,VLC!V:V,0)),\"\")","v":""},{"$f":"_xlfn.IFNA(IF(INDEX(VLC!H:H,MATCH(601+ROW(A5)-1,VLC!V:V,0))=\"x\",_xlfn.IFNA(INDEX(VLC!H:H,MATCH(601+ROW(A5)-1,VLC!V:V,0)),\"\"),\"\"),\"\")","v":""},{"$f":"_xlfn.IFNA(IF(INDEX(VLC!H:H,MATCH(641+ROW(A5)-1,VLC!V:V,0))=\"x\",_xlfn.IFNA(INDEX(VLC!H:H,MATCH(641+ROW(A5)-1,VLC!V:V,0)),\"\"),\"\"),\"\")","v":""},{"$f":"_xlfn.IFNA(IF(INDEX(VLC!I:I,MATCH(601+ROW(A5)-1,VLC!V:V,0))<>\"\",_xlfn.IFNA(INDEX(VLC!I:I,MATCH(601+ROW(A5)-1,VLC!V:V,0)),\"\"),\"\"),\"\")","v":""},{"$f":"_xlfn.IFNA(IF(INDEX(VLC!I:I,MATCH(641+ROW(A5)-1,VLC!V:V,0))<>\"\",_xlfn.IFNA(INDEX(VLC!I:I,MATCH(641+ROW(A5)-1,VLC!V:V,0)),\"\"),\"\"),\"\")","v":""},{"$f":"_xlfn.IFNA(IF(INDEX(VLC!J:J,MATCH(601+ROW(A5)-1,VLC!V:V,0))=\"x\",_xlfn.IFNA(INDEX(VLC!J:J,MATCH(601+ROW(A5)-1,VLC!V:V,0)),\"\"),\"\"),\"\")","v":""},{"$f":"_xlfn.IFNA(IF(INDEX(VLC!J:J,MATCH(641+ROW(A5)-1,VLC!V:V,0))=\"x\",_xlfn.IFNA(INDEX(VLC!J:J,MATCH(641+ROW(A5)-1,VLC!V:V,0)),\"\"),\"\"),\"\")","v":""},6005,6045]
["SK Teilnehmer 6",{"$f":"_xlfn.IFNA(INDEX(VLC!A:A,MATCH(606,VLC!V:V,0)),\"\")","v":""},{"$f":"_xlfn.IFNA(INDEX(VLC!A:A,MATCH(646,VLC!V:V,0)),\"\")","v":""},{"$f":"_xlfn.IFNA(INDEX(VLC!B:B,MATCH(601+ROW(A6)-1,VLC!V:V,0)),\"\")","v":""},{"$f":"_xlfn.IFNA(INDEX(VLC!C:C,MATCH(601+ROW(A6)-1,VLC!V:V,0)),\"\")","v":""},{"$f":"_xlfn.IFNA(IF(INDEX(VLC!H:H,MATCH(601+ROW(A6)-1,VLC!V:V,0))=\"x\",_xlfn.IFNA(INDEX(VLC!H:H,MATCH(601+ROW(A6)-1,VLC!V:V,0)),\"\"),\"\"),\"\")","v":""},{"$f":"_xlfn.IFNA(IF(INDEX(VLC!H:H,MATCH(641+ROW(A6)-1,VLC!V:V,0))=\"x\",_xlfn.IFNA(INDEX(VLC!H:H,MATCH(641+ROW(A6)-1,VLC!V:V,0)),\"\"),\"\"),\"\")","v":""},{"$f":"_xlfn.IFNA(IF(INDEX(VLC!I:I,MATCH(601+ROW(A6)-1,VLC!V:V,0))<>\"\",_xlfn.IFNA(INDEX(VLC!I:I,MATCH(601+ROW(A6)-1,VLC!V:V,0)),\"\"),\"\"),\"\")","v":""},{"$f":"_xlfn.IFNA(IF(INDEX(VLC!I:I,MATCH(641+ROW(A6)-1,VLC!V:V,0))<>\"\",_xlfn.IFNA(INDEX(VLC!I:I,MATCH(641+ROW(A6)-1,VLC!V:V,0)),\"\"),\"\"),\"\")","v":""},{"$f":"_xlfn.IFNA(IF(INDEX(VLC!J:J,MATCH(601+ROW(A6)-1,VLC!V:V,0))=\"x\",_xlfn.IFNA(INDEX(VLC!J:J,MATCH(601+ROW(A6)-1,VLC!V:V,0)),\"\"),\"\"),\"\")","v":""},{"$f":"_xlfn.IFNA(IF(INDEX(VLC!J:J,MATCH(641+ROW(A6)-1,VLC!V:V,0))=\"x\",_xlfn.IFNA(INDEX(VLC!J:J,MATCH(641+ROW(A6)-1,VLC!V:V,0)),\"\"),\"\"),\"\")","v":""},6006,6046]
["SK Teilnehmer 7",{"$f":"_xlfn.IFNA(INDEX(VLC!A:A,MATCH(607,VLC!V:V,0)),\"\")","v":""},{"$f":"_xlfn.IFNA(INDEX(VLC!A:A,MATCH(647,VLC!V:V,0)),\"\")","v":""},{"$f":"_xlfn.IFNA(INDEX(VLC!B:B,MATCH(601+ROW(A7)-1,VLC!V:V,0)),\"\")","v":""},{"$f":"_xlfn.IFNA(INDEX(VLC!C:C,MATCH(601+ROW(A7)-1,VLC!V:V,0)),\"\")","v":""},{"$f":"_xlfn.IFNA(IF(INDEX(VLC!H:H,MATCH(601+ROW(A7)-1,VLC!V:V,0))=\"x\",_xlfn.IFNA(INDEX(VLC!H:H,MATCH(601+ROW(A7)-1,VLC!V:V,0)),\"\"),\"\"),\"\")","v":""},{"$f":"_xlfn.IFNA(IF(INDEX(VLC!H:H,MATCH(641+ROW(A7)-1,VLC!V:V,0))=\"x\",_xlfn.IFNA(INDEX(VLC!H:H,MATCH(641+ROW(A7)-1,VLC!V:V,0)),\"\"),\"\"),\"\")","v":""},{"$f":"_xlfn.IFNA(IF(INDEX(VLC!I:I,MATCH(601+ROW(A7)-1,VLC!V:V,0))<>\"\",_xlfn.IFNA(INDEX(VLC!I:I,MATCH(601+ROW(A7)-1,VLC!V:V,0)),\"\"),\"\"),\"\")","v":""},{"$f":"_xlfn.IFNA(IF(INDEX(VLC!I:I,MATCH(641+ROW(A7)-1,VLC!V:V,0))<>\"\",_xlfn.IFNA(INDEX(VLC!I:I,MATCH(641+ROW(A7)-1,VLC!V:V,0)),\"\"),\"\"),\"\")","v":""},{"$f":"_xlfn.IFNA(IF(INDEX(VLC!J:J,MATCH(601+ROW(A7)-1,VLC!V:V,0))=\"x\",_xlfn.IFNA(INDEX(VLC!J:J,MATCH(601+ROW(A7)-1,VLC!V:V,0)),\"\"),\"\"),\"\")","v":""},{"$f":"_xlfn.IFNA(IF(INDEX(VLC!J:J,MATCH(641+ROW(A7)-1,VLC!V:V,0))=\"x\",_xlfn.IFNA(INDEX(VLC!J:J,MATCH(641+ROW(A7)-1,VLC!V:V,0)),\"\"),\"\"),\"\")","v":""},6007,6047]
["SK Teilnehmer 8",{"$f":"_xlfn.IFNA(INDEX(VLC!A:A,MATCH(608,VLC!V:V,0)),\"\")","v":""},{"$f":"_xlfn.IFNA(INDEX(VLC!A:A,MATCH(648,VLC!V:V,0)),\"\")","v":""},{"$f":"_xlfn.IFNA(INDEX(VLC!B:B,MATCH(601+ROW(A8)-1,VLC!V:V,0)),\"\")","v":""},{"$f":"_xlfn.IFNA(INDEX(VLC!C:C,MATCH(601+ROW(A8)-1,VLC!V:V,0)),\"\")","v":""},{"$f":"_xlfn.IFNA(IF(INDEX(VLC!H:H,MATCH(601+ROW(A8)-1,VLC!V:V,0))=\"x\",_xlfn.IFNA(INDEX(VLC!H:H,MATCH(601+ROW(A8)-1,VLC!V:V,0)),\"\"),\"\"),\"\")","v":""},{"$f":"_xlfn.IFNA(IF(INDEX(VLC!H:H,MATCH(641+ROW(A8)-1,VLC!V:V,0))=\"x\",_xlfn.IFNA(INDEX(VLC!H:H,MATCH(641+ROW(A8)-1,VLC!V:V,0)),\"\"),\"\"),\"\")","v":""},{"$f":"_xlfn.IFNA(IF(INDEX(VLC!I:I,MATCH(601+ROW(A8)-1,VLC!V:V,0))<>\"\",_xlfn.IFNA(INDEX(VLC!I:I,MATCH(601+ROW(A8)-1,VLC!V:V,0)),\"\"),\"\"),\"\")","v":""},{"$f":"_xlfn.IFNA(IF(INDEX(VLC!I:I,MATCH(641+ROW(A8)-1,VLC!V:V,0))<>\"\",_xlfn.IFNA(INDEX(VLC!I:I,MATCH(641+ROW(A8)-1,VLC!V:V,0)),\"\"),\"\"),\"\")","v":""},{"$f":"_xlfn.IFNA(IF(INDEX(VLC!J:J,MATCH(601+ROW(A8)-1,VLC!V:V,0))=\"x\",_xlfn.IFNA(INDEX(VLC!J:J,MATCH(601+ROW(A8)-1,VLC!V:V,0)),\"\"),\"\"),\"\")","v":""},{"$f":"_xlfn.IFNA(IF(INDEX(VLC!J:J,MATCH(641+ROW(A8)-1,VLC!V:V,0))=\"x\",_xlfn.IFNA(INDEX(VLC!J:J,MATCH(641+ROW(A8)-1,VLC!V:V,0)),\"\"),\"\"),\"\")","v":""},6008,6048]
["SK Teilnehmer 9",{"$f":"_xlfn.IFNA(INDEX(VLC!A:A,MATCH(609,VLC!V:V,0)),\"\")","v":""},{"$f":"_xlfn.IFNA(INDEX(VLC!A:A,MATCH(649,VLC!V:V,0)),\"\")","v":""},{"$f":"_xlfn.IFNA(INDEX(VLC!B:B,MATCH(601+ROW(A9)-1,VLC!V:V,0)),\"\")","v":""},{"$f":"_xlfn.IFNA(INDEX(VLC!C:C,MATCH(601+ROW(A9)-1,VLC!V:V,0)),\"\")","v":""},{"$f":"_xlfn.IFNA(IF(INDEX(VLC!H:H,MATCH(601+ROW(A9)-1,VLC!V:V,0))=\"x\",_xlfn.IFNA(INDEX(VLC!H:H,MATCH(601+ROW(A9)-1,VLC!V:V,0)),\"\"),\"\"),\"\")","v":""},{"$f":"_xlfn.IFNA(IF(INDEX(VLC!H:H,MATCH(641+ROW(A9)-1,VLC!V:V,0))=\"x\",_xlfn.IFNA(INDEX(VLC!H:H,MATCH(641+ROW(A9)-1,VLC!V:V,0)),\"\"),\"\"),\"\")","v":""},{"$f":"_xlfn.IFNA(IF(INDEX(VLC!I:I,MATCH(601+ROW(A9)-1,VLC!V:V,0))<>\"\",_xlfn.IFNA(INDEX(VLC!I:I,MATCH(601+ROW(A9)-1,VLC!V:V,0)),\"\"),\"\"),\"\")","v":""},{"$f":"_xlfn.IFNA(IF(INDEX(VLC!I:I,MATCH(641+ROW(A9)-1,VLC!V:V,0))<>\"\",_xlfn.IFNA(INDEX(VLC!I:I,MATCH(641+ROW(A9)-1,VLC!V:V,0)),\"\"),\"\"),\"\")","v":""},{"$f":"_xlfn.IFNA(IF(INDEX(VLC!J:J,MATCH(601+ROW(A9)-1,VLC!V:V,0))=\"x\",_xlfn.IFNA(INDEX(VLC!J:J,MATCH(601+ROW(A9)-1,VLC!V:V,0)),\"\"),\"\"),\"\")","v":""},{"$f":"_xlfn.IFNA(IF(INDEX(VLC!J:J,MATCH(641+ROW(A9)-1,VLC!V:V,0))=\"x\",_xlfn.IFNA(INDEX(VLC!J:J,MATCH(641+ROW(A9)-1,VLC!V:V,0)),\"\"),\"\"),\"\")","v":""},6009,6049]
["SK Teilnehmer 10",{"$f":"_xlfn.IFNA(INDEX(VLC!A:A,MATCH(610,VLC!V:V,0)),\"\")","v":""},{"$f":"_xlfn.IFNA(INDEX(VLC!A:A,MATCH(650,VLC!V:V,0)),\"\")","v":""},{"$f":"_xlfn.IFNA(INDEX(VLC!B:B,MATCH(601+ROW(A10)-1,VLC!V:V,0)),\"\")","v":""},{"$f":"_xlfn.IFNA(INDEX(VLC!C:C,MATCH(601+ROW(A10)-1,VLC!V:V,0)),\"\")","v":""},{"$f":"_xlfn.IFNA(IF(INDEX(VLC!H:H,MATCH(601+ROW(A10)-1,VLC!V:V,0))=\"x\",_xlfn.IFNA(INDEX(VLC!H:H,MATCH(601+ROW(A10)-1,VLC!V:V,0)),\"\"),\"\"),\"\")","v":""},{"$f":"_xlfn.IFNA(IF(INDEX(VLC!H:H,MATCH(641+ROW(A10)-1,VLC!V:V,0))=\"x\",_xlfn.IFNA(INDEX(VLC!H:H,MATCH(641+ROW(A10)-1,VLC!V:V,0)),\"\"),\"\"),\"\")","v":""},{"$f":"_xlfn.IFNA(IF(INDEX(VLC!I:I,MATCH(601+ROW(A10)-1,VLC!V:V,0))<>\"\",_xlfn.IFNA(INDEX(VLC!I:I,MATCH(601+ROW(A10)-1,VLC!V:V,0)),\"\"),\"\"),\"\")","v":""},{"$f":"_xlfn.IFNA(IF(INDEX(VLC!I:I,MATCH(641+ROW(A10)-1,VLC!V:V,0))<>\"\",_xlfn.IFNA(INDEX(VLC!I:I,MATCH(641+ROW(A10)-1,VLC!V:V,0)),\"\"),\"\"),\"\")","v":""},{"$f":"_xlfn.IFNA(IF(INDEX(VLC!J:J,MATCH(601+ROW(A10)-1,VLC!V:V,0))=\"x\",_xlfn.IFNA(INDEX(VLC!J:J,MATCH(601+ROW(A10)-1,VLC!V:V,0)),\"\"),\"\"),\"\")","v":""},{"$f":"_xlfn.IFNA(IF(INDEX(VLC!J:J,MATCH(641+ROW(A10)-1,VLC!V:V,0))=\"x\",_xlfn.IFNA(INDEX(VLC!J:J,MATCH(641+ROW(A10)-1,VLC!V:V,0)),\"\"),\"\"),\"\")","v":""},6010,6050]
["SK Teilnehmer 11",{"$f":"_xlfn.IFNA(INDEX(VLC!A:A,MATCH(611,VLC!V:V,0)),\"\")","v":""},{"$f":"_xlfn.IFNA(INDEX(VLC!A:A,MATCH(651,VLC!V:V,0)),\"\")","v":""},{"$f":"_xlfn.IFNA(INDEX(VLC!B:B,MATCH(601+ROW(A11)-1,VLC!V:V,0)),\"\")","v":""},{"$f":"_xlfn.IFNA(INDEX(VLC!C:C,MATCH(601+ROW(A11)-1,VLC!V:V,0)),\"\")","v":""},{"$f":"_xlfn.IFNA(IF(INDEX(VLC!H:H,MATCH(601+ROW(A11)-1,VLC!V:V,0))=\"x\",_xlfn.IFNA(INDEX(VLC!H:H,MATCH(601+ROW(A11)-1,VLC!V:V,0)),\"\"),\"\"),\"\")","v":""},{"$f":"_xlfn.IFNA(IF(INDEX(VLC!H:H,MATCH(641+ROW(A11)-1,VLC!V:V,0))=\"x\",_xlfn.IFNA(INDEX(VLC!H:H,MATCH(641+ROW(A11)-1,VLC!V:V,0)),\"\"),\"\"),\"\")","v":""},{"$f":"_xlfn.IFNA(IF(INDEX(VLC!I:I,MATCH(601+ROW(A11)-1,VLC!V:V,0))<>\"\",_xlfn.IFNA(INDEX(VLC!I:I,MATCH(601+ROW(A11)-1,VLC!V:V,0)),\"\"),\"\"),\"\")","v":""},{"$f":"_xlfn.IFNA(IF(INDEX(VLC!I:I,MATCH(641+ROW(A11)-1,VLC!V:V,0))<>\"\",_xlfn.IFNA(INDEX(VLC!I:I,MATCH(641+ROW(A11)-1,VLC!V:V,0)),\"\"),\"\"),\"\")","v":""},{"$f":"_xlfn.IFNA(IF(INDEX(VLC!J:J,MATCH(601+ROW(A11)-1,VLC!V:V,0))=\"x\",_xlfn.IFNA(INDEX(VLC!J:J,MATCH(601+ROW(A11)-1,VLC!V:V,0)),\"\"),\"\"),\"\")","v":""},{"$f":"_xlfn.IFNA(IF(INDEX(VLC!J:J,MATCH(641+ROW(A11)-1,VLC!V:V,0))=\"x\",_xlfn.IFNA(INDEX(VLC!J:J,MATCH(641+ROW(A11)-1,VLC!V:V,0)),\"\"),\"\"),\"\")","v":""},6011,6051]
["SK Teilnehmer 12",{"$f":"_xlfn.IFNA(INDEX(VLC!A:A,MATCH(612,VLC!V:V,0)),\"\")","v":""},{"$f":"_xlfn.IFNA(INDEX(VLC!A:A,MATCH(652,VLC!V:V,0)),\"\")","v":""},{"$f":"_xlfn.IFNA(INDEX(VLC!B:B,MATCH(601+ROW(A12)-1,VLC!V:V,0)),\"\")","v":""},{"$f":"_xlfn.IFNA(INDEX(VLC!C:C,MATCH(601+ROW(A12)-1,VLC!V:V,0)),\"\")","v":""},{"$f":"_xlfn.IFNA(IF(INDEX(VLC!H:H,MATCH(601+ROW(A12)-1,VLC!V:V,0))=\"x\",_xlfn.IFNA(INDEX(VLC!H:H,MATCH(601+ROW(A12)-1,VLC!V:V,0)),\"\"),\"\"),\"\")","v":""},{"$f":"_xlfn.IFNA(IF(INDEX(VLC!H:H,MATCH(641+ROW(A12)-1,VLC!V:V,0))=\"x\",_xlfn.IFNA(INDEX(VLC!H:H,MATCH(641+ROW(A12)-1,VLC!V:V,0)),\"\"),\"\"),\"\")","v":""},{"$f":"_xlfn.IFNA(IF(INDEX(VLC!I:I,MATCH(601+ROW(A12)-1,VLC!V:V,0))<>\"\",_xlfn.IFNA(INDEX(VLC!I:I,MATCH(601+ROW(A12)-1,VLC!V:V,0)),\"\"),\"\"),\"\")","v":""},{"$f":"_xlfn.IFNA(IF(INDEX(VLC!I:I,MATCH(641+ROW(A12)-1,VLC!V:V,0))<>\"\",_xlfn.IFNA(INDEX(VLC!I:I,MATCH(641+ROW(A12)-1,VLC!V:V,0)),\"\"),\"\"),\"\")","v":""},{"$f":"_xlfn.IFNA(IF(INDEX(VLC!J:J,MATCH(601+ROW(A12)-1,VLC!V:V,0))=\"x\",_xlfn.IFNA(INDEX(VLC!J:J,MATCH(601+ROW(A12)-1,VLC!V:V,0)),\"\"),\"\"),\"\")","v":""},{"$f":"_xlfn.IFNA(IF(INDEX(VLC!J:J,MATCH(641+ROW(A12)-1,VLC!V:V,0))=\"x\",_xlfn.IFNA(INDEX(VLC!J:J,MATCH(641+ROW(A12)-1,VLC!V:V,0)),\"\"),\"\"),\"\")","v":""},6012,6052]
["SK Teilnehmer 13",{"$f":"_xlfn.IFNA(INDEX(VLC!A:A,MATCH(613,VLC!V:V,0)),\"\")","v":""},{"$f":"_xlfn.IFNA(INDEX(VLC!A:A,MATCH(653,VLC!V:V,0)),\"\")","v":""},{"$f":"_xlfn.IFNA(INDEX(VLC!B:B,MATCH(601+ROW(A13)-1,VLC!V:V,0)),\"\")","v":""},{"$f":"_xlfn.IFNA(INDEX(VLC!C:C,MATCH(601+ROW(A13)-1,VLC!V:V,0)),\"\")","v":""},{"$f":"_xlfn.IFNA(IF(INDEX(VLC!H:H,MATCH(601+ROW(A13)-1,VLC!V:V,0))=\"x\",_xlfn.IFNA(INDEX(VLC!H:H,MATCH(601+ROW(A13)-1,VLC!V:V,0)),\"\"),\"\"),\"\")","v":""},{"$f":"_xlfn.IFNA(IF(INDEX(VLC!H:H,MATCH(641+ROW(A13)-1,VLC!V:V,0))=\"x\",_xlfn.IFNA(INDEX(VLC!H:H,MATCH(641+ROW(A13)-1,VLC!V:V,0)),\"\"),\"\"),\"\")","v":""},{"$f":"_xlfn.IFNA(IF(INDEX(VLC!I:I,MATCH(601+ROW(A13)-1,VLC!V:V,0))<>\"\",_xlfn.IFNA(INDEX(VLC!I:I,MATCH(601+ROW(A13)-1,VLC!V:V,0)),\"\"),\"\"),\"\")","v":""},{"$f":"_xlfn.IFNA(IF(INDEX(VLC!I:I,MATCH(641+ROW(A13)-1,VLC!V:V,0))<>\"\",_xlfn.IFNA(INDEX(VLC!I:I,MATCH(641+ROW(A13)-1,VLC!V:V,0)),\"\"),\"\"),\"\")","v":""},{"$f":"_xlfn.IFNA(IF(INDEX(VLC!J:J,MATCH(601+ROW(A13)-1,VLC!V:V,0))=\"x\",_xlfn.IFNA(INDEX(VLC!J:J,MATCH(601+ROW(A13)-1,VLC!V:V,0)),\"\"),\"\"),\"\")","v":""},{"$f":"_xlfn.IFNA(IF(INDEX(VLC!J:J,MATCH(641+ROW(A13)-1,VLC!V:V,0))=\"x\",_xlfn.IFNA(INDEX(VLC!J:J,MATCH(641+ROW(A13)-1,VLC!V:V,0)),\"\"),\"\"),\"\")","v":""},6013,6053]
["SK Teilnehmer 14",{"$f":"_xlfn.IFNA(INDEX(VLC!A:A,MATCH(614,VLC!V:V,0)),\"\")","v":""},{"$f":"_xlfn.IFNA(INDEX(VLC!A:A,MATCH(654,VLC!V:V,0)),\"\")","v":""},{"$f":"_xlfn.IFNA(INDEX(VLC!B:B,MATCH(601+ROW(A14)-1,VLC!V:V,0)),\"\")","v":""},{"$f":"_xlfn.IFNA(INDEX(VLC!C:C,MATCH(601+ROW(A14)-1,VLC!V:V,0)),\"\")","v":""},{"$f":"_xlfn.IFNA(IF(INDEX(VLC!H:H,MATCH(601+ROW(A14)-1,VLC!V:V,0))=\"x\",_xlfn.IFNA(INDEX(VLC!H:H,MATCH(601+ROW(A14)-1,VLC!V:V,0)),\"\"),\"\"),\"\")","v":""},{"$f":"_xlfn.IFNA(IF(INDEX(VLC!H:H,MATCH(641+ROW(A14)-1,VLC!V:V,0))=\"x\",_xlfn.IFNA(INDEX(VLC!H:H,MATCH(641+ROW(A14)-1,VLC!V:V,0)),\"\"),\"\"),\"\")","v":""},{"$f":"_xlfn.IFNA(IF(INDEX(VLC!I:I,MATCH(601+ROW(A14)-1,VLC!V:V,0))<>\"\",_xlfn.IFNA(INDEX(VLC!I:I,MATCH(601+ROW(A14)-1,VLC!V:V,0)),\"\"),\"\"),\"\")","v":""},{"$f":"_xlfn.IFNA(IF(INDEX(VLC!I:I,MATCH(641+ROW(A14)-1,VLC!V:V,0))<>\"\",_xlfn.IFNA(INDEX(VLC!I:I,MATCH(641+ROW(A14)-1,VLC!V:V,0)),\"\"),\"\"),\"\")","v":""},{"$f":"_xlfn.IFNA(IF(INDEX(VLC!J:J,MATCH(601+ROW(A14)-1,VLC!V:V,0))=\"x\",_xlfn.IFNA(INDEX(VLC!J:J,MATCH(601+ROW(A14)-1,VLC!V:V,0)),\"\"),\"\"),\"\")","v":""},{"$f":"_xlfn.IFNA(IF(INDEX(VLC!J:J,MATCH(641+ROW(A14)-1,VLC!V:V,0))=\"x\",_xlfn.IFNA(INDEX(VLC!J:J,MATCH(641+ROW(A14)-1,VLC!V:V,0)),\"\"),\"\"),\"\")","v":""},6014,6054]
["SK Teilnehmer 15",{"$f":"_xlfn.IFNA(INDEX(VLC!A:A,MATCH(615,VLC!V:V,0)),\"\")","v":""},{"$f":"_xlfn.IFNA(INDEX(VLC!A:A,MATCH(655,VLC!V:V,0)),\"\")","v":""},{"$f":"_xlfn.IFNA(INDEX(VLC!B:B,MATCH(601+ROW(A15)-1,VLC!V:V,0)),\"\")","v":""},{"$f":"_xlfn.IFNA(INDEX(VLC!C:C,MATCH(601+ROW(A15)-1,VLC!V:V,0)),\"\")","v":""},{"$f":"_xlfn.IFNA(IF(INDEX(VLC!H:H,MATCH(601+ROW(A15)-1,VLC!V:V,0))=\"x\",_xlfn.IFNA(INDEX(VLC!H:H,MATCH(601+ROW(A15)-1,VLC!V:V,0)),\"\"),\"\"),\"\")","v":""},{"$f":"_xlfn.IFNA(IF(INDEX(VLC!H:H,MATCH(641+ROW(A15)-1,VLC!V:V,0))=\"x\",_xlfn.IFNA(INDEX(VLC!H:H,MATCH(641+ROW(A15)-1,VLC!V:V,0)),\"\"),\"\"),\"\")","v":""},{"$f":"_xlfn.IFNA(IF(INDEX(VLC!I:I,MATCH(601+ROW(A15)-1,VLC!V:V,0))<>\"\",_xlfn.IFNA(INDEX(VLC!I:I,MATCH(601+ROW(A15)-1,VLC!V:V,0)),\"\"),\"\"),\"\")","v":""},{"$f":"_xlfn.IFNA(IF(INDEX(VLC!I:I,MATCH(641+ROW(A15)-1,VLC!V:V,0))<>\"\",_xlfn.IFNA(INDEX(VLC!I:I,MATCH(641+ROW(A15)-1,VLC!V:V,0)),\"\"),\"\"),\"\")","v":""},{"$f":"_xlfn.IFNA(IF(INDEX(VLC!J:J,MATCH(601+ROW(A15)-1,VLC!V:V,0))=\"x\",_xlfn.IFNA(INDEX(VLC!J:J,MATCH(601+ROW(A15)-1,VLC!V:V,0)),\"\"),\"\"),\"\")","v":""},{"$f":"_xlfn.IFNA(IF(INDEX(VLC!J:J,MATCH(641+ROW(A15)-1,VLC!V:V,0))=\"x\",_xlfn.IFNA(INDEX(VLC!J:J,MATCH(641+ROW(A15)-1,VLC!V:V,0)),\"\"),\"\"),\"\")","v":""},6015,6055]
["SK Teilnehmer 16",{"$f":"_xlfn.IFNA(INDEX(VLC!A:A,MATCH(616,VLC!V:V,0)),\"\")","v":""},{"$f":"_xlfn.IFNA(INDEX(VLC!A:A,MATCH(656,VLC!V:V,0)),\"\")","v":""},{"$f":"_xlfn.IFNA(INDEX(VLC!B:B,MATCH(601+ROW(A16)-1,VLC!V:V,0)),\"\")","v":""},{"$f":"_xlfn.IFNA(INDEX(VLC!C:C,MATCH(601+ROW(A16)-1,VLC!V:V,0)),\"\")","v":""},{"$f":"_xlfn.IFNA(IF(INDEX(VLC!H:H,MATCH(601+ROW(A16)-1,VLC!V:V,0))=\"x\",_xlfn.IFNA(INDEX(VLC!H:H,MATCH(601+ROW(A16)-1,VLC!V:V,0)),\"\"),\"\"),\"\")","v":""},{"$f":"_xlfn.IFNA(IF(INDEX(VLC!H:H,MATCH(641+ROW(A16)-1,VLC!V:V,0))=\"x\",_xlfn.IFNA(INDEX(VLC!H:H,MATCH(641+ROW(A16)-1,VLC!V:V,0)),\"\"),\"\"),\"\")","v":""},{"$f":"_xlfn.IFNA(IF(INDEX(VLC!I:I,MATCH(601+ROW(A16)-1,VLC!V:V,0))<>\"\",_xlfn.IFNA(INDEX(VLC!I:I,MATCH(601+ROW(A16)-1,VLC!V:V,0)),\"\"),\"\"),\"\")","v":""},{"$f":"_xlfn.IFNA(IF(INDEX(VLC!I:I,MATCH(641+ROW(A16)-1,VLC!V:V,0))<>\"\",_xlfn.IFNA(INDEX(VLC!I:I,MATCH(641+ROW(A16)-1,VLC!V:V,0)),\"\"),\"\"),\"\")","v":""},{"$f":"_xlfn.IFNA(IF(INDEX(VLC!J:J,MATCH(601+ROW(A16)-1,VLC!V:V,0))=\"x\",_xlfn.IFNA(INDEX(VLC!J:J,MATCH(601+ROW(A16)-1,VLC!V:V,0)),\"\"),\"\"),\"\")","v":""},{"$f":"_xlfn.IFNA(IF(INDEX(VLC!J:J,MATCH(641+ROW(A16)-1,VLC!V:V,0))=\"x\",_xlfn.IFNA(INDEX(VLC!J:J,MATCH(641+ROW(A16)-1,VLC!V:V,0)),\"\"),\"\"),\"\")","v":""},6016,6056]
["SK Teilnehmer 17",{"$f":"_xlfn.IFNA(INDEX(VLC!A:A,MATCH(617,VLC!V:V,0)),\"\")","v":""},{"$f":"_xlfn.IFNA(INDEX(VLC!A:A,MATCH(657,VLC!V:V,0)),\"\")","v":""},{"$f":"_xlfn.IFNA(INDEX(VLC!B:B,MATCH(601+ROW(A17)-1,VLC!V:V,0)),\"\")","v":""},{"$f":"_xlfn.IFNA(INDEX(VLC!C:C,MATCH(601+ROW(A17)-1,VLC!V:V,0)),\"\")","v":""},{"$f":"_xlfn.IFNA(IF(INDEX(VLC!H:H,MATCH(601+ROW(A17)-1,VLC!V:V,0))=\"x\",_xlfn.IFNA(INDEX(VLC!H:H,MATCH(601+ROW(A17)-1,VLC!V:V,0)),\"\"),\"\"),\"\")","v":""},{"$f":"_xlfn.IFNA(IF(INDEX(VLC!H:H,MATCH(641+ROW(A17)-1,VLC!V:V,0))=\"x\",_xlfn.IFNA(INDEX(VLC!H:H,MATCH(641+ROW(A17)-1,VLC!V:V,0)),\"\"),\"\"),\"\")","v":""},{"$f":"_xlfn.IFNA(IF(INDEX(VLC!I:I,MATCH(601+ROW(A17)-1,VLC!V:V,0))<>\"\",_xlfn.IFNA(INDEX(VLC!I:I,MATCH(601+ROW(A17)-1,VLC!V:V,0)),\"\"),\"\"),\"\")","v":""},{"$f":"_xlfn.IFNA(IF(INDEX(VLC!I:I,MATCH(641+ROW(A17)-1,VLC!V:V,0))<>\"\",_xlfn.IFNA(INDEX(VLC!I:I,MATCH(641+ROW(A17)-1,VLC!V:V,0)),\"\"),\"\"),\"\")","v":""},{"$f":"_xlfn.IFNA(IF(INDEX(VLC!J:J,MATCH(601+ROW(A17)-1,VLC!V:V,0))=\"x\",_xlfn.IFNA(INDEX(VLC!J:J,MATCH(601+ROW(A17)-1,VLC!V:V,0)),\"\"),\"\"),\"\")","v":""},{"$f":"_xlfn.IFNA(IF(INDEX(VLC!J:J,MATCH(641+ROW(A17)-1,VLC!V:V,0))=\"x\",_xlfn.IFNA(INDEX(VLC!J:J,MATCH(641+ROW(A17)-1,VLC!V:V,0)),\"\"),\"\"),\"\")","v":""},6017,6057]
["SK Teilnehmer 18",{"$f":"_xlfn.IFNA(INDEX(VLC!A:A,MATCH(618,VLC!V:V,0)),\"\")","v":""},{"$f":"_xlfn.IFNA(INDEX(VLC!A:A,MATCH(658,VLC!V:V,0)),\"\")","v":""},{"$f":"_xlfn.IFNA(INDEX(VLC!B:B,MATCH(601+ROW(A18)-1,VLC!V:V,0)),\"\")","v":""},{"$f":"_xlfn.IFNA(INDEX(VLC!C:C,MATCH(601+ROW(A18)-1,VLC!V:V,0)),\"\")","v":""},{"$f":"_xlfn.IFNA(IF(INDEX(VLC!H:H,MATCH(601+ROW(A18)-1,VLC!V:V,0))=\"x\",_xlfn.IFNA(INDEX(VLC!H:H,MATCH(601+ROW(A18)-1,VLC!V:V,0)),\"\"),\"\"),\"\")","v":""},{"$f":"_xlfn.IFNA(IF(INDEX(VLC!H:H,MATCH(641+ROW(A18)-1,VLC!V:V,0))=\"x\",_xlfn.IFNA(INDEX(VLC!H:H,MATCH(641+ROW(A18)-1,VLC!V:V,0)),\"\"),\"\"),\"\")","v":""},{"$f":"_xlfn.IFNA(IF(INDEX(VLC!I:I,MATCH(601+ROW(A18)-1,VLC!V:V,0))<>\"\",_xlfn.IFNA(INDEX(VLC!I:I,MATCH(601+ROW(A18)-1,VLC!V:V,0)),\"\"),\"\"),\"\")","v":""},{"$f":"_xlfn.IFNA(IF(INDEX(VLC!I:I,MATCH(641+ROW(A18)-1,VLC!V:V,0))<>\"\",_xlfn.IFNA(INDEX(VLC!I:I,MATCH(641+ROW(A18)-1,VLC!V:V,0)),\"\"),\"\"),\"\")","v":""},{"$f":"_xlfn.IFNA(IF(INDEX(VLC!J:J,MATCH(601+ROW(A18)-1,VLC!V:V,0))=\"x\",_xlfn.IFNA(INDEX(VLC!J:J,MATCH(601+ROW(A18)-1,VLC!V:V,0)),\"\"),\"\"),\"\")","v":""},{"$f":"_xlfn.IFNA(IF(INDEX(VLC!J:J,MATCH(641+ROW(A18)-1,VLC!V:V,0))=\"x\",_xlfn.IFNA(INDEX(VLC!J:J,MATCH(641+ROW(A18)-1,VLC!V:V,0)),\"\"),\"\"),\"\")","v":""},6018,6058]
["SK Teilnehmer 19",{"$f":"_xlfn.IFNA(INDEX(VLC!A:A,MATCH(619,VLC!V:V,0)),\"\")","v":""},{"$f":"_xlfn.IFNA(INDEX(VLC!A:A,MATCH(659,VLC!V:V,0)),\"\")","v":""},{"$f":"_xlfn.IFNA(INDEX(VLC!B:B,MATCH(601+ROW(A19)-1,VLC!V:V,0)),\"\")","v":""},{"$f":"_xlfn.IFNA(INDEX(VLC!C:C,MATCH(601+ROW(A19)-1,VLC!V:V,0)),\"\")","v":""},{"$f":"_xlfn.IFNA(IF(INDEX(VLC!H:H,MATCH(601+ROW(A19)-1,VLC!V:V,0))=\"x\",_xlfn.IFNA(INDEX(VLC!H:H,MATCH(601+ROW(A19)-1,VLC!V:V,0)),\"\"),\"\"),\"\")","v":""},{"$f":"_xlfn.IFNA(IF(INDEX(VLC!H:H,MATCH(641+ROW(A19)-1,VLC!V:V,0))=\"x\",_xlfn.IFNA(INDEX(VLC!H:H,MATCH(641+ROW(A19)-1,VLC!V:V,0)),\"\"),\"\"),\"\")","v":""},{"$f":"_xlfn.IFNA(IF(INDEX(VLC!I:I,MATCH(601+ROW(A19)-1,VLC!V:V,0))<>\"\",_xlfn.IFNA(INDEX(VLC!I:I,MATCH(601+ROW(A19)-1,VLC!V:V,0)),\"\"),\"\"),\"\")","v":""},{"$f":"_xlfn.IFNA(IF(INDEX(VLC!I:I,MATCH(641+ROW(A19)-1,VLC!V:V,0))<>\"\",_xlfn.IFNA(INDEX(VLC!I:I,MATCH(641+ROW(A19)-1,VLC!V:V,0)),\"\"),\"\"),\"\")","v":""},{"$f":"_xlfn.IFNA(IF(INDEX(VLC!J:J,MATCH(601+ROW(A19)-1,VLC!V:V,0))=\"x\",_xlfn.IFNA(INDEX(VLC!J:J,MATCH(601+ROW(A19)-1,VLC!V:V,0)),\"\"),\"\"),\"\")","v":""},{"$f":"_xlfn.IFNA(IF(INDEX(VLC!J:J,MATCH(641+ROW(A19)-1,VLC!V:V,0))=\"x\",_xlfn.IFNA(INDEX(VLC!J:J,MATCH(641+ROW(A19)-1,VLC!V:V,0)),\"\"),\"\"),\"\")","v":""},6019,6059]
["SK Teilnehmer 20",{"$f":"_xlfn.IFNA(INDEX(VLC!A:A,MATCH(620,VLC!V:V,0)),\"\")","v":""},{"$f":"_xlfn.IFNA(INDEX(VLC!A:A,MATCH(660,VLC!V:V,0)),\"\")","v":""},{"$f":"_xlfn.IFNA(INDEX(VLC!B:B,MATCH(601+ROW(A20)-1,VLC!V:V,0)),\"\")","v":""},{"$f":"_xlfn.IFNA(INDEX(VLC!C:C,MATCH(601+ROW(A20)-1,VLC!V:V,0)),\"\")","v":""},{"$f":"_xlfn.IFNA(IF(INDEX(VLC!H:H,MATCH(601+ROW(A20)-1,VLC!V:V,0))=\"x\",_xlfn.IFNA(INDEX(VLC!H:H,MATCH(601+ROW(A20)-1,VLC!V:V,0)),\"\"),\"\"),\"\")","v":""},{"$f":"_xlfn.IFNA(IF(INDEX(VLC!H:H,MATCH(641+ROW(A20)-1,VLC!V:V,0))=\"x\",_xlfn.IFNA(INDEX(VLC!H:H,MATCH(641+ROW(A20)-1,VLC!V:V,0)),\"\"),\"\"),\"\")","v":""},{"$f":"_xlfn.IFNA(IF(INDEX(VLC!I:I,MATCH(601+ROW(A20)-1,VLC!V:V,0))<>\"\",_xlfn.IFNA(INDEX(VLC!I:I,MATCH(601+ROW(A20)-1,VLC!V:V,0)),\"\"),\"\"),\"\")","v":""},{"$f":"_xlfn.IFNA(IF(INDEX(VLC!I:I,MATCH(641+ROW(A20)-1,VLC!V:V,0))<>\"\",_xlfn.IFNA(INDEX(VLC!I:I,MATCH(641+ROW(A20)-1,VLC!V:V,0)),\"\"),\"\"),\"\")","v":""},{"$f":"_xlfn.IFNA(IF(INDEX(VLC!J:J,MATCH(601+ROW(A20)-1,VLC!V:V,0))=\"x\",_xlfn.IFNA(INDEX(VLC!J:J,MATCH(601+ROW(A20)-1,VLC!V:V,0)),\"\"),\"\"),\"\")","v":""},{"$f":"_xlfn.IFNA(IF(INDEX(VLC!J:J,MATCH(641+ROW(A20)-1,VLC!V:V,0))=\"x\",_xlfn.IFNA(INDEX(VLC!J:J,MATCH(641+ROW(A20)-1,VLC!V:V,0)),\"\"),\"\"),\"\")","v":""},6020,6060]
["Gerätename:",{"$f":"$B$6","v":0},null,null,"PLC24 Stromkreis-Nummer: 7"]
["Stromkreis-Bezeichnung:"]
["Stromkreisbelegung","ID 1","ID 2","Bezeichnung","Zusatzinfo","DL",null,"GL",null,"BL"]
[null,null,null,null,null,"ID1","ID2","ID1","ID2","ID1","ID2"]
["SK Teilnehmer 1",{"$f":"_xlfn.IFNA(INDEX(VLC!A:A,MATCH(701,VLC!V:V,0)),\"\")","v":""},{"$f":"_xlfn.IFNA(INDEX(VLC!A:A,MATCH(741,VLC!V:V,0)),\"\")","v":""},{"$f":"_xlfn.IFNA(INDEX(VLC!B:B,MATCH(701+ROW(A1)-1,VLC!V:V,0)),\"\")","v":""},{"$f":"_xlfn.IFNA(INDEX(VLC!C:C,MATCH(701+ROW(A1)-1,VLC!V:V,0)),\"\")","v":""},{"$f":"_xlfn.IFNA(IF(INDEX(VLC!H:H,MATCH(701+ROW(A1)-1,VLC!V:V,0))=\"x\",_xlfn.IFNA(INDEX(VLC!H:H,MATCH(701+ROW(A1)-1,VLC!V:V,0)),\"\"),\"\"),\"\")","v":""},{"$f":"_xlfn.IFNA(IF(INDEX(VLC!H:H,MATCH(741+ROW(A1)-1,VLC!V:V,0))=\"x\",_xlfn.IFNA(INDEX(VLC!H:H,MATCH(741+ROW(A1)-1,VLC!V:V,0)),\"\"),\"\"),\"\")","v":""},{"$f":"_xlfn.IFNA(IF(INDEX(VLC!I:I,MATCH(701+ROW(A1)-1,VLC!V:V,0))<>\"\",_xlfn.IFNA(INDEX(VLC!I:I,MATCH(701+ROW(A1)-1,VLC!V:V,0)),\"\"),\"\"),\"\")","v":""},{"$f":"_xlfn.IFNA(IF(INDEX(VLC!I:I,MATCH(741+ROW(A1)-1,VLC!V:V,0))<>\"\",_xlfn.IFNA(INDEX(VLC!I:I,MATCH(741+ROW(A1)-1,VLC!V:V,0)),\"\"),\"\"),\"\")","v":""},{"$f":"_xlfn.IFNA(IF(INDEX(VLC!J:J,MATCH(701+ROW(A1)-1,VLC!V:V,0))=\"x\",_xlfn.IFNA(INDEX(VLC!J:J,MATCH(701+ROW(A1)-1,VLC!V:V,0)),\"\"),\"\"),\"\")","v":""},{"$f":"_xlfn.IFNA(IF(INDEX(VLC!J:J,MATCH(741+ROW(A1)-1,VLC!V:V,0))=\"x\",_xlfn.IFNA(INDEX(VLC!J:J,MATCH(741+ROW(A1)-1,VLC!V:V,0)),\"\"),\"\"),\"\")","v":""},{"$f":"7000+ROW(A154)-153","v":7001},{"$f":"L154+40","v":7041}]
["SK Teilnehmer 2",{"$f":"_xlfn.IFNA(INDEX(VLC!A:A,MATCH(702,VLC!V:V,0)),\"\")","v":""},{"$f":"_xlfn.IFNA(INDEX(VLC!A:A,MATCH(742,VLC!V:V,0)),\"\")","v":""},{"$f":"_xlfn.IFNA(INDEX(VLC!B:B,MATCH(701+ROW(A2)-1,VLC!V:V,0)),\"\")","v":""},{"$f":"_xlfn.IFNA(INDEX(VLC!C:C,MATCH(701+ROW(A2)-1,VLC!V:V,0)),\"\")","v":""},{"$f":"_xlfn.IFNA(IF(INDEX(VLC!H:H,MATCH(701+ROW(A2)-1,VLC!V:V,0))=\"x\",_xlfn.IFNA(INDEX(VLC!H:H,MATCH(701+ROW(A2)-1,VLC!V:V,0)),\"\"),\"\"),\"\")","v":""},{"$f":"_xlfn.IFNA(IF(INDEX(VLC!H:H,MATCH(741+ROW(A2)-1,VLC!V:V,0))=\"x\",_xlfn.IFNA(INDEX(VLC!H:H,MATCH(741+ROW(A2)-1,VLC!V:V,0)),\"\"),\"\"),\"\")","v":""},{"$f":"_xlfn.IFNA(IF(INDEX(VLC!I:I,MATCH(701+ROW(A2)-1,VLC!V:V,0))<>\"\",_xlfn.IFNA(INDEX(VLC!I:I,MATCH(701+ROW(A2)-1,VLC!V:V,0)),\"\"),\"\"),\"\")","v":""},{"$f":"_xlfn.IFNA(IF(INDEX(VLC!I:I,MATCH(741+ROW(A2)-1,VLC!V:V,0))<>\"\",_xlfn.IFNA(INDEX(VLC!I:I,MATCH(741+ROW(A2)-1,VLC!V:V,0)),\"\"),\"\"),\"\")","v":""},{"$f":"_xlfn.IFNA(IF(INDEX(VLC!J:J,MATCH(701+ROW(A2)-1,VLC!V:V,0))=\"x\",_xlfn.IFNA(INDEX(VLC!J:J,MATCH(701+ROW(A2)-1,VLC!V:V,0)),\"\"),\"\"),\"\")","v":""},{"$f":"_xlfn.IFNA(IF(INDEX(VLC!J:J,MATCH(741+ROW(A2)-1,VLC!V:V,0))=\"x\",_xlfn.IFNA(INDEX(VLC!J:J,MATCH(741+ROW(A2)-1,VLC!V:V,0)),\"\"),\"\"),\"\")","v":""},{"$f":"7000+ROW(A155)-153","v":7002},{"$f":"L155+40","v":7042}]
["SK Teilnehmer 3",{"$f":"_xlfn.IFNA(INDEX(VLC!A:A,MATCH(703,VLC!V:V,0)),\"\")","v":""},{"$f":"_xlfn.IFNA(INDEX(VLC!A:A,MATCH(743,VLC!V:V,0)),\"\")","v":""},{"$f":"_xlfn.IFNA(INDEX(VLC!B:B,MATCH(701+ROW(A3)-1,VLC!V:V,0)),\"\")","v":""},{"$f":"_xlfn.IFNA(INDEX(VLC!C:C,MATCH(701+ROW(A3)-1,VLC!V:V,0)),\"\")","v":""},{"$f":"_xlfn.IFNA(IF(INDEX(VLC!H:H,MATCH(701+ROW(A3)-1,VLC!V:V,0))=\"x\",_xlfn.IFNA(INDEX(VLC!H:H,MATCH(701+ROW(A3)-1,VLC!V:V,0)),\"\"),\"\"),\"\")","v":""},{"$f":"_xlfn.IFNA(IF(INDEX(VLC!H:H,MATCH(741+ROW(A3)-1,VLC!V:V,0))=\"x\",_xlfn.IFNA(INDEX(VLC!H:H,MATCH(741+ROW(A3)-1,VLC!V:V,0)),\"\"),\"\"),\"\")","v":""},{"$f":"_xlfn.IFNA(IF(INDEX(VLC!I:I,MATCH(701+ROW(A3)-1,VLC!V:V,0))<>\"\",_xlfn.IFNA(INDEX(VLC!I:I,MATCH(701+ROW(A3)-1,VLC!V:V,0)),\"\"),\"\"),\"\")","v":""},{"$f":"_xlfn.IFNA(IF(INDEX(VLC!I:I,MATCH(741+ROW(A3)-1,VLC!V:V,0))<>\"\",_xlfn.IFNA(INDEX(VLC!I:I,MATCH(741+ROW(A3)-1,VLC!V:V,0)),\"\"),\"\"),\"\")","v":""},{"$f":"_xlfn.IFNA(IF(INDEX(VLC!J:J,MATCH(701+ROW(A3)-1,VLC!V:V,0))=\"x\",_xlfn.IFNA(INDEX(VLC!J:J,MATCH(701+ROW(A3)-1,VLC!V:V,0)),\"\"),\"\"),\"\")","v":""},{"$f":"_xlfn.IFNA(IF(INDEX(VLC!J:J,MATCH(741+ROW(A3)-1,VLC!V:V,0))=\"x\",_xlfn.IFNA(INDEX(VLC!J:J,MATCH(741+ROW(A3)-1,VLC!V:V,0)),\"\"),\"\"),\"\")","v":""},7003,7043]
["SK Teilnehmer 4",{"$f":"_xlfn.IFNA(INDEX(VLC!A:A,MATCH(704,VLC!V:V,0)),\"\")","v":""},{"$f":"_xlfn.IFNA(INDEX(VLC!A:A,MATCH(744,VLC!V:V,0)),\"\")","v":""},{"$f":"_xlfn.IFNA(INDEX(VLC!B:B,MATCH(701+ROW(A4)-1,VLC!V:V,0)),\"\")","v":""},{"$f":"_xlfn.IFNA(INDEX(VLC!C:C,MATCH(701+ROW(A4)-1,VLC!V:V,0)),\"\")","v":""},{"$f":"_xlfn.IFNA(IF(INDEX(VLC!H:H,MATCH(701+ROW(A4)-1,VLC!V:V,0))=\"x\",_xlfn.IFNA(INDEX(VLC!H:H,MATCH(701+ROW(A4)-1,VLC!V:V,0)),\"\"),\"\"),\"\")","v":""},{"$f":"_xlfn.IFNA(IF(INDEX(VLC!H:H,MATCH(741+ROW(A4)-1,VLC!V:V,0))=\"x\",_xlfn.IFNA(INDEX(VLC!H:H,MATCH(741+ROW(A4)-1,VLC!V:V,0)),\"\"),\"\"),\"\")","v":""},{"$f":"_xlfn.IFNA(IF(INDEX(VLC!I:I,MATCH(701+ROW(A4)-1,VLC!V:V,0))<>\"\",_xlfn.IFNA(INDEX(VLC!I:I,MATCH(701+ROW(A4)-1,VLC!V:V,0)),\"\"),\"\"),\"\")","v":""},{"$f":"_xlfn.IFNA(IF(INDEX(VLC!I:I,MATCH(741+ROW(A4)-1,VLC!V:V,0))<>\"\",_xlfn.IFNA(INDEX(VLC!I:I,MATCH(741+ROW(A4)-1,VLC!V:V,0)),\"\"),\"\"),\"\")","v":""},{"$f":"_xlfn.IFNA(IF(INDEX(VLC!J:J,MATCH(701+ROW(A4)-1,VLC!V:V,0))=\"x\",_xlfn.IFNA(INDEX(VLC!J:J,MATCH(701+ROW(A4)-1,VLC!V:V,0)),\"\"),\"\"),\"\")","v":""},{"$f":"_xlfn.IFNA(IF(INDEX(VLC!J:J,MATCH(741+ROW(A4)-1,VLC!V:V,0))=\"x\",_xlfn.IFNA(INDEX(VLC!J:J,MATCH(741+ROW(A4)-1,VLC!V:V,0)),\"\"),\"\"),\"\")","v":""},7004,7044]
["SK Teilnehmer 5",{"$f":"_xlfn.IFNA(INDEX(VLC!A:A,MATCH(705,VLC!V:V,0)),\"\")","v":""},{"$f":"_xlfn.IFNA(INDEX(VLC!A:A,MATCH(745,VLC!V:V,0)),\"\")","v":""},{"$f":"_xlfn.IFNA(INDEX(VLC!B:B,MATCH(701+ROW(A5)-1,VLC!V:V,0)),\"\")","v":""},{"$f":"_xlfn.IFNA(INDEX(VLC!C:C,MATCH(701+ROW(A5)-1,VLC!V:V,0)),\"\")","v":""},{"$f":"_xlfn.IFNA(IF(INDEX(VLC!H:H,MATCH(701+ROW(A5)-1,VLC!V:V,0))=\"x\",_xlfn.IFNA(INDEX(VLC!H:H,MATCH(701+ROW(A5)-1,VLC!V:V,0)),\"\"),\"\"),\"\")","v":""},{"$f":"_xlfn.IFNA(IF(INDEX(VLC!H:H,MATCH(741+ROW(A5)-1,VLC!V:V,0))=\"x\",_xlfn.IFNA(INDEX(VLC!H:H,MATCH(741+ROW(A5)-1,VLC!V:V,0)),\"\"),\"\"),\"\")","v":""},{"$f":"_xlfn.IFNA(IF(INDEX(VLC!I:I,MATCH(701+ROW(A5)-1,VLC!V:V,0))<>\"\",_xlfn.IFNA(INDEX(VLC!I:I,MATCH(701+ROW(A5)-1,VLC!V:V,0)),\"\"),\"\"),\"\")","v":""},{"$f":"_xlfn.IFNA(IF(INDEX(VLC!I:I,MATCH(741+ROW(A5)-1,VLC!V:V,0))<>\"\",_xlfn.IFNA(INDEX(VLC!I:I,MATCH(741+ROW(A5)-1,VLC!V:V,0)),\"\"),\"\"),\"\")","v":""},{"$f":"_xlfn.IFNA(IF(INDEX(VLC!J:J,MATCH(701+ROW(A5)-1,VLC!V:V,0))=\"x\",_xlfn.IFNA(INDEX(VLC!J:J,MATCH(701+ROW(A5)-1,VLC!V:V,0)),\"\"),\"\"),\"\")","v":""},{"$f":"_xlfn.IFNA(IF(INDEX(VLC!J:J,MATCH(741+ROW(A5)-1,VLC!V:V,0))=\"x\",_xlfn.IFNA(INDEX(VLC!J:J,MATCH(741+ROW(A5)-1,VLC!V:V,0)),\"\"),\"\"),\"\")","v":""},7005,7045]
["SK Teilnehmer 6",{"$f":"_xlfn.IFNA(INDEX(VLC!A:A,MATCH(706,VLC!V:V,0)),\"\")","v":""},{"$f":"_xlfn.IFNA(INDEX(VLC!A:A,MATCH(746,VLC!V:V,0)),\"\")","v":""},{"$f":"_xlfn.IFNA(INDEX(VLC!B:B,MATCH(701+ROW(A6)-1,VLC!V:V,0)),\"\")","v":""},{"$f":"_xlfn.IFNA(INDEX(VLC!C:C,MATCH(701+ROW(A6)-1,VLC!V:V,0)),\"\")","v":""},{"$f":"_xlfn.IFNA(IF(INDEX(VLC!H:H,MATCH(701+ROW(A6)-1,VLC!V:V,0))=\"x\",_xlfn.IFNA(INDEX(VLC!H:H,MATCH(701+ROW(A6)-1,VLC!V:V,0)),\"\"),\"\"),\"\")","v":""},{"$f":"_xlfn.IFNA(IF(INDEX(VLC!H:H,MATCH(741+ROW(A6)-1,VLC!V:V,0))=\"x\",_xlfn.IFNA(INDEX(VLC!H:H,MATCH(741+ROW(A6)-1,VLC!V:V,0)),\"\"),\"\"),\"\")","v":""},{"$f":"_xlfn.IFNA(IF(INDEX(VLC!I:I,MATCH(701+ROW(A6)-1,VLC!V:V,0))<>\"\",_xlfn.IFNA(INDEX(VLC!I:I,MATCH(701+ROW(A6)-1,VLC!V:V,0)),\"\"),\"\"),\"\")","v":""},{"$f":"_xlfn.IFNA(IF(INDEX(VLC!I:I,MATCH(741+ROW(A6)-1,VLC!V:V,0))<>\"\",_xlfn.IFNA(INDEX(VLC!I:I,MATCH(741+ROW(A6)-1,VLC!V:V,0)),\"\"),\"\"),\"\")","v":""},{"$f":"_xlfn.IFNA(IF(INDEX(VLC!J:J,MATCH(701+ROW(A6)-1,VLC!V:V,0))=\"x\",_xlfn.IFNA(INDEX(VLC!J:J,MATCH(701+ROW(A6)-1,VLC!V:V,0)),\"\"),\"\"),\"\")","v":""},{"$f":"_xlfn.IFNA(IF(INDEX(VLC!J:J,MATCH(741+ROW(A6)-1,VLC!V:V,0))=\"x\",_xlfn.IFNA(INDEX(VLC!J:J,MATCH(741+ROW(A6)-1,VLC!V:V,0)),\"\"),\"\"),\"\")","v":""},7006,7046]
["SK Teilnehmer 7",{"$f":"_xlfn.IFNA(INDEX(VLC!A:A,MATCH(707,VLC!V:V,0)),\"\")","v":""},{"$f":"_xlfn.IFNA(INDEX(VLC!A:A,MATCH(747,VLC!V:V,0)),\"\")","v":""},{"$f":"_xlfn.IFNA(INDEX(VLC!B:B,MATCH(701+ROW(A7)-1,VLC!V:V,0)),\"\")","v":""},{"$f":"_xlfn.IFNA(INDEX(VLC!C:C,MATCH(701+ROW(A7)-1,VLC!V:V,0)),\"\")","v":""},{"$f":"_xlfn.IFNA(IF(INDEX(VLC!H:H,MATCH(701+ROW(A7)-1,VLC!V:V,0))=\"x\",_xlfn.IFNA(INDEX(VLC!H:H,MATCH(701+ROW(A7)-1,VLC!V:V,0)),\"\"),\"\"),\"\")","v":""},{"$f":"_xlfn.IFNA(IF(INDEX(VLC!H:H,MATCH(741+ROW(A7)-1,VLC!V:V,0))=\"x\",_xlfn.IFNA(INDEX(VLC!H:H,MATCH(741+ROW(A7)-1,VLC!V:V,0)),\"\"),\"\"),\"\")","v":""},{"$f":"_xlfn.IFNA(IF(INDEX(VLC!I:I,MATCH(701+ROW(A7)-1,VLC!V:V,0))<>\"\",_xlfn.IFNA(INDEX(VLC!I:I,MATCH(701+ROW(A7)-1,VLC!V:V,0)),\"\"),\"\"),\"\")","v":""},{"$f":"_xlfn.IFNA(IF(INDEX(VLC!I:I,MATCH(741+ROW(A7)-1,VLC!V:V,0))<>\"\",_xlfn.IFNA(INDEX(VLC!I:I,MATCH(741+ROW(A7)-1,VLC!V:V,0)),\"\"),\"\"),\"\")","v":""},{"$f":"_xlfn.IFNA(IF(INDEX(VLC!J:J,MATCH(701+ROW(A7)-1,VLC!V:V,0))=\"x\",_xlfn.IFNA(INDEX(VLC!J:J,MATCH(701+ROW(A7)-1,VLC!V:V,0)),\"\"),\"\"),\"\")","v":""},{"$f":"_xlfn.IFNA(IF(INDEX(VLC!J:J,MATCH(741+ROW(A7)-1,VLC!V:V,0))=\"x\",_xlfn.IFNA(INDEX(VLC!J:J,MATCH(741+ROW(A7)-1,VLC!V:V,0)),\"\"),\"\"),\"\")","v":""},7007,7047]
["SK Teilnehmer 8",{"$f":"_xlfn.IFNA(INDEX(VLC!A:A,MATCH(708,VLC!V:V,0)),\"\")","v":""},{"$f":"_xlfn.IFNA(INDEX(VLC!A:A,MATCH(748,VLC!V:V,0)),\"\")","v":""},{"$f":"_xlfn.IFNA(INDEX(VLC!B:B,MATCH(701+ROW(A8)-1,VLC!V:V,0)),\"\")","v":""},{"$f":"_xlfn.IFNA(INDEX(VLC!C:C,MATCH(701+ROW(A8)-1,VLC!V:V,0)),\"\")","v":""},{"$f":"_xlfn.IFNA(IF(INDEX(VLC!H:H,MATCH(701+ROW(A8)-1,VLC!V:V,0))=\"x\",_xlfn.IFNA(INDEX(VLC!H:H,MATCH(701+ROW(A8)-1,VLC!V:V,0)),\"\"),\"\"),\"\")","v":""},{"$f":"_xlfn.IFNA(IF(INDEX(VLC!H:H,MATCH(741+ROW(A8)-1,VLC!V:V,0))=\"x\",_xlfn.IFNA(INDEX(VLC!H:H,MATCH(741+ROW(A8)-1,VLC!V:V,0)),\"\"),\"\"),\"\")","v":""},{"$f":"_xlfn.IFNA(IF(INDEX(VLC!I:I,MATCH(701+ROW(A8)-1,VLC!V:V,0))<>\"\",_xlfn.IFNA(INDEX(VLC!I:I,MATCH(701+ROW(A8)-1,VLC!V:V,0)),\"\"),\"\"),\"\")","v":""},{"$f":"_xlfn.IFNA(IF(INDEX(VLC!I:I,MATCH(741+ROW(A8)-1,VLC!V:V,0))<>\"\",_xlfn.IFNA(INDEX(VLC!I:I,MATCH(741+ROW(A8)-1,VLC!V:V,0)),\"\"),\"\"),\"\")","v":""},{"$f":"_xlfn.IFNA(IF(INDEX(VLC!J:J,MATCH(701+ROW(A8)-1,VLC!V:V,0))=\"x\",_xlfn.IFNA(INDEX(VLC!J:J,MATCH(701+ROW(A8)-1,VLC!V:V,0)),\"\"),\"\"),\"\")","v":""},{"$f":"_xlfn.IFNA(IF(INDEX(VLC!J:J,MATCH(741+ROW(A8)-1,VLC!V:V,0))=\"x\",_xlfn.IFNA(INDEX(VLC!J:J,MATCH(741+ROW(A8)-1,VLC!V:V,0)),\"\"),\"\"),\"\")","v":""},7008,7048]
["SK Teilnehmer 9",{"$f":"_xlfn.IFNA(INDEX(VLC!A:A,MATCH(709,VLC!V:V,0)),\"\")","v":""},{"$f":"_xlfn.IFNA(INDEX(VLC!A:A,MATCH(749,VLC!V:V,0)),\"\")","v":""},{"$f":"_xlfn.IFNA(INDEX(VLC!B:B,MATCH(701+ROW(A9)-1,VLC!V:V,0)),\"\")","v":""},{"$f":"_xlfn.IFNA(INDEX(VLC!C:C,MATCH(701+ROW(A9)-1,VLC!V:V,0)),\"\")","v":""},{"$f":"_xlfn.IFNA(IF(INDEX(VLC!H:H,MATCH(701+ROW(A9)-1,VLC!V:V,0))=\"x\",_xlfn.IFNA(INDEX(VLC!H:H,MATCH(701+ROW(A9)-1,VLC!V:V,0)),\"\"),\"\"),\"\")","v":""},{"$f":"_xlfn.IFNA(IF(INDEX(VLC!H:H,MATCH(741+ROW(A9)-1,VLC!V:V,0))=\"x\",_xlfn.IFNA(INDEX(VLC!H:H,MATCH(741+ROW(A9)-1,VLC!V:V,0)),\"\"),\"\"),\"\")","v":""},{"$f":"_xlfn.IFNA(IF(INDEX(VLC!I:I,MATCH(701+ROW(A9)-1,VLC!V:V,0))<>\"\",_xlfn.IFNA(INDEX(VLC!I:I,MATCH(701+ROW(A9)-1,VLC!V:V,0)),\"\"),\"\"),\"\")","v":""},{"$f":"_xlfn.IFNA(IF(INDEX(VLC!I:I,MATCH(741+ROW(A9)-1,VLC!V:V,0))<>\"\",_xlfn.IFNA(INDEX(VLC!I:I,MATCH(741+ROW(A9)-1,VLC!V:V,0)),\"\"),\"\"),\"\")","v":""},{"$f":"_xlfn.IFNA(IF(INDEX(VLC!J:J,MATCH(701+ROW(A9)-1,VLC!V:V,0))=\"x\",_xlfn.IFNA(INDEX(VLC!J:J,MATCH(701+ROW(A9)-1,VLC!V:V,0)),\"\"),\"\"),\"\")","v":""},{"$f":"_xlfn.IFNA(IF(INDEX(VLC!J:J,MATCH(741+ROW(A9)-1,VLC!V:V,0))=\"x\",_xlfn.IFNA(INDEX(VLC!J:J,MATCH(741+ROW(A9)-1,VLC!V:V,0)),\"\"),\"\"),\"\")","v":""},7009,7049]
["SK Teilnehmer 10",{"$f":"_xlfn.IFNA(INDEX(VLC!A:A,MATCH(710,VLC!V:V,0)),\"\")","v":""},{"$f":"_xlfn.IFNA(INDEX(VLC!A:A,MATCH(750,VLC!V:V,0)),\"\")","v":""},{"$f":"_xlfn.IFNA(INDEX(VLC!B:B,MATCH(701+ROW(A10)-1,VLC!V:V,0)),\"\")","v":""},{"$f":"_xlfn.IFNA(INDEX(VLC!C:C,MATCH(701+ROW(A10)-1,VLC!V:V,0)),\"\")","v":""},{"$f":"_xlfn.IFNA(IF(INDEX(VLC!H:H,MATCH(701+ROW(A10)-1,VLC!V:V,0))=\"x\",_xlfn.IFNA(INDEX(VLC!H:H,MATCH(701+ROW(A10)-1,VLC!V:V,0)),\"\"),\"\"),\"\")","v":""},{"$f":"_xlfn.IFNA(IF(INDEX(VLC!H:H,MATCH(741+ROW(A10)-1,VLC!V:V,0))=\"x\",_xlfn.IFNA(INDEX(VLC!H:H,MATCH(741+ROW(A10)-1,VLC!V:V,0)),\"\"),\"\"),\"\")","v":""},{"$f":"_xlfn.IFNA(IF(INDEX(VLC!I:I,MATCH(701+ROW(A10)-1,VLC!V:V,0))<>\"\",_xlfn.IFNA(INDEX(VLC!I:I,MATCH(701+ROW(A10)-1,VLC!V:V,0)),\"\"),\"\"),\"\")","v":""},{"$f":"_xlfn.IFNA(IF(INDEX(VLC!I:I,MATCH(741+ROW(A10)-1,VLC!V:V,0))<>\"\",_xlfn.IFNA(INDEX(VLC!I:I,MATCH(741+ROW(A10)-1,VLC!V:V,0)),\"\"),\"\"),\"\")","v":""},{"$f":"_xlfn.IFNA(IF(INDEX(VLC!J:J,MATCH(701+ROW(A10)-1,VLC!V:V,0))=\"x\",_xlfn.IFNA(INDEX(VLC!J:J,MATCH(701+ROW(A10)-1,VLC!V:V,0)),\"\"),\"\"),\"\")","v":""},{"$f":"_xlfn.IFNA(IF(INDEX(VLC!J:J,MATCH(741+ROW(A10)-1,VLC!V:V,0))=\"x\",_xlfn.IFNA(INDEX(VLC!J:J,MATCH(741+ROW(A10)-1,VLC!V:V,0)),\"\"),\"\"),\"\")","v":""},7010,7050]
["SK Teilnehmer 11",{"$f":"_xlfn.IFNA(INDEX(VLC!A:A,MATCH(711,VLC!V:V,0)),\"\")","v":""},{"$f":"_xlfn.IFNA(INDEX(VLC!A:A,MATCH(751,VLC!V:V,0)),\"\")","v":""},{"$f":"_xlfn.IFNA(INDEX(VLC!B:B,MATCH(701+ROW(A11)-1,VLC!V:V,0)),\"\")","v":""},{"$f":"_xlfn.IFNA(INDEX(VLC!C:C,MATCH(701+ROW(A11)-1,VLC!V:V,0)),\"\")","v":""},{"$f":"_xlfn.IFNA(IF(INDEX(VLC!H:H,MATCH(701+ROW(A11)-1,VLC!V:V,0))=\"x\",_xlfn.IFNA(INDEX(VLC!H:H,MATCH(701+ROW(A11)-1,VLC!V:V,0)),\"\"),\"\"),\"\")","v":""},{"$f":"_xlfn.IFNA(IF(INDEX(VLC!H:H,MATCH(741+ROW(A11)-1,VLC!V:V,0))=\"x\",_xlfn.IFNA(INDEX(VLC!H:H,MATCH(741+ROW(A11)-1,VLC!V:V,0)),\"\"),\"\"),\"\")","v":""},{"$f":"_xlfn.IFNA(IF(INDEX(VLC!I:I,MATCH(701+ROW(A11)-1,VLC!V:V,0))<>\"\",_xlfn.IFNA(INDEX(VLC!I:I,MATCH(701+ROW(A11)-1,VLC!V:V,0)),\"\"),\"\"),\"\")","v":""},{"$f":"_xlfn.IFNA(IF(INDEX(VLC!I:I,MATCH(741+ROW(A11)-1,VLC!V:V,0))<>\"\",_xlfn.IFNA(INDEX(VLC!I:I,MATCH(741+ROW(A11)-1,VLC!V:V,0)),\"\"),\"\"),\"\")","v":""},{"$f":"_xlfn.IFNA(IF(INDEX(VLC!J:J,MATCH(701+ROW(A11)-1,VLC!V:V,0))=\"x\",_xlfn.IFNA(INDEX(VLC!J:J,MATCH(701+ROW(A11)-1,VLC!V:V,0)),\"\"),\"\"),\"\")","v":""},{"$f":"_xlfn.IFNA(IF(INDEX(VLC!J:J,MATCH(741+ROW(A11)-1,VLC!V:V,0))=\"x\",_xlfn.IFNA(INDEX(VLC!J:J,MATCH(741+ROW(A11)-1,VLC!V:V,0)),\"\"),\"\"),\"\")","v":""},7011,7051]
["SK Teilnehmer 12",{"$f":"_xlfn.IFNA(INDEX(VLC!A:A,MATCH(712,VLC!V:V,0)),\"\")","v":""},{"$f":"_xlfn.IFNA(INDEX(VLC!A:A,MATCH(752,VLC!V:V,0)),\"\")","v":""},{"$f":"_xlfn.IFNA(INDEX(VLC!B:B,MATCH(701+ROW(A12)-1,VLC!V:V,0)),\"\")","v":""},{"$f":"_xlfn.IFNA(INDEX(VLC!C:C,MATCH(701+ROW(A12)-1,VLC!V:V,0)),\"\")","v":""},{"$f":"_xlfn.IFNA(IF(INDEX(VLC!H:H,MATCH(701+ROW(A12)-1,VLC!V:V,0))=\"x\",_xlfn.IFNA(INDEX(VLC!H:H,MATCH(701+ROW(A12)-1,VLC!V:V,0)),\"\"),\"\"),\"\")","v":""},{"$f":"_xlfn.IFNA(IF(INDEX(VLC!H:H,MATCH(741+ROW(A12)-1,VLC!V:V,0))=\"x\",_xlfn.IFNA(INDEX(VLC!H:H,MATCH(741+ROW(A12)-1,VLC!V:V,0)),\"\"),\"\"),\"\")","v":""},{"$f":"_xlfn.IFNA(IF(INDEX(VLC!I:I,MATCH(701+ROW(A12)-1,VLC!V:V,0))<>\"\",_xlfn.IFNA(INDEX(VLC!I:I,MATCH(701+ROW(A12)-1,VLC!V:V,0)),\"\"),\"\"),\"\")","v":""},{"$f":"_xlfn.IFNA(IF(INDEX(VLC!I:I,MATCH(741+ROW(A12)-1,VLC!V:V,0))<>\"\",_xlfn.IFNA(INDEX(VLC!I:I,MATCH(741+ROW(A12)-1,VLC!V:V,0)),\"\"),\"\"),\"\")","v":""},{"$f":"_xlfn.IFNA(IF(INDEX(VLC!J:J,MATCH(701+ROW(A12)-1,VLC!V:V,0))=\"x\",_xlfn.IFNA(INDEX(VLC!J:J,MATCH(701+ROW(A12)-1,VLC!V:V,0)),\"\"),\"\"),\"\")","v":""},{"$f":"_xlfn.IFNA(IF(INDEX(VLC!J:J,MATCH(741+ROW(A12)-1,VLC!V:V,0))=\"x\",_xlfn.IFNA(INDEX(VLC!J:J,MATCH(741+ROW(A12)-1,VLC!V:V,0)),\"\"),\"\"),\"\")","v":""},7012,7052]
["SK Teilnehmer 13",{"$f":"_xlfn.IFNA(INDEX(VLC!A:A,MATCH(713,VLC!V:V,0)),\"\")","v":""},{"$f":"_xlfn.IFNA(INDEX(VLC!A:A,MATCH(753,VLC!V:V,0)),\"\")","v":""},{"$f":"_xlfn.IFNA(INDEX(VLC!B:B,MATCH(701+ROW(A13)-1,VLC!V:V,0)),\"\")","v":""},{"$f":"_xlfn.IFNA(INDEX(VLC!C:C,MATCH(701+ROW(A13)-1,VLC!V:V,0)),\"\")","v":""},{"$f":"_xlfn.IFNA(IF(INDEX(VLC!H:H,MATCH(701+ROW(A13)-1,VLC!V:V,0))=\"x\",_xlfn.IFNA(INDEX(VLC!H:H,MATCH(701+ROW(A13)-1,VLC!V:V,0)),\"\"),\"\"),\"\")","v":""},{"$f":"_xlfn.IFNA(IF(INDEX(VLC!H:H,MATCH(741+ROW(A13)-1,VLC!V:V,0))=\"x\",_xlfn.IFNA(INDEX(VLC!H:H,MATCH(741+ROW(A13)-1,VLC!V:V,0)),\"\"),\"\"),\"\")","v":""},{"$f":"_xlfn.IFNA(IF(INDEX(VLC!I:I,MATCH(701+ROW(A13)-1,VLC!V:V,0))<>\"\",_xlfn.IFNA(INDEX(VLC!I:I,MATCH(701+ROW(A13)-1,VLC!V:V,0)),\"\"),\"\"),\"\")","v":""},{"$f":"_xlfn.IFNA(IF(INDEX(VLC!I:I,MATCH(741+ROW(A13)-1,VLC!V:V,0))<>\"\",_xlfn.IFNA(INDEX(VLC!I:I,MATCH(741+ROW(A13)-1,VLC!V:V,0)),\"\"),\"\"),\"\")","v":""},{"$f":"_xlfn.IFNA(IF(INDEX(VLC!J:J,MATCH(701+ROW(A13)-1,VLC!V:V,0))=\"x\",_xlfn.IFNA(INDEX(VLC!J:J,MATCH(701+ROW(A13)-1,VLC!V:V,0)),\"\"),\"\"),\"\")","v":""},{"$f":"_xlfn.IFNA(IF(INDEX(VLC!J:J,MATCH(741+ROW(A13)-1,VLC!V:V,0))=\"x\",_xlfn.IFNA(INDEX(VLC!J:J,MATCH(741+ROW(A13)-1,VLC!V:V,0)),\"\"),\"\"),\"\")","v":""},7013,7053]
["SK Teilnehmer 14",{"$f":"_xlfn.IFNA(INDEX(VLC!A:A,MATCH(714,VLC!V:V,0)),\"\")","v":""},{"$f":"_xlfn.IFNA(INDEX(VLC!A:A,MATCH(754,VLC!V:V,0)),\"\")","v":""},{"$f":"_xlfn.IFNA(INDEX(VLC!B:B,MATCH(701+ROW(A14)-1,VLC!V:V,0)),\"\")","v":""},{"$f":"_xlfn.IFNA(INDEX(VLC!C:C,MATCH(701+ROW(A14)-1,VLC!V:V,0)),\"\")","v":""},{"$f":"_xlfn.IFNA(IF(INDEX(VLC!H:H,MATCH(701+ROW(A14)-1,VLC!V:V,0))=\"x\",_xlfn.IFNA(INDEX(VLC!H:H,MATCH(701+ROW(A14)-1,VLC!V:V,0)),\"\"),\"\"),\"\")","v":""},{"$f":"_xlfn.IFNA(IF(INDEX(VLC!H:H,MATCH(741+ROW(A14)-1,VLC!V:V,0))=\"x\",_xlfn.IFNA(INDEX(VLC!H:H,MATCH(741+ROW(A14)-1,VLC!V:V,0)),\"\"),\"\"),\"\")","v":""},{"$f":"_xlfn.IFNA(IF(INDEX(VLC!I:I,MATCH(701+ROW(A14)-1,VLC!V:V,0))<>\"\",_xlfn.IFNA(INDEX(VLC!I:I,MATCH(701+ROW(A14)-1,VLC!V:V,0)),\"\"),\"\"),\"\")","v":""},{"$f":"_xlfn.IFNA(IF(INDEX(VLC!I:I,MATCH(741+ROW(A14)-1,VLC!V:V,0))<>\"\",_xlfn.IFNA(INDEX(VLC!I:I,MATCH(741+ROW(A14)-1,VLC!V:V,0)),\"\"),\"\"),\"\")","v":""},{"$f":"_xlfn.IFNA(IF(INDEX(VLC!J:J,MATCH(701+ROW(A14)-1,VLC!V:V,0))=\"x\",_xlfn.IFNA(INDEX(VLC!J:J,MATCH(701+ROW(A14)-1,VLC!V:V,0)),\"\"),\"\"),\"\")","v":""},{"$f":"_xlfn.IFNA(IF(INDEX(VLC!J:J,MATCH(741+ROW(A14)-1,VLC!V:V,0))=\"x\",_xlfn.IFNA(INDEX(VLC!J:J,MATCH(741+ROW(A14)-1,VLC!V:V,0)),\"\"),\"\"),\"\")","v":""},7014,7054]
["SK Teilnehmer 15",{"$f":"_xlfn.IFNA(INDEX(VLC!A:A,MATCH(715,VLC!V:V,0)),\"\")","v":""},{"$f":"_xlfn.IFNA(INDEX(VLC!A:A,MATCH(755,VLC!V:V,0)),\"\")","v":""},{"$f":"_xlfn.IFNA(INDEX(VLC!B:B,MATCH(701+ROW(A15)-1,VLC!V:V,0)),\"\")","v":""},{"$f":"_xlfn.IFNA(INDEX(VLC!C:C,MATCH(701+ROW(A15)-1,VLC!V:V,0)),\"\")","v":""},{"$f":"_xlfn.IFNA(IF(INDEX(VLC!H:H,MATCH(701+ROW(A15)-1,VLC!V:V,0))=\"x\",_xlfn.IFNA(INDEX(VLC!H:H,MATCH(701+ROW(A15)-1,VLC!V:V,0)),\"\"),\"\"),\"\")","v":""},{"$f":"_xlfn.IFNA(IF(INDEX(VLC!H:H,MATCH(741+ROW(A15)-1,VLC!V:V,0))=\"x\",_xlfn.IFNA(INDEX(VLC!H:H,MATCH(741+ROW(A15)-1,VLC!V:V,0)),\"\"),\"\"),\"\")","v":""},{"$f":"_xlfn.IFNA(IF(INDEX(VLC!I:I,MATCH(701+ROW(A15)-1,VLC!V:V,0))<>\"\",_xlfn.IFNA(INDEX(VLC!I:I,MATCH(701+ROW(A15)-1,VLC!V:V,0)),\"\"),\"\"),\"\")","v":""},{"$f":"_xlfn.IFNA(IF(INDEX(VLC!I:I,MATCH(741+ROW(A15)-1,VLC!V:V,0))<>\"\",_xlfn.IFNA(INDEX(VLC!I:I,MATCH(741+ROW(A15)-1,VLC!V:V,0)),\"\"),\"\"),\"\")","v":""},{"$f":"_xlfn.IFNA(IF(INDEX(VLC!J:J,MATCH(701+ROW(A15)-1,VLC!V:V,0))=\"x\",_xlfn.IFNA(INDEX(VLC!J:J,MATCH(701+ROW(A15)-1,VLC!V:V,0)),\"\"),\"\"),\"\")","v":""},{"$f":"_xlfn.IFNA(IF(INDEX(VLC!J:J,MATCH(741+ROW(A15)-1,VLC!V:V,0))=\"x\",_xlfn.IFNA(INDEX(VLC!J:J,MATCH(741+ROW(A15)-1,VLC!V:V,0)),\"\"),\"\"),\"\")","v":""},7015,7055]
["SK Teilnehmer 16",{"$f":"_xlfn.IFNA(INDEX(VLC!A:A,MATCH(716,VLC!V:V,0)),\"\")","v":""},{"$f":"_xlfn.IFNA(INDEX(VLC!A:A,MATCH(756,VLC!V:V,0)),\"\")","v":""},{"$f":"_xlfn.IFNA(INDEX(VLC!B:B,MATCH(701+ROW(A16)-1,VLC!V:V,0)),\"\")","v":""},{"$f":"_xlfn.IFNA(INDEX(VLC!C:C,MATCH(701+ROW(A16)-1,VLC!V:V,0)),\"\")","v":""},{"$f":"_xlfn.IFNA(IF(INDEX(VLC!H:H,MATCH(701+ROW(A16)-1,VLC!V:V,0))=\"x\",_xlfn.IFNA(INDEX(VLC!H:H,MATCH(701+ROW(A16)-1,VLC!V:V,0)),\"\"),\"\"),\"\")","v":""},{"$f":"_xlfn.IFNA(IF(INDEX(VLC!H:H,MATCH(741+ROW(A16)-1,VLC!V:V,0))=\"x\",_xlfn.IFNA(INDEX(VLC!H:H,MATCH(741+ROW(A16)-1,VLC!V:V,0)),\"\"),\"\"),\"\")","v":""},{"$f":"_xlfn.IFNA(IF(INDEX(VLC!I:I,MATCH(701+ROW(A16)-1,VLC!V:V,0))<>\"\",_xlfn.IFNA(INDEX(VLC!I:I,MATCH(701+ROW(A16)-1,VLC!V:V,0)),\"\"),\"\"),\"\")","v":""},{"$f":"_xlfn.IFNA(IF(INDEX(VLC!I:I,MATCH(741+ROW(A16)-1,VLC!V:V,0))<>\"\",_xlfn.IFNA(INDEX(VLC!I:I,MATCH(741+ROW(A16)-1,VLC!V:V,0)),\"\"),\"\"),\"\")","v":""},{"$f":"_xlfn.IFNA(IF(INDEX(VLC!J:J,MATCH(701+ROW(A16)-1,VLC!V:V,0))=\"x\",_xlfn.IFNA(INDEX(VLC!J:J,MATCH(701+ROW(A16)-1,VLC!V:V,0)),\"\"),\"\"),\"\")","v":""},{"$f":"_xlfn.IFNA(IF(INDEX(VLC!J:J,MATCH(741+ROW(A16)-1,VLC!V:V,0))=\"x\",_xlfn.IFNA(INDEX(VLC!J:J,MATCH(741+ROW(A16)-1,VLC!V:V,0)),\"\"),\"\"),\"\")","v":""},7016,7056]
["SK Teilnehmer 17",{"$f":"_xlfn.IFNA(INDEX(VLC!A:A,MATCH(717,VLC!V:V,0)),\"\")","v":""},{"$f":"_xlfn.IFNA(INDEX(VLC!A:A,MATCH(757,VLC!V:V,0)),\"\")","v":""},{"$f":"_xlfn.IFNA(INDEX(VLC!B:B,MATCH(701+ROW(A17)-1,VLC!V:V,0)),\"\")","v":""},{"$f":"_xlfn.IFNA(INDEX(VLC!C:C,MATCH(701+ROW(A17)-1,VLC!V:V,0)),\"\")","v":""},{"$f":"_xlfn.IFNA(IF(INDEX(VLC!H:H,MATCH(701+ROW(A17)-1,VLC!V:V,0))=\"x\",_xlfn.IFNA(INDEX(VLC!H:H,MATCH(701+ROW(A17)-1,VLC!V:V,0)),\"\"),\"\"),\"\")","v":""},{"$f":"_xlfn.IFNA(IF(INDEX(VLC!H:H,MATCH(741+ROW(A17)-1,VLC!V:V,0))=\"x\",_xlfn.IFNA(INDEX(VLC!H:H,MATCH(741+ROW(A17)-1,VLC!V:V,0)),\"\"),\"\"),\"\")","v":""},{"$f":"_xlfn.IFNA(IF(INDEX(VLC!I:I,MATCH(701+ROW(A17)-1,VLC!V:V,0))<>\"\",_xlfn.IFNA(INDEX(VLC!I:I,MATCH(701+ROW(A17)-1,VLC!V:V,0)),\"\"),\"\"),\"\")","v":""},{"$f":"_xlfn.IFNA(IF(INDEX(VLC!I:I,MATCH(741+ROW(A17)-1,VLC!V:V,0))<>\"\",_xlfn.IFNA(INDEX(VLC!I:I,MATCH(741+ROW(A17)-1,VLC!V:V,0)),\"\"),\"\"),\"\")","v":""},{"$f":"_xlfn.IFNA(IF(INDEX(VLC!J:J,MATCH(701+ROW(A17)-1,VLC!V:V,0))=\"x\",_xlfn.IFNA(INDEX(VLC!J:J,MATCH(701+ROW(A17)-1,VLC!V:V,0)),\"\"),\"\"),\"\")","v":""},{"$f":"_xlfn.IFNA(IF(INDEX(VLC!J:J,MATCH(741+ROW(A17)-1,VLC!V:V,0))=\"x\",_xlfn.IFNA(INDEX(VLC!J:J,MATCH(741+ROW(A17)-1,VLC!V:V,0)),\"\"),\"\"),\"\")","v":""},7017,7057]
["SK Teilnehmer 18",{"$f":"_xlfn.IFNA(INDEX(VLC!A:A,MATCH(718,VLC!V:V,0)),\"\")","v":""},{"$f":"_xlfn.IFNA(INDEX(VLC!A:A,MATCH(758,VLC!V:V,0)),\"\")","v":""},{"$f":"_xlfn.IFNA(INDEX(VLC!B:B,MATCH(701+ROW(A18)-1,VLC!V:V,0)),\"\")","v":""},{"$f":"_xlfn.IFNA(INDEX(VLC!C:C,MATCH(701+ROW(A18)-1,VLC!V:V,0)),\"\")","v":""},{"$f":"_xlfn.IFNA(IF(INDEX(VLC!H:H,MATCH(701+ROW(A18)-1,VLC!V:V,0))=\"x\",_xlfn.IFNA(INDEX(VLC!H:H,MATCH(701+ROW(A18)-1,VLC!V:V,0)),\"\"),\"\"),\"\")","v":""},{"$f":"_xlfn.IFNA(IF(INDEX(VLC!H:H,MATCH(741+ROW(A18)-1,VLC!V:V,0))=\"x\",_xlfn.IFNA(INDEX(VLC!H:H,MATCH(741+ROW(A18)-1,VLC!V:V,0)),\"\"),\"\"),\"\")","v":""},{"$f":"_xlfn.IFNA(IF(INDEX(VLC!I:I,MATCH(701+ROW(A18)-1,VLC!V:V,0))<>\"\",_xlfn.IFNA(INDEX(VLC!I:I,MATCH(701+ROW(A18)-1,VLC!V:V,0)),\"\"),\"\"),\"\")","v":""},{"$f":"_xlfn.IFNA(IF(INDEX(VLC!I:I,MATCH(741+ROW(A18)-1,VLC!V:V,0))<>\"\",_xlfn.IFNA(INDEX(VLC!I:I,MATCH(741+ROW(A18)-1,VLC!V:V,0)),\"\"),\"\"),\"\")","v":""},{"$f":"_xlfn.IFNA(IF(INDEX(VLC!J:J,MATCH(701+ROW(A18)-1,VLC!V:V,0))=\"x\",_xlfn.IFNA(INDEX(VLC!J:J,MATCH(701+ROW(A18)-1,VLC!V:V,0)),\"\"),\"\"),\"\")","v":""},{"$f":"_xlfn.IFNA(IF(INDEX(VLC!J:J,MATCH(741+ROW(A18)-1,VLC!V:V,0))=\"x\",_xlfn.IFNA(INDEX(VLC!J:J,MATCH(741+ROW(A18)-1,VLC!V:V,0)),\"\"),\"\"),\"\")","v":""},7018,7058]
["SK Teilnehmer 19",{"$f":"_xlfn.IFNA(INDEX(VLC!A:A,MATCH(719,VLC!V:V,0)),\"\")","v":""},{"$f":"_xlfn.IFNA(INDEX(VLC!A:A,MATCH(759,VLC!V:V,0)),\"\")","v":""},{"$f":"_xlfn.IFNA(INDEX(VLC!B:B,MATCH(701+ROW(A19)-1,VLC!V:V,0)),\"\")","v":""},{"$f":"_xlfn.IFNA(INDEX(VLC!C:C,MATCH(701+ROW(A19)-1,VLC!V:V,0)),\"\")","v":""},{"$f":"_xlfn.IFNA(IF(INDEX(VLC!H:H,MATCH(701+ROW(A19)-1,VLC!V:V,0))=\"x\",_xlfn.IFNA(INDEX(VLC!H:H,MATCH(701+ROW(A19)-1,VLC!V:V,0)),\"\"),\"\"),\"\")","v":""},{"$f":"_xlfn.IFNA(IF(INDEX(VLC!H:H,MATCH(741+ROW(A19)-1,VLC!V:V,0))=\"x\",_xlfn.IFNA(INDEX(VLC!H:H,MATCH(741+ROW(A19)-1,VLC!V:V,0)),\"\"),\"\"),\"\")","v":""},{"$f":"_xlfn.IFNA(IF(INDEX(VLC!I:I,MATCH(701+ROW(A19)-1,VLC!V:V,0))<>\"\",_xlfn.IFNA(INDEX(VLC!I:I,MATCH(701+ROW(A19)-1,VLC!V:V,0)),\"\"),\"\"),\"\")","v":""},{"$f":"_xlfn.IFNA(IF(INDEX(VLC!I:I,MATCH(741+ROW(A19)-1,VLC!V:V,0))<>\"\",_xlfn.IFNA(INDEX(VLC!I:I,MATCH(741+ROW(A19)-1,VLC!V:V,0)),\"\"),\"\"),\"\")","v":""},{"$f":"_xlfn.IFNA(IF(INDEX(VLC!J:J,MATCH(701+ROW(A19)-1,VLC!V:V,0))=\"x\",_xlfn.IFNA(INDEX(VLC!J:J,MATCH(701+ROW(A19)-1,VLC!V:V,0)),\"\"),\"\"),\"\")","v":""},{"$f":"_xlfn.IFNA(IF(INDEX(VLC!J:J,MATCH(741+ROW(A19)-1,VLC!V:V,0))=\"x\",_xlfn.IFNA(INDEX(VLC!J:J,MATCH(741+ROW(A19)-1,VLC!V:V,0)),\"\"),\"\"),\"\")","v":""},7019,7059]
["SK Teilnehmer 20",{"$f":"_xlfn.IFNA(INDEX(VLC!A:A,MATCH(720,VLC!V:V,0)),\"\")","v":""},{"$f":"_xlfn.IFNA(INDEX(VLC!A:A,MATCH(760,VLC!V:V,0)),\"\")","v":""},{"$f":"_xlfn.IFNA(INDEX(VLC!B:B,MATCH(701+ROW(A20)-1,VLC!V:V,0)),\"\")","v":""},{"$f":"_xlfn.IFNA(INDEX(VLC!C:C,MATCH(701+ROW(A20)-1,VLC!V:V,0)),\"\")","v":""},{"$f":"_xlfn.IFNA(IF(INDEX(VLC!H:H,MATCH(701+ROW(A20)-1,VLC!V:V,0))=\"x\",_xlfn.IFNA(INDEX(VLC!H:H,MATCH(701+ROW(A20)-1,VLC!V:V,0)),\"\"),\"\"),\"\")","v":""},{"$f":"_xlfn.IFNA(IF(INDEX(VLC!H:H,MATCH(741+ROW(A20)-1,VLC!V:V,0))=\"x\",_xlfn.IFNA(INDEX(VLC!H:H,MATCH(741+ROW(A20)-1,VLC!V:V,0)),\"\"),\"\"),\"\")","v":""},{"$f":"_xlfn.IFNA(IF(INDEX(VLC!I:I,MATCH(701+ROW(A20)-1,VLC!V:V,0))<>\"\",_xlfn.IFNA(INDEX(VLC!I:I,MATCH(701+ROW(A20)-1,VLC!V:V,0)),\"\"),\"\"),\"\")","v":""},{"$f":"_xlfn.IFNA(IF(INDEX(VLC!I:I,MATCH(741+ROW(A20)-1,VLC!V:V,0))<>\"\",_xlfn.IFNA(INDEX(VLC!I:I,MATCH(741+ROW(A20)-1,VLC!V:V,0)),\"\"),\"\"),\"\")","v":""},{"$f":"_xlfn.IFNA(IF(INDEX(VLC!J:J,MATCH(701+ROW(A20)-1,VLC!V:V,0))=\"x\",_xlfn.IFNA(INDEX(VLC!J:J,MATCH(701+ROW(A20)-1,VLC!V:V,0)),\"\"),\"\"),\"\")","v":""},{"$f":"_xlfn.IFNA(IF(INDEX(VLC!J:J,MATCH(741+ROW(A20)-1,VLC!V:V,0))=\"x\",_xlfn.IFNA(INDEX(VLC!J:J,MATCH(741+ROW(A20)-1,VLC!V:V,0)),\"\"),\"\"),\"\")","v":""},7020,7060]
["Gerätename:",{"$f":"$B$6","v":0},null,null,"PLC24 Stromkreis-Nummer: 8"]
["Stromkreis-Bezeichnung:"]
["Stromkreisbelegung","ID 1","ID 2","Bezeichnung","Zusatzinfo","DL",null,"GL",null,"BL"]
[null,null,null,null,null,"ID1","ID2","ID1","ID2","ID1","ID2"]
["SK Teilnehmer 1",{"$f":"_xlfn.IFNA(INDEX(VLC!A:A,MATCH(801,VLC!V:V,0)),\"\")","v":""},{"$f":"_xlfn.IFNA(INDEX(VLC!A:A,MATCH(841,VLC!V:V,0)),\"\")","v":""},{"$f":"_xlfn.IFNA(INDEX(VLC!B:B,MATCH(801+ROW(A1)-1,VLC!V:V,0)),\"\")","v":""},{"$f":"_xlfn.IFNA(INDEX(VLC!C:C,MATCH(801+ROW(A1)-1,VLC!V:V,0)),\"\")","v":""},{"$f":"_xlfn.IFNA(IF(INDEX(VLC!H:H,MATCH(801+ROW(A1)-1,VLC!V:V,0))=\"x\",_xlfn.IFNA(INDEX(VLC!H:H,MATCH(801+ROW(A1)-1,VLC!V:V,0)),\"\"),\"\"),\"\")","v":""},{"$f":"_xlfn.IFNA(IF(INDEX(VLC!H:H,MATCH(841+ROW(A1)-1,VLC!V:V,0))=\"x\",_xlfn.IFNA(INDEX(VLC!H:H,MATCH(841+ROW(A1)-1,VLC!V:V,0)),\"\"),\"\"),\"\")","v":""},{"$f":"_xlfn.IFNA(IF(INDEX(VLC!I:I,MATCH(801+ROW(A1)-1,VLC!V:V,0))<>\"\",_xlfn.IFNA(INDEX(VLC!I:I,MATCH(801+ROW(A1)-1,VLC!V:V,0)),\"\"),\"\"),\"\")","v":""},{"$f":"_xlfn.IFNA(IF(INDEX(VLC!I:I,MATCH(841+ROW(A1)-1,VLC!V:V,0))<>\"\",_xlfn.IFNA(INDEX(VLC!I:I,MATCH(841+ROW(A1)-1,VLC!V:V,0)),\"\"),\"\"),\"\")","v":""},{"$f":"_xlfn.IFNA(IF(INDEX(VLC!J:J,MATCH(801+ROW(A1)-1,VLC!V:V,0))=\"x\",_xlfn.IFNA(INDEX(VLC!J:J,MATCH(801+ROW(A1)-1,VLC!V:V,0)),\"\"),\"\"),\"\")","v":""},{"$f":"_xlfn.IFNA(IF(INDEX(VLC!J:J,MATCH(841+ROW(A1)-1,VLC!V:V,0))=\"x\",_xlfn.IFNA(INDEX(VLC!J:J,MATCH(841+ROW(A1)-1,VLC!V:V,0)),\"\"),\"\"),\"\")","v":""},{"$f":"8000+ROW(A178)-177","v":8001},{"$f":"L178+40","v":8041}]
["SK Teilnehmer 2",{"$f":"_xlfn.IFNA(INDEX(VLC!A:A,MATCH(802,VLC!V:V,0)),\"\")","v":""},{"$f":"_xlfn.IFNA(INDEX(VLC!A:A,MATCH(842,VLC!V:V,0)),\"\")","v":""},{"$f":"_xlfn.IFNA(INDEX(VLC!B:B,MATCH(801+ROW(A2)-1,VLC!V:V,0)),\"\")","v":""},{"$f":"_xlfn.IFNA(INDEX(VLC!C:C,MATCH(801+ROW(A2)-1,VLC!V:V,0)),\"\")","v":""},{"$f":"_xlfn.IFNA(IF(INDEX(VLC!H:H,MATCH(801+ROW(A2)-1,VLC!V:V,0))=\"x\",_xlfn.IFNA(INDEX(VLC!H:H,MATCH(801+ROW(A2)-1,VLC!V:V,0)),\"\"),\"\"),\"\")","v":""},{"$f":"_xlfn.IFNA(IF(INDEX(VLC!H:H,MATCH(841+ROW(A2)-1,VLC!V:V,0))=\"x\",_xlfn.IFNA(INDEX(VLC!H:H,MATCH(841+ROW(A2)-1,VLC!V:V,0)),\"\"),\"\"),\"\")","v":""},{"$f":"_xlfn.IFNA(IF(INDEX(VLC!I:I,MATCH(801+ROW(A2)-1,VLC!V:V,0))<>\"\",_xlfn.IFNA(INDEX(VLC!I:I,MATCH(801+ROW(A2)-1,VLC!V:V,0)),\"\"),\"\"),\"\")","v":""},{"$f":"_xlfn.IFNA(IF(INDEX(VLC!I:I,MATCH(841+ROW(A2)-1,VLC!V:V,0))<>\"\",_xlfn.IFNA(INDEX(VLC!I:I,MATCH(841+ROW(A2)-1,VLC!V:V,0)),\"\"),\"\"),\"\")","v":""},{"$f":"_xlfn.IFNA(IF(INDEX(VLC!J:J,MATCH(801+ROW(A2)-1,VLC!V:V,0))=\"x\",_xlfn.IFNA(INDEX(VLC!J:J,MATCH(801+ROW(A2)-1,VLC!V:V,0)),\"\"),\"\"),\"\")","v":""},{"$f":"_xlfn.IFNA(IF(INDEX(VLC!J:J,MATCH(841+ROW(A2)-1,VLC!V:V,0))=\"x\",_xlfn.IFNA(INDEX(VLC!J:J,MATCH(841+ROW(A2)-1,VLC!V:V,0)),\"\"),\"\"),\"\")","v":""},{"$f":"8000+ROW(A179)-177","v":8002},{"$f":"L179+40","v":8042}]
["SK Teilnehmer 3",{"$f":"_xlfn.IFNA(INDEX(VLC!A:A,MATCH(803,VLC!V:V,0)),\"\")","v":""},{"$f":"_xlfn.IFNA(INDEX(VLC!A:A,MATCH(843,VLC!V:V,0)),\"\")","v":""},{"$f":"_xlfn.IFNA(INDEX(VLC!B:B,MATCH(801+ROW(A3)-1,VLC!V:V,0)),\"\")","v":""},{"$f":"_xlfn.IFNA(INDEX(VLC!C:C,MATCH(801+ROW(A3)-1,VLC!V:V,0)),\"\")","v":""},{"$f":"_xlfn.IFNA(IF(INDEX(VLC!H:H,MATCH(801+ROW(A3)-1,VLC!V:V,0))=\"x\",_xlfn.IFNA(INDEX(VLC!H:H,MATCH(801+ROW(A3)-1,VLC!V:V,0)),\"\"),\"\"),\"\")","v":""},{"$f":"_xlfn.IFNA(IF(INDEX(VLC!H:H,MATCH(841+ROW(A3)-1,VLC!V:V,0))=\"x\",_xlfn.IFNA(INDEX(VLC!H:H,MATCH(841+ROW(A3)-1,VLC!V:V,0)),\"\"),\"\"),\"\")","v":""},{"$f":"_xlfn.IFNA(IF(INDEX(VLC!I:I,MATCH(801+ROW(A3)-1,VLC!V:V,0))<>\"\",_xlfn.IFNA(INDEX(VLC!I:I,MATCH(801+ROW(A3)-1,VLC!V:V,0)),\"\"),\"\"),\"\")","v":""},{"$f":"_xlfn.IFNA(IF(INDEX(VLC!I:I,MATCH(841+ROW(A3)-1,VLC!V:V,0))<>\"\",_xlfn.IFNA(INDEX(VLC!I:I,MATCH(841+ROW(A3)-1,VLC!V:V,0)),\"\"),\"\"),\"\")","v":""},{"$f":"_xlfn.IFNA(IF(INDEX(VLC!J:J,MATCH(801+ROW(A3)-1,VLC!V:V,0))=\"x\",_xlfn.IFNA(INDEX(VLC!J:J,MATCH(801+ROW(A3)-1,VLC!V:V,0)),\"\"),\"\"),\"\")","v":""},{"$f":"_xlfn.IFNA(IF(INDEX(VLC!J:J,MATCH(841+ROW(A3)-1,VLC!V:V,0))=\"x\",_xlfn.IFNA(INDEX(VLC!J:J,MATCH(841+ROW(A3)-1,VLC!V:V,0)),\"\"),\"\"),\"\")","v":""},8003,8043]
["SK Teilnehmer 4",{"$f":"_xlfn.IFNA(INDEX(VLC!A:A,MATCH(804,VLC!V:V,0)),\"\")","v":""},{"$f":"_xlfn.IFNA(INDEX(VLC!A:A,MATCH(844,VLC!V:V,0)),\"\")","v":""},{"$f":"_xlfn.IFNA(INDEX(VLC!B:B,MATCH(801+ROW(A4)-1,VLC!V:V,0)),\"\")","v":""},{"$f":"_xlfn.IFNA(INDEX(VLC!C:C,MATCH(801+ROW(A4)-1,VLC!V:V,0)),\"\")","v":""},{"$f":"_xlfn.IFNA(IF(INDEX(VLC!H:H,MATCH(801+ROW(A4)-1,VLC!V:V,0))=\"x\",_xlfn.IFNA(INDEX(VLC!H:H,MATCH(801+ROW(A4)-1,VLC!V:V,0)),\"\"),\"\"),\"\")","v":""},{"$f":"_xlfn.IFNA(IF(INDEX(VLC!H:H,MATCH(841+ROW(A4)-1,VLC!V:V,0))=\"x\",_xlfn.IFNA(INDEX(VLC!H:H,MATCH(841+ROW(A4)-1,VLC!V:V,0)),\"\"),\"\"),\"\")","v":""},{"$f":"_xlfn.IFNA(IF(INDEX(VLC!I:I,MATCH(801+ROW(A4)-1,VLC!V:V,0))<>\"\",_xlfn.IFNA(INDEX(VLC!I:I,MATCH(801+ROW(A4)-1,VLC!V:V,0)),\"\"),\"\"),\"\")","v":""},{"$f":"_xlfn.IFNA(IF(INDEX(VLC!I:I,MATCH(841+ROW(A4)-1,VLC!V:V,0))<>\"\",_xlfn.IFNA(INDEX(VLC!I:I,MATCH(841+ROW(A4)-1,VLC!V:V,0)),\"\"),\"\"),\"\")","v":""},{"$f":"_xlfn.IFNA(IF(INDEX(VLC!J:J,MATCH(801+ROW(A4)-1,VLC!V:V,0))=\"x\",_xlfn.IFNA(INDEX(VLC!J:J,MATCH(801+ROW(A4)-1,VLC!V:V,0)),\"\"),\"\"),\"\")","v":""},{"$f":"_xlfn.IFNA(IF(INDEX(VLC!J:J,MATCH(841+ROW(A4)-1,VLC!V:V,0))=\"x\",_xlfn.IFNA(INDEX(VLC!J:J,MATCH(841+ROW(A4)-1,VLC!V:V,0)),\"\"),\"\"),\"\")","v":""},8004,8044]
["SK Teilnehmer 5",{"$f":"_xlfn.IFNA(INDEX(VLC!A:A,MATCH(805,VLC!V:V,0)),\"\")","v":""},{"$f":"_xlfn.IFNA(INDEX(VLC!A:A,MATCH(845,VLC!V:V,0)),\"\")","v":""},{"$f":"_xlfn.IFNA(INDEX(VLC!B:B,MATCH(801+ROW(A5)-1,VLC!V:V,0)),\"\")","v":""},{"$f":"_xlfn.IFNA(INDEX(VLC!C:C,MATCH(801+ROW(A5)-1,VLC!V:V,0)),\"\")","v":""},{"$f":"_xlfn.IFNA(IF(INDEX(VLC!H:H,MATCH(801+ROW(A5)-1,VLC!V:V,0))=\"x\",_xlfn.IFNA(INDEX(VLC!H:H,MATCH(801+ROW(A5)-1,VLC!V:V,0)),\"\"),\"\"),\"\")","v":""},{"$f":"_xlfn.IFNA(IF(INDEX(VLC!H:H,MATCH(841+ROW(A5)-1,VLC!V:V,0))=\"x\",_xlfn.IFNA(INDEX(VLC!H:H,MATCH(841+ROW(A5)-1,VLC!V:V,0)),\"\"),\"\"),\"\")","v":""},{"$f":"_xlfn.IFNA(IF(INDEX(VLC!I:I,MATCH(801+ROW(A5)-1,VLC!V:V,0))<>\"\",_xlfn.IFNA(INDEX(VLC!I:I,MATCH(801+ROW(A5)-1,VLC!V:V,0)),\"\"),\"\"),\"\")","v":""},{"$f":"_xlfn.IFNA(IF(INDEX(VLC!I:I,MATCH(841+ROW(A5)-1,VLC!V:V,0))<>\"\",_xlfn.IFNA(INDEX(VLC!I:I,MATCH(841+ROW(A5)-1,VLC!V:V,0)),\"\"),\"\"),\"\")","v":""},{"$f":"_xlfn.IFNA(IF(INDEX(VLC!J:J,MATCH(801+ROW(A5)-1,VLC!V:V,0))=\"x\",_xlfn.IFNA(INDEX(VLC!J:J,MATCH(801+ROW(A5)-1,VLC!V:V,0)),\"\"),\"\"),\"\")","v":""},{"$f":"_xlfn.IFNA(IF(INDEX(VLC!J:J,MATCH(841+ROW(A5)-1,VLC!V:V,0))=\"x\",_xlfn.IFNA(INDEX(VLC!J:J,MATCH(841+ROW(A5)-1,VLC!V:V,0)),\"\"),\"\"),\"\")","v":""},8005,8045]
["SK Teilnehmer 6",{"$f":"_xlfn.IFNA(INDEX(VLC!A:A,MATCH(806,VLC!V:V,0)),\"\")","v":""},{"$f":"_xlfn.IFNA(INDEX(VLC!A:A,MATCH(846,VLC!V:V,0)),\"\")","v":""},{"$f":"_xlfn.IFNA(INDEX(VLC!B:B,MATCH(801+ROW(A6)-1,VLC!V:V,0)),\"\")","v":""},{"$f":"_xlfn.IFNA(INDEX(VLC!C:C,MATCH(801+ROW(A6)-1,VLC!V:V,0)),\"\")","v":""},{"$f":"_xlfn.IFNA(IF(INDEX(VLC!H:H,MATCH(801+ROW(A6)-1,VLC!V:V,0))=\"x\",_xlfn.IFNA(INDEX(VLC!H:H,MATCH(801+ROW(A6)-1,VLC!V:V,0)),\"\"),\"\"),\"\")","v":""},{"$f":"_xlfn.IFNA(IF(INDEX(VLC!H:H,MATCH(841+ROW(A6)-1,VLC!V:V,0))=\"x\",_xlfn.IFNA(INDEX(VLC!H:H,MATCH(841+ROW(A6)-1,VLC!V:V,0)),\"\"),\"\"),\"\")","v":""},{"$f":"_xlfn.IFNA(IF(INDEX(VLC!I:I,MATCH(801+ROW(A6)-1,VLC!V:V,0))<>\"\",_xlfn.IFNA(INDEX(VLC!I:I,MATCH(801+ROW(A6)-1,VLC!V:V,0)),\"\"),\"\"),\"\")","v":""},{"$f":"_xlfn.IFNA(IF(INDEX(VLC!I:I,MATCH(841+ROW(A6)-1,VLC!V:V,0))<>\"\",_xlfn.IFNA(INDEX(VLC!I:I,MATCH(841+ROW(A6)-1,VLC!V:V,0)),\"\"),\"\"),\"\")","v":""},{"$f":"_xlfn.IFNA(IF(INDEX(VLC!J:J,MATCH(801+ROW(A6)-1,VLC!V:V,0))=\"x\",_xlfn.IFNA(INDEX(VLC!J:J,MATCH(801+ROW(A6)-1,VLC!V:V,0)),\"\"),\"\"),\"\")","v":""},{"$f":"_xlfn.IFNA(IF(INDEX(VLC!J:J,MATCH(841+ROW(A6)-1,VLC!V:V,0))=\"x\",_xlfn.IFNA(INDEX(VLC!J:J,MATCH(841+ROW(A6)-1,VLC!V:V,0)),\"\"),\"\"),\"\")","v":""},8006,8046]
["SK Teilnehmer 7",{"$f":"_xlfn.IFNA(INDEX(VLC!A:A,MATCH(807,VLC!V:V,0)),\"\")","v":""},{"$f":"_xlfn.IFNA(INDEX(VLC!A:A,MATCH(847,VLC!V:V,0)),\"\")","v":""},{"$f":"_xlfn.IFNA(INDEX(VLC!B:B,MATCH(801+ROW(A7)-1,VLC!V:V,0)),\"\")","v":""},{"$f":"_xlfn.IFNA(INDEX(VLC!C:C,MATCH(801+ROW(A7)-1,VLC!V:V,0)),\"\")","v":""},{"$f":"_xlfn.IFNA(IF(INDEX(VLC!H:H,MATCH(801+ROW(A7)-1,VLC!V:V,0))=\"x\",_xlfn.IFNA(INDEX(VLC!H:H,MATCH(801+ROW(A7)-1,VLC!V:V,0)),\"\"),\"\"),\"\")","v":""},{"$f":"_xlfn.IFNA(IF(INDEX(VLC!H:H,MATCH(841+ROW(A7)-1,VLC!V:V,0))=\"x\",_xlfn.IFNA(INDEX(VLC!H:H,MATCH(841+ROW(A7)-1,VLC!V:V,0)),\"\"),\"\"),\"\")","v":""},{"$f":"_xlfn.IFNA(IF(INDEX(VLC!I:I,MATCH(801+ROW(A7)-1,VLC!V:V,0))<>\"\",_xlfn.IFNA(INDEX(VLC!I:I,MATCH(801+ROW(A7)-1,VLC!V:V,0)),\"\"),\"\"),\"\")","v":""},{"$f":"_xlfn.IFNA(IF(INDEX(VLC!I:I,MATCH(841+ROW(A7)-1,VLC!V:V,0))<>\"\",_xlfn.IFNA(INDEX(VLC!I:I,MATCH(841+ROW(A7)-1,VLC!V:V,0)),\"\"),\"\"),\"\")","v":""},{"$f":"_xlfn.IFNA(IF(INDEX(VLC!J:J,MATCH(801+ROW(A7)-1,VLC!V:V,0))=\"x\",_xlfn.IFNA(INDEX(VLC!J:J,MATCH(801+ROW(A7)-1,VLC!V:V,0)),\"\"),\"\"),\"\")","v":""},{"$f":"_xlfn.IFNA(IF(INDEX(VLC!J:J,MATCH(841+ROW(A7)-1,VLC!V:V,0))=\"x\",_xlfn.IFNA(INDEX(VLC!J:J,MATCH(841+ROW(A7)-1,VLC!V:V,0)),\"\"),\"\"),\"\")","v":""},8007,8047]
["SK Teilnehmer 8",{"$f":"_xlfn.IFNA(INDEX(VLC!A:A,MATCH(808,VLC!V:V,0)),\"\")","v":""},{"$f":"_xlfn.IFNA(INDEX(VLC!A:A,MATCH(848,VLC!V:V,0)),\"\")","v":""},{"$f":"_xlfn.IFNA(INDEX(VLC!B:B,MATCH(801+ROW(A8)-1,VLC!V:V,0)),\"\")","v":""},{"$f":"_xlfn.IFNA(INDEX(VLC!C:C,MATCH(801+ROW(A8)-1,VLC!V:V,0)),\"\")","v":""},{"$f":"_xlfn.IFNA(IF(INDEX(VLC!H:H,MATCH(801+ROW(A8)-1,VLC!V:V,0))=\"x\",_xlfn.IFNA(INDEX(VLC!H:H,MATCH(801+ROW(A8)-1,VLC!V:V,0)),\"\"),\"\"),\"\")","v":""},{"$f":"_xlfn.IFNA(IF(INDEX(VLC!H:H,MATCH(841+ROW(A8)-1,VLC!V:V,0))=\"x\",_xlfn.IFNA(INDEX(VLC!H:H,MATCH(841+ROW(A8)-1,VLC!V:V,0)),\"\"),\"\"),\"\")","v":""},{"$f":"_xlfn.IFNA(IF(INDEX(VLC!I:I,MATCH(801+ROW(A8)-1,VLC!V:V,0))<>\"\",_xlfn.IFNA(INDEX(VLC!I:I,MATCH(801+ROW(A8)-1,VLC!V:V,0)),\"\"),\"\"),\"\")","v":""},{"$f":"_xlfn.IFNA(IF(INDEX(VLC!I:I,MATCH(841+ROW(A8)-1,VLC!V:V,0))<>\"\",_xlfn.IFNA(INDEX(VLC!I:I,MATCH(841+ROW(A8)-1,VLC!V:V,0)),\"\"),\"\"),\"\")","v":""},{"$f":"_xlfn.IFNA(IF(INDEX(VLC!J:J,MATCH(801+ROW(A8)-1,VLC!V:V,0))=\"x\",_xlfn.IFNA(INDEX(VLC!J:J,MATCH(801+ROW(A8)-1,VLC!V:V,0)),\"\"),\"\"),\"\")","v":""},{"$f":"_xlfn.IFNA(IF(INDEX(VLC!J:J,MATCH(841+ROW(A8)-1,VLC!V:V,0))=\"x\",_xlfn.IFNA(INDEX(VLC!J:J,MATCH(841+ROW(A8)-1,VLC!V:V,0)),\"\"),\"\"),\"\")","v":""},8008,8048]
["SK Teilnehmer 9",{"$f":"_xlfn.IFNA(INDEX(VLC!A:A,MATCH(809,VLC!V:V,0)),\"\")","v":""},{"$f":"_xlfn.IFNA(INDEX(VLC!A:A,MATCH(849,VLC!V:V,0)),\"\")","v":""},{"$f":"_xlfn.IFNA(INDEX(VLC!B:B,MATCH(801+ROW(A9)-1,VLC!V:V,0)),\"\")","v":""},{"$f":"_xlfn.IFNA(INDEX(VLC!C:C,MATCH(801+ROW(A9)-1,VLC!V:V,0)),\"\")","v":""},{"$f":"_xlfn.IFNA(IF(INDEX(VLC!H:H,MATCH(801+ROW(A9)-1,VLC!V:V,0))=\"x\",_xlfn.IFNA(INDEX(VLC!H:H,MATCH(801+ROW(A9)-1,VLC!V:V,0)),\"\"),\"\"),\"\")","v":""},{"$f":"_xlfn.IFNA(IF(INDEX(VLC!H:H,MATCH(841+ROW(A9)-1,VLC!V:V,0))=\"x\",_xlfn.IFNA(INDEX(VLC!H:H,MATCH(841+ROW(A9)-1,VLC!V:V,0)),\"\"),\"\"),\"\")","v":""},{"$f":"_xlfn.IFNA(IF(INDEX(VLC!I:I,MATCH(801+ROW(A9)-1,VLC!V:V,0))<>\"\",_xlfn.IFNA(INDEX(VLC!I:I,MATCH(801+ROW(A9)-1,VLC!V:V,0)),\"\"),\"\"),\"\")","v":""},{"$f":"_xlfn.IFNA(IF(INDEX(VLC!I:I,MATCH(841+ROW(A9)-1,VLC!V:V,0))<>\"\",_xlfn.IFNA(INDEX(VLC!I:I,MATCH(841+ROW(A9)-1,VLC!V:V,0)),\"\"),\"\"),\"\")","v":""},{"$f":"_xlfn.IFNA(IF(INDEX(VLC!J:J,MATCH(801+ROW(A9)-1,VLC!V:V,0))=\"x\",_xlfn.IFNA(INDEX(VLC!J:J,MATCH(801+ROW(A9)-1,VLC!V:V,0)),\"\"),\"\"),\"\")","v":""},{"$f":"_xlfn.IFNA(IF(INDEX(VLC!J:J,MATCH(841+ROW(A9)-1,VLC!V:V,0))=\"x\",_xlfn.IFNA(INDEX(VLC!J:J,MATCH(841+ROW(A9)-1,VLC!V:V,0)),\"\"),\"\"),\"\")","v":""},8009,8049]
["SK Teilnehmer 10",{"$f":"_xlfn.IFNA(INDEX(VLC!A:A,MATCH(810,VLC!V:V,0)),\"\")","v":""},{"$f":"_xlfn.IFNA(INDEX(VLC!A:A,MATCH(850,VLC!V:V,0)),\"\")","v":""},{"$f":"_xlfn.IFNA(INDEX(VLC!B:B,MATCH(801+ROW(A10)-1,VLC!V:V,0)),\"\")","v":""},{"$f":"_xlfn.IFNA(INDEX(VLC!C:C,MATCH(801+ROW(A10)-1,VLC!V:V,0)),\"\")","v":""},{"$f":"_xlfn.IFNA(IF(INDEX(VLC!H:H,MATCH(801+ROW(A10)-1,VLC!V:V,0))=\"x\",_xlfn.IFNA(INDEX(VLC!H:H,MATCH(801+ROW(A10)-1,VLC!V:V,0)),\"\"),\"\"),\"\")","v":""},{"$f":"_xlfn.IFNA(IF(INDEX(VLC!H:H,MATCH(841+ROW(A10)-1,VLC!V:V,0))=\"x\",_xlfn.IFNA(INDEX(VLC!H:H,MATCH(841+ROW(A10)-1,VLC!V:V,0)),\"\"),\"\"),\"\")","v":""},{"$f":"_xlfn.IFNA(IF(INDEX(VLC!I:I,MATCH(801+ROW(A10)-1,VLC!V:V,0))<>\"\",_xlfn.IFNA(INDEX(VLC!I:I,MATCH(801+ROW(A10)-1,VLC!V:V,0)),\"\"),\"\"),\"\")","v":""},{"$f":"_xlfn.IFNA(IF(INDEX(VLC!I:I,MATCH(841+ROW(A10)-1,VLC!V:V,0))<>\"\",_xlfn.IFNA(INDEX(VLC!I:I,MATCH(841+ROW(A10)-1,VLC!V:V,0)),\"\"),\"\"),\"\")","v":""},{"$f":"_xlfn.IFNA(IF(INDEX(VLC!J:J,MATCH(801+ROW(A10)-1,VLC!V:V,0))=\"x\",_xlfn.IFNA(INDEX(VLC!J:J,MATCH(801+ROW(A10)-1,VLC!V:V,0)),\"\"),\"\"),\"\")","v":""},{"$f":"_xlfn.IFNA(IF(INDEX(VLC!J:J,MATCH(841+ROW(A10)-1,VLC!V:V,0))=\"x\",_xlfn.IFNA(INDEX(VLC!J:J,MATCH(841+ROW(A10)-1,VLC!V:V,0)),\"\"),\"\"),\"\")","v":""},8010,8050]
["SK Teilnehmer 11",{"$f":"_xlfn.IFNA(INDEX(VLC!A:A,MATCH(811,VLC!V:V,0)),\"\")","v":""},{"$f":"_xlfn.IFNA(INDEX(VLC!A:A,MATCH(851,VLC!V:V,0)),\"\")","v":""},{"$f":"_xlfn.IFNA(INDEX(VLC!B:B,MATCH(801+ROW(A11)-1,VLC!V:V,0)),\"\")","v":""},{"$f":"_xlfn.IFNA(INDEX(VLC!C:C,MATCH(801+ROW(A11)-1,VLC!V:V,0)),\"\")","v":""},{"$f":"_xlfn.IFNA(IF(INDEX(VLC!H:H,MATCH(801+ROW(A11)-1,VLC!V:V,0))=\"x\",_xlfn.IFNA(INDEX(VLC!H:H,MATCH(801+ROW(A11)-1,VLC!V:V,0)),\"\"),\"\"),\"\")","v":""},{"$f":"_xlfn.IFNA(IF(INDEX(VLC!H:H,MATCH(841+ROW(A11)-1,VLC!V:V,0))=\"x\",_xlfn.IFNA(INDEX(VLC!H:H,MATCH(841+ROW(A11)-1,VLC!V:V,0)),\"\"),\"\"),\"\")","v":""},{"$f":"_xlfn.IFNA(IF(INDEX(VLC!I:I,MATCH(801+ROW(A11)-1,VLC!V:V,0))<>\"\",_xlfn.IFNA(INDEX(VLC!I:I,MATCH(801+ROW(A11)-1,VLC!V:V,0)),\"\"),\"\"),\"\")","v":""},{"$f":"_xlfn.IFNA(IF(INDEX(VLC!I:I,MATCH(841+ROW(A11)-1,VLC!V:V,0))<>\"\",_xlfn.IFNA(INDEX(VLC!I:I,MATCH(841+ROW(A11)-1,VLC!V:V,0)),\"\"),\"\"),\"\")","v":""},{"$f":"_xlfn.IFNA(IF(INDEX(VLC!J:J,MATCH(801+ROW(A11)-1,VLC!V:V,0))=\"x\",_xlfn.IFNA(INDEX(VLC!J:J,MATCH(801+ROW(A11)-1,VLC!V:V,0)),\"\"),\"\"),\"\")","v":""},{"$f":"_xlfn.IFNA(IF(INDEX(VLC!J:J,MATCH(841+ROW(A11)-1,VLC!V:V,0))=\"x\",_xlfn.IFNA(INDEX(VLC!J:J,MATCH(841+ROW(A11)-1,VLC!V:V,0)),\"\"),\"\"),\"\")","v":""},8011,8051]
["SK Teilnehmer 12",{"$f":"_xlfn.IFNA(INDEX(VLC!A:A,MATCH(812,VLC!V:V,0)),\"\")","v":""},{"$f":"_xlfn.IFNA(INDEX(VLC!A:A,MATCH(852,VLC!V:V,0)),\"\")","v":""},{"$f":"_xlfn.IFNA(INDEX(VLC!B:B,MATCH(801+ROW(A12)-1,VLC!V:V,0)),\"\")","v":""},{"$f":"_xlfn.IFNA(INDEX(VLC!C:C,MATCH(801+ROW(A12)-1,VLC!V:V,0)),\"\")","v":""},{"$f":"_xlfn.IFNA(IF(INDEX(VLC!H:H,MATCH(801+ROW(A12)-1,VLC!V:V,0))=\"x\",_xlfn.IFNA(INDEX(VLC!H:H,MATCH(801+ROW(A12)-1,VLC!V:V,0)),\"\"),\"\"),\"\")","v":""},{"$f":"_xlfn.IFNA(IF(INDEX(VLC!H:H,MATCH(841+ROW(A12)-1,VLC!V:V,0))=\"x\",_xlfn.IFNA(INDEX(VLC!H:H,MATCH(841+ROW(A12)-1,VLC!V:V,0)),\"\"),\"\"),\"\")","v":""},{"$f":"_xlfn.IFNA(IF(INDEX(VLC!I:I,MATCH(801+ROW(A12)-1,VLC!V:V,0))<>\"\",_xlfn.IFNA(INDEX(VLC!I:I,MATCH(801+ROW(A12)-1,VLC!V:V,0)),\"\"),\"\"),\"\")","v":""},{"$f":"_xlfn.IFNA(IF(INDEX(VLC!I:I,MATCH(841+ROW(A12)-1,VLC!V:V,0))<>\"\",_xlfn.IFNA(INDEX(VLC!I:I,MATCH(841+ROW(A12)-1,VLC!V:V,0)),\"\"),\"\"),\"\")","v":""},{"$f":"_xlfn.IFNA(IF(INDEX(VLC!J:J,MATCH(801+ROW(A12)-1,VLC!V:V,0))=\"x\",_xlfn.IFNA(INDEX(VLC!J:J,MATCH(801+ROW(A12)-1,VLC!V:V,0)),\"\"),\"\"),\"\")","v":""},{"$f":"_xlfn.IFNA(IF(INDEX(VLC!J:J,MATCH(841+ROW(A12)-1,VLC!V:V,0))=\"x\",_xlfn.IFNA(INDEX(VLC!J:J,MATCH(841+ROW(A12)-1,VLC!V:V,0)),\"\"),\"\"),\"\")","v":""},8012,8052]
["SK Teilnehmer 13",{"$f":"_xlfn.IFNA(INDEX(VLC!A:A,MATCH(813,VLC!V:V,0)),\"\")","v":""},{"$f":"_xlfn.IFNA(INDEX(VLC!A:A,MATCH(853,VLC!V:V,0)),\"\")","v":""},{"$f":"_xlfn.IFNA(INDEX(VLC!B:B,MATCH(801+ROW(A13)-1,VLC!V:V,0)),\"\")","v":""},{"$f":"_xlfn.IFNA(INDEX(VLC!C:C,MATCH(801+ROW(A13)-1,VLC!V:V,0)),\"\")","v":""},{"$f":"_xlfn.IFNA(IF(INDEX(VLC!H:H,MATCH(801+ROW(A13)-1,VLC!V:V,0))=\"x\",_xlfn.IFNA(INDEX(VLC!H:H,MATCH(801+ROW(A13)-1,VLC!V:V,0)),\"\"),\"\"),\"\")","v":""},{"$f":"_xlfn.IFNA(IF(INDEX(VLC!H:H,MATCH(841+ROW(A13)-1,VLC!V:V,0))=\"x\",_xlfn.IFNA(INDEX(VLC!H:H,MATCH(841+ROW(A13)-1,VLC!V:V,0)),\"\"),\"\"),\"\")","v":""},{"$f":"_xlfn.IFNA(IF(INDEX(VLC!I:I,MATCH(801+ROW(A13)-1,VLC!V:V,0))<>\"\",_xlfn.IFNA(INDEX(VLC!I:I,MATCH(801+ROW(A13)-1,VLC!V:V,0)),\"\"),\"\"),\"\")","v":""},{"$f":"_xlfn.IFNA(IF(INDEX(VLC!I:I,MATCH(841+ROW(A13)-1,VLC!V:V,0))<>\"\",_xlfn.IFNA(INDEX(VLC!I:I,MATCH(841+ROW(A13)-1,VLC!V:V,0)),\"\"),\"\"),\"\")","v":""},{"$f":"_xlfn.IFNA(IF(INDEX(VLC!J:J,MATCH(801+ROW(A13)-1,VLC!V:V,0))=\"x\",_xlfn.IFNA(INDEX(VLC!J:J,MATCH(801+ROW(A13)-1,VLC!V:V,0)),\"\"),\"\"),\"\")","v":""},{"$f":"_xlfn.IFNA(IF(INDEX(VLC!J:J,MATCH(841+ROW(A13)-1,VLC!V:V,0))=\"x\",_xlfn.IFNA(INDEX(VLC!J:J,MATCH(841+ROW(A13)-1,VLC!V:V,0)),\"\"),\"\"),\"\")","v":""},8013,8053]
["SK Teilnehmer 14",{"$f":"_xlfn.IFNA(INDEX(VLC!A:A,MATCH(814,VLC!V:V,0)),\"\")","v":""},{"$f":"_xlfn.IFNA(INDEX(VLC!A:A,MATCH(854,VLC!V:V,0)),\"\")","v":""},{"$f":"_xlfn.IFNA(INDEX(VLC!B:B,MATCH(801+ROW(A14)-1,VLC!V:V,0)),\"\")","v":""},{"$f":"_xlfn.IFNA(INDEX(VLC!C:C,MATCH(801+ROW(A14)-1,VLC!V:V,0)),\"\")","v":""},{"$f":"_xlfn.IFNA(IF(INDEX(VLC!H:H,MATCH(801+ROW(A14)-1,VLC!V:V,0))=\"x\",_xlfn.IFNA(INDEX(VLC!H:H,MATCH(801+ROW(A14)-1,VLC!V:V,0)),\"\"),\"\"),\"\")","v":""},{"$f":"_xlfn.IFNA(IF(INDEX(VLC!H:H,MATCH(841+ROW(A14)-1,VLC!V:V,0))=\"x\",_xlfn.IFNA(INDEX(VLC!H:H,MATCH(841+ROW(A14)-1,VLC!V:V,0)),\"\"),\"\"),\"\")","v":""},{"$f":"_xlfn.IFNA(IF(INDEX(VLC!I:I,MATCH(801+ROW(A14)-1,VLC!V:V,0))<>\"\",_xlfn.IFNA(INDEX(VLC!I:I,MATCH(801+ROW(A14)-1,VLC!V:V,0)),\"\"),\"\"),\"\")","v":""},{"$f":"_xlfn.IFNA(IF(INDEX(VLC!I:I,MATCH(841+ROW(A14)-1,VLC!V:V,0))<>\"\",_xlfn.IFNA(INDEX(VLC!I:I,MATCH(841+ROW(A14)-1,VLC!V:V,0)),\"\"),\"\"),\"\")","v":""},{"$f":"_xlfn.IFNA(IF(INDEX(VLC!J:J,MATCH(801+ROW(A14)-1,VLC!V:V,0))=\"x\",_xlfn.IFNA(INDEX(VLC!J:J,MATCH(801+ROW(A14)-1,VLC!V:V,0)),\"\"),\"\"),\"\")","v":""},{"$f":"_xlfn.IFNA(IF(INDEX(VLC!J:J,MATCH(841+ROW(A14)-1,VLC!V:V,0))=\"x\",_xlfn.IFNA(INDEX(VLC!J:J,MATCH(841+ROW(A14)-1,VLC!V:V,0)),\"\"),\"\"),\"\")","v":""},8014,8054]
["SK Teilnehmer 15",{"$f":"_xlfn.IFNA(INDEX(VLC!A:A,MATCH(815,VLC!V:V,0)),\"\")","v":""},{"$f":"_xlfn.IFNA(INDEX(VLC!A:A,MATCH(855,VLC!V:V,0)),\"\")","v":""},{"$f":"_xlfn.IFNA(INDEX(VLC!B:B,MATCH(801+ROW(A15)-1,VLC!V:V,0)),\"\")","v":""},{"$f":"_xlfn.IFNA(INDEX(VLC!C:C,MATCH(801+ROW(A15)-1,VLC!V:V,0)),\"\")","v":""},{"$f":"_xlfn.IFNA(IF(INDEX(VLC!H:H,MATCH(801+ROW(A15)-1,VLC!V:V,0))=\"x\",_xlfn.IFNA(INDEX(VLC!H:H,MATCH(801+ROW(A15)-1,VLC!V:V,0)),\"\"),\"\"),\"\")","v":""},{"$f":"_xlfn.IFNA(IF(INDEX(VLC!H:H,MATCH(841+ROW(A15)-1,VLC!V:V,0))=\"x\",_xlfn.IFNA(INDEX(VLC!H:H,MATCH(841+ROW(A15)-1,VLC!V:V,0)),\"\"),\"\"),\"\")","v":""},{"$f":"_xlfn.IFNA(IF(INDEX(VLC!I:I,MATCH(801+ROW(A15)-1,VLC!V:V,0))<>\"\",_xlfn.IFNA(INDEX(VLC!I:I,MATCH(801+ROW(A15)-1,VLC!V:V,0)),\"\"),\"\"),\"\")","v":""},{"$f":"_xlfn.IFNA(IF(INDEX(VLC!I:I,MATCH(841+ROW(A15)-1,VLC!V:V,0))<>\"\",_xlfn.IFNA(INDEX(VLC!I:I,MATCH(841+ROW(A15)-1,VLC!V:V,0)),\"\"),\"\"),\"\")","v":""},{"$f":"_xlfn.IFNA(IF(INDEX(VLC!J:J,MATCH(801+ROW(A15)-1,VLC!V:V,0))=\"x\",_xlfn.IFNA(INDEX(VLC!J:J,MATCH(801+ROW(A15)-1,VLC!V:V,0)),\"\"),\"\"),\"\")","v":""},{"$f":"_xlfn.IFNA(IF(INDEX(VLC!J:J,MATCH(841+ROW(A15)-1,VLC!V:V,0))=\"x\",_xlfn.IFNA(INDEX(VLC!J:J,MATCH(841+ROW(A15)-1,VLC!V:V,0)),\"\"),\"\"),\"\")","v":""},8015,8055]
["SK Teilnehmer 16",{"$f":"_xlfn.IFNA(INDEX(VLC!A:A,MATCH(816,VLC!V:V,0)),\"\")","v":""},{"$f":"_xlfn.IFNA(INDEX(VLC!A:A,MATCH(856,VLC!V:V,0)),\"\")","v":""},{"$f":"_xlfn.IFNA(INDEX(VLC!B:B,MATCH(801+ROW(A16)-1,VLC!V:V,0)),\"\")","v":""},{"$f":"_xlfn.IFNA(INDEX(VLC!C:C,MATCH(801+ROW(A16)-1,VLC!V:V,0)),\"\")","v":""},{"$f":"_xlfn.IFNA(IF(INDEX(VLC!H:H,MATCH(801+ROW(A16)-1,VLC!V:V,0))=\"x\",_xlfn.IFNA(INDEX(VLC!H:H,MATCH(801+ROW(A16)-1,VLC!V:V,0)),\"\"),\"\"),\"\")","v":""},{"$f":"_xlfn.IFNA(IF(INDEX(VLC!H:H,MATCH(841+ROW(A16)-1,VLC!V:V,0))=\"x\",_xlfn.IFNA(INDEX(VLC!H:H,MATCH(841+ROW(A16)-1,VLC!V:V,0)),\"\"),\"\"),\"\")","v":""},{"$f":"_xlfn.IFNA(IF(INDEX(VLC!I:I,MATCH(801+ROW(A16)-1,VLC!V:V,0))<>\"\",_xlfn.IFNA(INDEX(VLC!I:I,MATCH(801+ROW(A16)-1,VLC!V:V,0)),\"\"),\"\"),\"\")","v":""},{"$f":"_xlfn.IFNA(IF(INDEX(VLC!I:I,MATCH(841+ROW(A16)-1,VLC!V:V,0))<>\"\",_xlfn.IFNA(INDEX(VLC!I:I,MATCH(841+ROW(A16)-1,VLC!V:V,0)),\"\"),\"\"),\"\")","v":""},{"$f":"_xlfn.IFNA(IF(INDEX(VLC!J:J,MATCH(801+ROW(A16)-1,VLC!V:V,0))=\"x\",_xlfn.IFNA(INDEX(VLC!J:J,MATCH(801+ROW(A16)-1,VLC!V:V,0)),\"\"),\"\"),\"\")","v":""},{"$f":"_xlfn.IFNA(IF(INDEX(VLC!J:J,MATCH(841+ROW(A16)-1,VLC!V:V,0))=\"x\",_xlfn.IFNA(INDEX(VLC!J:J,MATCH(841+ROW(A16)-1,VLC!V:V,0)),\"\"),\"\"),\"\")","v":""},8016,8056]
["SK Teilnehmer 17",{"$f":"_xlfn.IFNA(INDEX(VLC!A:A,MATCH(817,VLC!V:V,0)),\"\")","v":""},{"$f":"_xlfn.IFNA(INDEX(VLC!A:A,MATCH(857,VLC!V:V,0)),\"\")","v":""},{"$f":"_xlfn.IFNA(INDEX(VLC!B:B,MATCH(801+ROW(A17)-1,VLC!V:V,0)),\"\")","v":""},{"$f":"_xlfn.IFNA(INDEX(VLC!C:C,MATCH(801+ROW(A17)-1,VLC!V:V,0)),\"\")","v":""},{"$f":"_xlfn.IFNA(IF(INDEX(VLC!H:H,MATCH(801+ROW(A17)-1,VLC!V:V,0))=\"x\",_xlfn.IFNA(INDEX(VLC!H:H,MATCH(801+ROW(A17)-1,VLC!V:V,0)),\"\"),\"\"),\"\")","v":""},{"$f":"_xlfn.IFNA(IF(INDEX(VLC!H:H,MATCH(841+ROW(A17)-1,VLC!V:V,0))=\"x\",_xlfn.IFNA(INDEX(VLC!H:H,MATCH(841+ROW(A17)-1,VLC!V:V,0)),\"\"),\"\"),\"\")","v":""},{"$f":"_xlfn.IFNA(IF(INDEX(VLC!I:I,MATCH(801+ROW(A17)-1,VLC!V:V,0))<>\"\",_xlfn.IFNA(INDEX(VLC!I:I,MATCH(801+ROW(A17)-1,VLC!V:V,0)),\"\"),\"\"),\"\")","v":""},{"$f":"_xlfn.IFNA(IF(INDEX(VLC!I:I,MATCH(841+ROW(A17)-1,VLC!V:V,0))<>\"\",_xlfn.IFNA(INDEX(VLC!I:I,MATCH(841+ROW(A17)-1,VLC!V:V,0)),\"\"),\"\"),\"\")","v":""},{"$f":"_xlfn.IFNA(IF(INDEX(VLC!J:J,MATCH(801+ROW(A17)-1,VLC!V:V,0))=\"x\",_xlfn.IFNA(INDEX(VLC!J:J,MATCH(801+ROW(A17)-1,VLC!V:V,0)),\"\"),\"\"),\"\")","v":""},{"$f":"_xlfn.IFNA(IF(INDEX(VLC!J:J,MATCH(841+ROW(A17)-1,VLC!V:V,0))=\"x\",_xlfn.IFNA(INDEX(VLC!J:J,MATCH(841+ROW(A17)-1,VLC!V:V,0)),\"\"),\"\"),\"\")","v":""},8017,8057]
["SK Teilnehmer 18",{"$f":"_xlfn.IFNA(INDEX(VLC!A:A,MATCH(818,VLC!V:V,0)),\"\")","v":""},{"$f":"_xlfn.IFNA(INDEX(VLC!A:A,MATCH(858,VLC!V:V,0)),\"\")","v":""},{"$f":"_xlfn.IFNA(INDEX(VLC!B:B,MATCH(801+ROW(A18)-1,VLC!V:V,0)),\"\")","v":""},{"$f":"_xlfn.IFNA(INDEX(VLC!C:C,MATCH(801+ROW(A18)-1,VLC!V:V,0)),\"\")","v":""},{"$f":"_xlfn.IFNA(IF(INDEX(VLC!H:H,MATCH(801+ROW(A18)-1,VLC!V:V,0))=\"x\",_xlfn.IFNA(INDEX(VLC!H:H,MATCH(801+ROW(A18)-1,VLC!V:V,0)),\"\"),\"\"),\"\")","v":""},{"$f":"_xlfn.IFNA(IF(INDEX(VLC!H:H,MATCH(841+ROW(A18)-1,VLC!V:V,0))=\"x\",_xlfn.IFNA(INDEX(VLC!H:H,MATCH(841+ROW(A18)-1,VLC!V:V,0)),\"\"),\"\"),\"\")","v":""},{"$f":"_xlfn.IFNA(IF(INDEX(VLC!I:I,MATCH(801+ROW(A18)-1,VLC!V:V,0))<>\"\",_xlfn.IFNA(INDEX(VLC!I:I,MATCH(801+ROW(A18)-1,VLC!V:V,0)),\"\"),\"\"),\"\")","v":""},{"$f":"_xlfn.IFNA(IF(INDEX(VLC!I:I,MATCH(841+ROW(A18)-1,VLC!V:V,0))<>\"\",_xlfn.IFNA(INDEX(VLC!I:I,MATCH(841+ROW(A18)-1,VLC!V:V,0)),\"\"),\"\"),\"\")","v":""},{"$f":"_xlfn.IFNA(IF(INDEX(VLC!J:J,MATCH(801+ROW(A18)-1,VLC!V:V,0))=\"x\",_xlfn.IFNA(INDEX(VLC!J:J,MATCH(801+ROW(A18)-1,VLC!V:V,0)),\"\"),\"\"),\"\")","v":""},{"$f":"_xlfn.IFNA(IF(INDEX(VLC!J:J,MATCH(841+ROW(A18)-1,VLC!V:V,0))=\"x\",_xlfn.IFNA(INDEX(VLC!J:J,MATCH(841+ROW(A18)-1,VLC!V:V,0)),\"\"),\"\"),\"\")","v":""},8018,8058]
["SK Teilnehmer 19",{"$f":"_xlfn.IFNA(INDEX(VLC!A:A,MATCH(819,VLC!V:V,0)),\"\")","v":""},{"$f":"_xlfn.IFNA(INDEX(VLC!A:A,MATCH(859,VLC!V:V,0)),\"\")","v":""},{"$f":"_xlfn.IFNA(INDEX(VLC!B:B,MATCH(801+ROW(A19)-1,VLC!V:V,0)),\"\")","v":""},{"$f":"_xlfn.IFNA(INDEX(VLC!C:C,MATCH(801+ROW(A19)-1,VLC!V:V,0)),\"\")","v":""},{"$f":"_xlfn.IFNA(IF(INDEX(VLC!H:H,MATCH(801+ROW(A19)-1,VLC!V:V,0))=\"x\",_xlfn.IFNA(INDEX(VLC!H:H,MATCH(801+ROW(A19)-1,VLC!V:V,0)),\"\"),\"\"),\"\")","v":""},{"$f":"_xlfn.IFNA(IF(INDEX(VLC!H:H,MATCH(841+ROW(A19)-1,VLC!V:V,0))=\"x\",_xlfn.IFNA(INDEX(VLC!H:H,MATCH(841+ROW(A19)-1,VLC!V:V,0)),\"\"),\"\"),\"\")","v":""},{"$f":"_xlfn.IFNA(IF(INDEX(VLC!I:I,MATCH(801+ROW(A19)-1,VLC!V:V,0))<>\"\",_xlfn.IFNA(INDEX(VLC!I:I,MATCH(801+ROW(A19)-1,VLC!V:V,0)),\"\"),\"\"),\"\")","v":""},{"$f":"_xlfn.IFNA(IF(INDEX(VLC!I:I,MATCH(841+ROW(A19)-1,VLC!V:V,0))<>\"\",_xlfn.IFNA(INDEX(VLC!I:I,MATCH(841+ROW(A19)-1,VLC!V:V,0)),\"\"),\"\"),\"\")","v":""},{"$f":"_xlfn.IFNA(IF(INDEX(VLC!J:J,MATCH(801+ROW(A19)-1,VLC!V:V,0))=\"x\",_xlfn.IFNA(INDEX(VLC!J:J,MATCH(801+ROW(A19)-1,VLC!V:V,0)),\"\"),\"\"),\"\")","v":""},{"$f":"_xlfn.IFNA(IF(INDEX(VLC!J:J,MATCH(841+ROW(A19)-1,VLC!V:V,0))=\"x\",_xlfn.IFNA(INDEX(VLC!J:J,MATCH(841+ROW(A19)-1,VLC!V:V,0)),\"\"),\"\"),\"\")","v":""},8019,8059]
["SK Teilnehmer 20",{"$f":"_xlfn.IFNA(INDEX(VLC!A:A,MATCH(820,VLC!V:V,0)),\"\")","v":""},{"$f":"_xlfn.IFNA(INDEX(VLC!A:A,MATCH(860,VLC!V:V,0)),\"\")","v":""},{"$f":"_xlfn.IFNA(INDEX(VLC!B:B,MATCH(801+ROW(A20)-1,VLC!V:V,0)),\"\")","v":""},{"$f":"_xlfn.IFNA(INDEX(VLC!C:C,MATCH(801+ROW(A20)-1,VLC!V:V,0)),\"\")","v":""},{"$f":"_xlfn.IFNA(IF(INDEX(VLC!H:H,MATCH(801+ROW(A20)-1,VLC!V:V,0))=\"x\",_xlfn.IFNA(INDEX(VLC!H:H,MATCH(801+ROW(A20)-1,VLC!V:V,0)),\"\"),\"\"),\"\")","v":""},{"$f":"_xlfn.IFNA(IF(INDEX(VLC!H:H,MATCH(841+ROW(A20)-1,VLC!V:V,0))=\"x\",_xlfn.IFNA(INDEX(VLC!H:H,MATCH(841+ROW(A20)-1,VLC!V:V,0)),\"\"),\"\"),\"\")","v":""},{"$f":"_xlfn.IFNA(IF(INDEX(VLC!I:I,MATCH(801+ROW(A20)-1,VLC!V:V,0))<>\"\",_xlfn.IFNA(INDEX(VLC!I:I,MATCH(801+ROW(A20)-1,VLC!V:V,0)),\"\"),\"\"),\"\")","v":""},{"$f":"_xlfn.IFNA(IF(INDEX(VLC!I:I,MATCH(841+ROW(A20)-1,VLC!V:V,0))<>\"\",_xlfn.IFNA(INDEX(VLC!I:I,MATCH(841+ROW(A20)-1,VLC!V:V,0)),\"\"),\"\"),\"\")","v":""},{"$f":"_xlfn.IFNA(IF(INDEX(VLC!J:J,MATCH(801+ROW(A20)-1,VLC!V:V,0))=\"x\",_xlfn.IFNA(INDEX(VLC!J:J,MATCH(801+ROW(A20)-1,VLC!V:V,0)),\"\"),\"\"),\"\")","v":""},{"$f":"_xlfn.IFNA(IF(INDEX(VLC!J:J,MATCH(841+ROW(A20)-1,VLC!V:V,0))=\"x\",_xlfn.IFNA(INDEX(VLC!J:J,MATCH(841+ROW(A20)-1,VLC!V:V,0)),\"\"),\"\"),\"\")","v":""},8020,8060]
["Gerätename:",{"$f":"$B$6","v":0},null,null,"PLC24 Stromkreis-Nummer: 9"]
["Stromkreis-Bezeichnung:"]
["Stromkreisbelegung","ID 1","ID 2","Bezeichnung","Zusatzinfo","DL",null,"GL",null,"BL"]
[null,null,null,null,null,"ID1","ID2","ID1","ID2","ID1","ID2"]
["SK Teilnehmer 1",{"$f":"_xlfn.IFNA(INDEX(VLC!A:A,MATCH(901,VLC!V:V,0)),\"\")","v":""},{"$f":"_xlfn.IFNA(INDEX(VLC!A:A,MATCH(941,VLC!V:V,0)),\"\")","v":""},{"$f":"_xlfn.IFNA(INDEX(VLC!B:B,MATCH(901+ROW(A1)-1,VLC!V:V,0)),\"\")","v":""},{"$f":"_xlfn.IFNA(INDEX(VLC!C:C,MATCH(901+ROW(A1)-1,VLC!V:V,0)),\"\")","v":""},{"$f":"_xlfn.IFNA(IF(INDEX(VLC!H:H,MATCH(901+ROW(A1)-1,VLC!V:V,0))=\"x\",_xlfn.IFNA(INDEX(VLC!H:H,MATCH(901+ROW(A1)-1,VLC!V:V,0)),\"\"),\"\"),\"\")","v":""},{"$f":"_xlfn.IFNA(IF(INDEX(VLC!H:H,MATCH(941+ROW(A1)-1,VLC!V:V,0))=\"x\",_xlfn.IFNA(INDEX(VLC!H:H,MATCH(941+ROW(A1)-1,VLC!V:V,0)),\"\"),\"\"),\"\")","v":""},{"$f":"_xlfn.IFNA(IF(INDEX(VLC!I:I,MATCH(901+ROW(A1)-1,VLC!V:V,0))<>\"\",_xlfn.IFNA(INDEX(VLC!I:I,MATCH(901+ROW(A1)-1,VLC!V:V,0)),\"\"),\"\"),\"\")","v":""},{"$f":"_xlfn.IFNA(IF(INDEX(VLC!I:I,MATCH(941+ROW(A1)-1,VLC!V:V,0))<>\"\",_xlfn.IFNA(INDEX(VLC!I:I,MATCH(941+ROW(A1)-1,VLC!V:V,0)),\"\"),\"\"),\"\")","v":""},{"$f":"_xlfn.IFNA(IF(INDEX(VLC!J:J,MATCH(901+ROW(A1)-1,VLC!V:V,0))=\"x\",_xlfn.IFNA(INDEX(VLC!J:J,MATCH(901+ROW(A1)-1,VLC!V:V,0)),\"\"),\"\"),\"\")","v":""},{"$f":"_xlfn.IFNA(IF(INDEX(VLC!J:J,MATCH(941+ROW(A1)-1,VLC!V:V,0))=\"x\",_xlfn.IFNA(INDEX(VLC!J:J,MATCH(941+ROW(A1)-1,VLC!V:V,0)),\"\"),\"\"),\"\")","v":""},{"$f":"9000+ROW(A202)-201","v":9001},{"$f":"L202+40","v":9041}]
["SK Teilnehmer 2",{"$f":"_xlfn.IFNA(INDEX(VLC!A:A,MATCH(902,VLC!V:V,0)),\"\")","v":""},{"$f":"_xlfn.IFNA(INDEX(VLC!A:A,MATCH(942,VLC!V:V,0)),\"\")","v":""},{"$f":"_xlfn.IFNA(INDEX(VLC!B:B,MATCH(901+ROW(A2)-1,VLC!V:V,0)),\"\")","v":""},{"$f":"_xlfn.IFNA(INDEX(VLC!C:C,MATCH(901+ROW(A2)-1,VLC!V:V,0)),\"\")","v":""},{"$f":"_xlfn.IFNA(IF(INDEX(VLC!H:H,MATCH(901+ROW(A2)-1,VLC!V:V,0))=\"x\",_xlfn.IFNA(INDEX(VLC!H:H,MATCH(901+ROW(A2)-1,VLC!V:V,0)),\"\"),\"\"),\"\")","v":""},{"$f":"_xlfn.IFNA(IF(INDEX(VLC!H:H,MATCH(941+ROW(A2)-1,VLC!V:V,0))=\"x\",_xlfn.IFNA(INDEX(VLC!H:H,MATCH(941+ROW(A2)-1,VLC!V:V,0)),\"\"),\"\"),\"\")","v":""},{"$f":"_xlfn.IFNA(IF(INDEX(VLC!I:I,MATCH(901+ROW(A2)-1,VLC!V:V,0))<>\"\",_xlfn.IFNA(INDEX(VLC!I:I,MATCH(901+ROW(A2)-1,VLC!V:V,0)),\"\"),\"\"),\"\")","v":""},{"$f":"_xlfn.IFNA(IF(INDEX(VLC!I:I,MATCH(941+ROW(A2)-1,VLC!V:V,0))<>\"\",_xlfn.IFNA(INDEX(VLC!I:I,MATCH(941+ROW(A2)-1,VLC!V:V,0)),\"\"),\"\"),\"\")","v":""},{"$f":"_xlfn.IFNA(IF(INDEX(VLC!J:J,MATCH(901+ROW(A2)-1,VLC!V:V,0))=\"x\",_xlfn.IFNA(INDEX(VLC!J:J,MATCH(901+ROW(A2)-1,VLC!V:V,0)),\"\"),\"\"),\"\")","v":""},{"$f":"_xlfn.IFNA(IF(INDEX(VLC!J:J,MATCH(941+ROW(A2)-1,VLC!V:V,0))=\"x\",_xlfn.IFNA(INDEX(VLC!J:J,MATCH(941+ROW(A2)-1,VLC!V:V,0)),\"\"),\"\"),\"\")","v":""},{"$f":"9000+ROW(A203)-201","v":9002},{"$f":"L203+40","v":9042}]
["SK Teilnehmer 3",{"$f":"_xlfn.IFNA(INDEX(VLC!A:A,MATCH(903,VLC!V:V,0)),\"\")","v":""},{"$f":"_xlfn.IFNA(INDEX(VLC!A:A,MATCH(943,VLC!V:V,0)),\"\")","v":""},{"$f":"_xlfn.IFNA(INDEX(VLC!B:B,MATCH(901+ROW(A3)-1,VLC!V:V,0)),\"\")","v":""},{"$f":"_xlfn.IFNA(INDEX(VLC!C:C,MATCH(901+ROW(A3)-1,VLC!V:V,0)),\"\")","v":""},{"$f":"_xlfn.IFNA(IF(INDEX(VLC!H:H,MATCH(901+ROW(A3)-1,VLC!V:V,0))=\"x\",_xlfn.IFNA(INDEX(VLC!H:H,MATCH(901+ROW(A3)-1,VLC!V:V,0)),\"\"),\"\"),\"\")","v":""},{"$f":"_xlfn.IFNA(IF(INDEX(VLC!H:H,MATCH(941+ROW(A3)-1,VLC!V:V,0))=\"x\",_xlfn.IFNA(INDEX(VLC!H:H,MATCH(941+ROW(A3)-1,VLC!V:V,0)),\"\"),\"\"),\"\")","v":""},{"$f":"_xlfn.IFNA(IF(INDEX(VLC!I:I,MATCH(901+ROW(A3)-1,VLC!V:V,0))<>\"\",_xlfn.IFNA(INDEX(VLC!I:I,MATCH(901+ROW(A3)-1,VLC!V:V,0)),\"\"),\"\"),\"\")","v":""},{"$f":"_xlfn.IFNA(IF(INDEX(VLC!I:I,MATCH(941+ROW(A3)-1,VLC!V:V,0))<>\"\",_xlfn.IFNA(INDEX(VLC!I:I,MATCH(941+ROW(A3)-1,VLC!V:V,0)),\"\"),\"\"),\"\")","v":""},{"$f":"_xlfn.IFNA(IF(INDEX(VLC!J:J,MATCH(901+ROW(A3)-1,VLC!V:V,0))=\"x\",_xlfn.IFNA(INDEX(VLC!J:J,MATCH(901+ROW(A3)-1,VLC!V:V,0)),\"\"),\"\"),\"\")","v":""},{"$f":"_xlfn.IFNA(IF(INDEX(VLC!J:J,MATCH(941+ROW(A3)-1,VLC!V:V,0))=\"x\",_xlfn.IFNA(INDEX(VLC!J:J,MATCH(941+ROW(A3)-1,VLC!V:V,0)),\"\"),\"\"),\"\")","v":""},9003,9043]
["SK Teilnehmer 4",{"$f":"_xlfn.IFNA(INDEX(VLC!A:A,MATCH(904,VLC!V:V,0)),\"\")","v":""},{"$f":"_xlfn.IFNA(INDEX(VLC!A:A,MATCH(944,VLC!V:V,0)),\"\")","v":""},{"$f":"_xlfn.IFNA(INDEX(VLC!B:B,MATCH(901+ROW(A4)-1,VLC!V:V,0)),\"\")","v":""},{"$f":"_xlfn.IFNA(INDEX(VLC!C:C,MATCH(901+ROW(A4)-1,VLC!V:V,0)),\"\")","v":""},{"$f":"_xlfn.IFNA(IF(INDEX(VLC!H:H,MATCH(901+ROW(A4)-1,VLC!V:V,0))=\"x\",_xlfn.IFNA(INDEX(VLC!H:H,MATCH(901+ROW(A4)-1,VLC!V:V,0)),\"\"),\"\"),\"\")","v":""},{"$f":"_xlfn.IFNA(IF(INDEX(VLC!H:H,MATCH(941+ROW(A4)-1,VLC!V:V,0))=\"x\",_xlfn.IFNA(INDEX(VLC!H:H,MATCH(941+ROW(A4)-1,VLC!V:V,0)),\"\"),\"\"),\"\")","v":""},{"$f":"_xlfn.IFNA(IF(INDEX(VLC!I:I,MATCH(901+ROW(A4)-1,VLC!V:V,0))<>\"\",_xlfn.IFNA(INDEX(VLC!I:I,MATCH(901+ROW(A4)-1,VLC!V:V,0)),\"\"),\"\"),\"\")","v":""},{"$f":"_xlfn.IFNA(IF(INDEX(VLC!I:I,MATCH(941+ROW(A4)-1,VLC!V:V,0))<>\"\",_xlfn.IFNA(INDEX(VLC!I:I,MATCH(941+ROW(A4)-1,VLC!V:V,0)),\"\"),\"\"),\"\")","v":""},{"$f":"_xlfn.IFNA(IF(INDEX(VLC!J:J,MATCH(901+ROW(A4)-1,VLC!V:V,0))=\"x\",_xlfn.IFNA(INDEX(VLC!J:J,MATCH(901+ROW(A4)-1,VLC!V:V,0)),\"\"),\"\"),\"\")","v":""},{"$f":"_xlfn.IFNA(IF(INDEX(VLC!J:J,MATCH(941+ROW(A4)-1,VLC!V:V,0))=\"x\",_xlfn.IFNA(INDEX(VLC!J:J,MATCH(941+ROW(A4)-1,VLC!V:V,0)),\"\"),\"\"),\"\")","v":""},9004,9044]
["SK Teilnehmer 5",{"$f":"_xlfn.IFNA(INDEX(VLC!A:A,MATCH(905,VLC!V:V,0)),\"\")","v":""},{"$f":"_xlfn.IFNA(INDEX(VLC!A:A,MATCH(945,VLC!V:V,0)),\"\")","v":""},{"$f":"_xlfn.IFNA(INDEX(VLC!B:B,MATCH(901+ROW(A5)-1,VLC!V:V,0)),\"\")","v":""},{"$f":"_xlfn.IFNA(INDEX(VLC!C:C,MATCH(901+ROW(A5)-1,VLC!V:V,0)),\"\")","v":""},{"$f":"_xlfn.IFNA(IF(INDEX(VLC!H:H,MATCH(901+ROW(A5)-1,VLC!V:V,0))=\"x\",_xlfn.IFNA(INDEX(VLC!H:H,MATCH(901+ROW(A5)-1,VLC!V:V,0)),\"\"),\"\"),\"\")","v":""},{"$f":"_xlfn.IFNA(IF(INDEX(VLC!H:H,MATCH(941+ROW(A5)-1,VLC!V:V,0))=\"x\",_xlfn.IFNA(INDEX(VLC!H:H,MATCH(941+ROW(A5)-1,VLC!V:V,0)),\"\"),\"\"),\"\")","v":""},{"$f":"_xlfn.IFNA(IF(INDEX(VLC!I:I,MATCH(901+ROW(A5)-1,VLC!V:V,0))<>\"\",_xlfn.IFNA(INDEX(VLC!I:I,MATCH(901+ROW(A5)-1,VLC!V:V,0)),\"\"),\"\"),\"\")","v":""},{"$f":"_xlfn.IFNA(IF(INDEX(VLC!I:I,MATCH(941+ROW(A5)-1,VLC!V:V,0))<>\"\",_xlfn.IFNA(INDEX(VLC!I:I,MATCH(941+ROW(A5)-1,VLC!V:V,0)),\"\"),\"\"),\"\")","v":""},{"$f":"_xlfn.IFNA(IF(INDEX(VLC!J:J,MATCH(901+ROW(A5)-1,VLC!V:V,0))=\"x\",_xlfn.IFNA(INDEX(VLC!J:J,MATCH(901+ROW(A5)-1,VLC!V:V,0)),\"\"),\"\"),\"\")","v":""},{"$f":"_xlfn.IFNA(IF(INDEX(VLC!J:J,MATCH(941+ROW(A5)-1,VLC!V:V,0))=\"x\",_xlfn.IFNA(INDEX(VLC!J:J,MATCH(941+ROW(A5)-1,VLC!V:V,0)),\"\"),\"\"),\"\")","v":""},9005,9045]
["SK Teilnehmer 6",{"$f":"_xlfn.IFNA(INDEX(VLC!A:A,MATCH(906,VLC!V:V,0)),\"\")","v":""},{"$f":"_xlfn.IFNA(INDEX(VLC!A:A,MATCH(946,VLC!V:V,0)),\"\")","v":""},{"$f":"_xlfn.IFNA(INDEX(VLC!B:B,MATCH(901+ROW(A6)-1,VLC!V:V,0)),\"\")","v":""},{"$f":"_xlfn.IFNA(INDEX(VLC!C:C,MATCH(901+ROW(A6)-1,VLC!V:V,0)),\"\")","v":""},{"$f":"_xlfn.IFNA(IF(INDEX(VLC!H:H,MATCH(901+ROW(A6)-1,VLC!V:V,0))=\"x\",_xlfn.IFNA(INDEX(VLC!H:H,MATCH(901+ROW(A6)-1,VLC!V:V,0)),\"\"),\"\"),\"\")","v":""},{"$f":"_xlfn.IFNA(IF(INDEX(VLC!H:H,MATCH(941+ROW(A6)-1,VLC!V:V,0))=\"x\",_xlfn.IFNA(INDEX(VLC!H:H,MATCH(941+ROW(A6)-1,VLC!V:V,0)),\"\"),\"\"),\"\")","v":""},{"$f":"_xlfn.IFNA(IF(INDEX(VLC!I:I,MATCH(901+ROW(A6)-1,VLC!V:V,0))<>\"\",_xlfn.IFNA(INDEX(VLC!I:I,MATCH(901+ROW(A6)-1,VLC!V:V,0)),\"\"),\"\"),\"\")","v":""},{"$f":"_xlfn.IFNA(IF(INDEX(VLC!I:I,MATCH(941+ROW(A6)-1,VLC!V:V,0))<>\"\",_xlfn.IFNA(INDEX(VLC!I:I,MATCH(941+ROW(A6)-1,VLC!V:V,0)),\"\"),\"\"),\"\")","v":""},{"$f":"_xlfn.IFNA(IF(INDEX(VLC!J:J,MATCH(901+ROW(A6)-1,VLC!V:V,0))=\"x\",_xlfn.IFNA(INDEX(VLC!J:J,MATCH(901+ROW(A6)-1,VLC!V:V,0)),\"\"),\"\"),\"\")","v":""},{"$f":"_xlfn.IFNA(IF(INDEX(VLC!J:J,MATCH(941+ROW(A6)-1,VLC!V:V,0))=\"x\",_xlfn.IFNA(INDEX(VLC!J:J,MATCH(941+ROW(A6)-1,VLC!V:V,0)),\"\"),\"\"),\"\")","v":""},9006,9046]
["SK Teilnehmer 7",{"$f":"_xlfn.IFNA(INDEX(VLC!A:A,MATCH(907,VLC!V:V,0)),\"\")","v":""},{"$f":"_xlfn.IFNA(INDEX(VLC!A:A,MATCH(947,VLC!V:V,0)),\"\")","v":""},{"$f":"_xlfn.IFNA(INDEX(VLC!B:B,MATCH(901+ROW(A7)-1,VLC!V:V,0)),\"\")","v":""},{"$f":"_xlfn.IFNA(INDEX(VLC!C:C,MATCH(901+ROW(A7)-1,VLC!V:V,0)),\"\")","v":""},{"$f":"_xlfn.IFNA(IF(INDEX(VLC!H:H,MATCH(901+ROW(A7)-1,VLC!V:V,0))=\"x\",_xlfn.IFNA(INDEX(VLC!H:H,MATCH(901+ROW(A7)-1,VLC!V:V,0)),\"\"),\"\"),\"\")","v":""},{"$f":"_xlfn.IFNA(IF(INDEX(VLC!H:H,MATCH(941+ROW(A7)-1,VLC!V:V,0))=\"x\",_xlfn.IFNA(INDEX(VLC!H:H,MATCH(941+ROW(A7)-1,VLC!V:V,0)),\"\"),\"\"),\"\")","v":""},{"$f":"_xlfn.IFNA(IF(INDEX(VLC!I:I,MATCH(901+ROW(A7)-1,VLC!V:V,0))<>\"\",_xlfn.IFNA(INDEX(VLC!I:I,MATCH(901+ROW(A7)-1,VLC!V:V,0)),\"\"),\"\"),\"\")","v":""},{"$f":"_xlfn.IFNA(IF(INDEX(VLC!I:I,MATCH(941+ROW(A7)-1,VLC!V:V,0))<>\"\",_xlfn.IFNA(INDEX(VLC!I:I,MATCH(941+ROW(A7)-1,VLC!V:V,0)),\"\"),\"\"),\"\")","v":""},{"$f":"_xlfn.IFNA(IF(INDEX(VLC!J:J,MATCH(901+ROW(A7)-1,VLC!V:V,0))=\"x\",_xlfn.IFNA(INDEX(VLC!J:J,MATCH(901+ROW(A7)-1,VLC!V:V,0)),\"\"),\"\"),\"\")","v":""},{"$f":"_xlfn.IFNA(IF(INDEX(VLC!J:J,MATCH(941+ROW(A7)-1,VLC!V:V,0))=\"x\",_xlfn.IFNA(INDEX(VLC!J:J,MATCH(941+ROW(A7)-1,VLC!V:V,0)),\"\"),\"\"),\"\")","v":""},9007,9047]
["SK Teilnehmer 8",{"$f":"_xlfn.IFNA(INDEX(VLC!A:A,MATCH(908,VLC!V:V,0)),\"\")","v":""},{"$f":"_xlfn.IFNA(INDEX(VLC!A:A,MATCH(948,VLC!V:V,0)),\"\")","v":""},{"$f":"_xlfn.IFNA(INDEX(VLC!B:B,MATCH(901+ROW(A8)-1,VLC!V:V,0)),\"\")","v":""},{"$f":"_xlfn.IFNA(INDEX(VLC!C:C,MATCH(901+ROW(A8)-1,VLC!V:V,0)),\"\")","v":""},{"$f":"_xlfn.IFNA(IF(INDEX(VLC!H:H,MATCH(901+ROW(A8)-1,VLC!V:V,0))=\"x\",_xlfn.IFNA(INDEX(VLC!H:H,MATCH(901+ROW(A8)-1,VLC!V:V,0)),\"\"),\"\"),\"\")","v":""},{"$f":"_xlfn.IFNA(IF(INDEX(VLC!H:H,MATCH(941+ROW(A8)-1,VLC!V:V,0))=\"x\",_xlfn.IFNA(INDEX(VLC!H:H,MATCH(941+ROW(A8)-1,VLC!V:V,0)),\"\"),\"\"),\"\")","v":""},{"$f":"_xlfn.IFNA(IF(INDEX(VLC!I:I,MATCH(901+ROW(A8)-1,VLC!V:V,0))<>\"\",_xlfn.IFNA(INDEX(VLC!I:I,MATCH(901+ROW(A8)-1,VLC!V:V,0)),\"\"),\"\"),\"\")","v":""},{"$f":"_xlfn.IFNA(IF(INDEX(VLC!I:I,MATCH(941+ROW(A8)-1,VLC!V:V,0))<>\"\",_xlfn.IFNA(INDEX(VLC!I:I,MATCH(941+ROW(A8)-1,VLC!V:V,0)),\"\"),\"\"),\"\")","v":""},{"$f":"_xlfn.IFNA(IF(INDEX(VLC!J:J,MATCH(901+ROW(A8)-1,VLC!V:V,0))=\"x\",_xlfn.IFNA(INDEX(VLC!J:J,MATCH(901+ROW(A8)-1,VLC!V:V,0)),\"\"),\"\"),\"\")","v":""},{"$f":"_xlfn.IFNA(IF(INDEX(VLC!J:J,MATCH(941+ROW(A8)-1,VLC!V:V,0))=\"x\",_xlfn.IFNA(INDEX(VLC!J:J,MATCH(941+ROW(A8)-1,VLC!V:V,0)),\"\"),\"\"),\"\")","v":""},9008,9048]
["SK Teilnehmer 9",{"$f":"_xlfn.IFNA(INDEX(VLC!A:A,MATCH(909,VLC!V:V,0)),\"\")","v":""},{"$f":"_xlfn.IFNA(INDEX(VLC!A:A,MATCH(949,VLC!V:V,0)),\"\")","v":""},{"$f":"_xlfn.IFNA(INDEX(VLC!B:B,MATCH(901+ROW(A9)-1,VLC!V:V,0)),\"\")","v":""},{"$f":"_xlfn.IFNA(INDEX(VLC!C:C,MATCH(901+ROW(A9)-1,VLC!V:V,0)),\"\")","v":""},{"$f":"_xlfn.IFNA(IF(INDEX(VLC!H:H,MATCH(901+ROW(A9)-1,VLC!V:V,0))=\"x\",_xlfn.IFNA(INDEX(VLC!H:H,MATCH(901+ROW(A9)-1,VLC!V:V,0)),\"\"),\"\"),\"\")","v":""},{"$f":"_xlfn.IFNA(IF(INDEX(VLC!H:H,MATCH(941+ROW(A9)-1,VLC!V:V,0))=\"x\",_xlfn.IFNA(INDEX(VLC!H:H,MATCH(941+ROW(A9)-1,VLC!V:V,0)),\"\"),\"\"),\"\")","v":""},{"$f":"_xlfn.IFNA(IF(INDEX(VLC!I:I,MATCH(901+ROW(A9)-1,VLC!V:V,0))<>\"\",_xlfn.IFNA(INDEX(VLC!I:I,MATCH(901+ROW(A9)-1,VLC!V:V,0)),\"\"),\"\"),\"\")","v":""},{"$f":"_xlfn.IFNA(IF(INDEX(VLC!I:I,MATCH(941+ROW(A9)-1,VLC!V:V,0))<>\"\",_xlfn.IFNA(INDEX(VLC!I:I,MATCH(941+ROW(A9)-1,VLC!V:V,0)),\"\"),\"\"),\"\")","v":""},{"$f":"_xlfn.IFNA(IF(INDEX(VLC!J:J,MATCH(901+ROW(A9)-1,VLC!V:V,0))=\"x\",_xlfn.IFNA(INDEX(VLC!J:J,MATCH(901+ROW(A9)-1,VLC!V:V,0)),\"\"),\"\"),\"\")","v":""},{"$f":"_xlfn.IFNA(IF(INDEX(VLC!J:J,MATCH(941+ROW(A9)-1,VLC!V:V,0))=\"x\",_xlfn.IFNA(INDEX(VLC!J:J,MATCH(941+ROW(A9)-1,VLC!V:V,0)),\"\"),\"\"),\"\")","v":""},9009,9049]
["SK Teilnehmer 10",{"$f":"_xlfn.IFNA(INDEX(VLC!A:A,MATCH(910,VLC!V:V,0)),\"\")","v":""},{"$f":"_xlfn.IFNA(INDEX(VLC!A:A,MATCH(950,VLC!V:V,0)),\"\")","v":""},{"$f":"_xlfn.IFNA(INDEX(VLC!B:B,MATCH(901+ROW(A10)-1,VLC!V:V,0)),\"\")","v":""},{"$f":"_xlfn.IFNA(INDEX(VLC!C:C,MATCH(901+ROW(A10)-1,VLC!V:V,0)),\"\")","v":""},{"$f":"_xlfn.IFNA(IF(INDEX(VLC!H:H,MATCH(901+ROW(A10)-1,VLC!V:V,0))=\"x\",_xlfn.IFNA(INDEX(VLC!H:H,MATCH(901+ROW(A10)-1,VLC!V:V,0)),\"\"),\"\"),\"\")","v":""},{"$f":"_xlfn.IFNA(IF(INDEX(VLC!H:H,MATCH(941+ROW(A10)-1,VLC!V:V,0))=\"x\",_xlfn.IFNA(INDEX(VLC!H:H,MATCH(941+ROW(A10)-1,VLC!V:V,0)),\"\"),\"\"),\"\")","v":""},{"$f":"_xlfn.IFNA(IF(INDEX(VLC!I:I,MATCH(901+ROW(A10)-1,VLC!V:V,0))<>\"\",_xlfn.IFNA(INDEX(VLC!I:I,MATCH(901+ROW(A10)-1,VLC!V:V,0)),\"\"),\"\"),\"\")","v":""},{"$f":"_xlfn.IFNA(IF(INDEX(VLC!I:I,MATCH(941+ROW(A10)-1,VLC!V:V,0))<>\"\",_xlfn.IFNA(INDEX(VLC!I:I,MATCH(941+ROW(A10)-1,VLC!V:V,0)),\"\"),\"\"),\"\")","v":""},{"$f":"_xlfn.IFNA(IF(INDEX(VLC!J:J,MATCH(901+ROW(A10)-1,VLC!V:V,0))=\"x\",_xlfn.IFNA(INDEX(VLC!J:J,MATCH(901+ROW(A10)-1,VLC!V:V,0)),\"\"),\"\"),\"\")","v":""},{"$f":"_xlfn.IFNA(IF(INDEX(VLC!J:J,MATCH(941+ROW(A10)-1,VLC!V:V,0))=\"x\",_xlfn.IFNA(INDEX(VLC!J:J,MATCH(941+ROW(A10)-1,VLC!V:V,0)),\"\"),\"\"),\"\")","v":""},9010,9050]
["SK Teilnehmer 11",{"$f":"_xlfn.IFNA(INDEX(VLC!A:A,MATCH(911,VLC!V:V,0)),\"\")","v":""},{"$f":"_xlfn.IFNA(INDEX(VLC!A:A,MATCH(951,VLC!V:V,0)),\"\")","v":""},{"$f":"_xlfn.IFNA(INDEX(VLC!B:B,MATCH(901+ROW(A11)-1,VLC!V:V,0)),\"\")","v":""},{"$f":"_xlfn.IFNA(INDEX(VLC!C:C,MATCH(901+ROW(A11)-1,VLC!V:V,0)),\"\")","v":""},{"$f":"_xlfn.IFNA(IF(INDEX(VLC!H:H,MATCH(901+ROW(A11)-1,VLC!V:V,0))=\"x\",_xlfn.IFNA(INDEX(VLC!H:H,MATCH(901+ROW(A11)-1,VLC!V:V,0)),\"\"),\"\"),\"\")","v":""},{"$f":"_xlfn.IFNA(IF(INDEX(VLC!H:H,MATCH(941+ROW(A11)-1,VLC!V:V,0))=\"x\",_xlfn.IFNA(INDEX(VLC!H:H,MATCH(941+ROW(A11)-1,VLC!V:V,0)),\"\"),\"\"),\"\")","v":""},{"$f":"_xlfn.IFNA(IF(INDEX(VLC!I:I,MATCH(901+ROW(A11)-1,VLC!V:V,0))<>\"\",_xlfn.IFNA(INDEX(VLC!I:I,MATCH(901+ROW(A11)-1,VLC!V:V,0)),\"\"),\"\"),\"\")","v":""},{"$f":"_xlfn.IFNA(IF(INDEX(VLC!I:I,MATCH(941+ROW(A11)-1,VLC!V:V,0))<>\"\",_xlfn.IFNA(INDEX(VLC!I:I,MATCH(941+ROW(A11)-1,VLC!V:V,0)),\"\"),\"\"),\"\")","v":""},{"$f":"_xlfn.IFNA(IF(INDEX(VLC!J:J,MATCH(901+ROW(A11)-1,VLC!V:V,0))=\"x\",_xlfn.IFNA(INDEX(VLC!J:J,MATCH(901+ROW(A11)-1,VLC!V:V,0)),\"\"),\"\"),\"\")","v":""},{"$f":"_xlfn.IFNA(IF(INDEX(VLC!J:J,MATCH(941+ROW(A11)-1,VLC!V:V,0))=\"x\",_xlfn.IFNA(INDEX(VLC!J:J,MATCH(941+ROW(A11)-1,VLC!V:V,0)),\"\"),\"\"),\"\")","v":""},9011,9051]
["SK Teilnehmer 12",{"$f":"_xlfn.IFNA(INDEX(VLC!A:A,MATCH(912,VLC!V:V,0)),\"\")","v":""},{"$f":"_xlfn.IFNA(INDEX(VLC!A:A,MATCH(952,VLC!V:V,0)),\"\")","v":""},{"$f":"_xlfn.IFNA(INDEX(VLC!B:B,MATCH(901+ROW(A12)-1,VLC!V:V,0)),\"\")","v":""},{"$f":"_xlfn.IFNA(INDEX(VLC!C:C,MATCH(901+ROW(A12)-1,VLC!V:V,0)),\"\")","v":""},{"$f":"_xlfn.IFNA(IF(INDEX(VLC!H:H,MATCH(901+ROW(A12)-1,VLC!V:V,0))=\"x\",_xlfn.IFNA(INDEX(VLC!H:H,MATCH(901+ROW(A12)-1,VLC!V:V,0)),\"\"),\"\"),\"\")","v":""},{"$f":"_xlfn.IFNA(IF(INDEX(VLC!H:H,MATCH(941+ROW(A12)-1,VLC!V:V,0))=\"x\",_xlfn.IFNA(INDEX(VLC!H:H,MATCH(941+ROW(A12)-1,VLC!V:V,0)),\"\"),\"\"),\"\")","v":""},{"$f":"_xlfn.IFNA(IF(INDEX(VLC!I:I,MATCH(901+ROW(A12)-1,VLC!V:V,0))<>\"\",_xlfn.IFNA(INDEX(VLC!I:I,MATCH(901+ROW(A12)-1,VLC!V:V,0)),\"\"),\"\"),\"\")","v":""},{"$f":"_xlfn.IFNA(IF(INDEX(VLC!I:I,MATCH(941+ROW(A12)-1,VLC!V:V,0))<>\"\",_xlfn.IFNA(INDEX(VLC!I:I,MATCH(941+ROW(A12)-1,VLC!V:V,0)),\"\"),\"\"),\"\")","v":""},{"$f":"_xlfn.IFNA(IF(INDEX(VLC!J:J,MATCH(901+ROW(A12)-1,VLC!V:V,0))=\"x\",_xlfn.IFNA(INDEX(VLC!J:J,MATCH(901+ROW(A12)-1,VLC!V:V,0)),\"\"),\"\"),\"\")","v":""},{"$f":"_xlfn.IFNA(IF(INDEX(VLC!J:J,MATCH(941+ROW(A12)-1,VLC!V:V,0))=\"x\",_xlfn.IFNA(INDEX(VLC!J:J,MATCH(941+ROW(A12)-1,VLC!V:V,0)),\"\"),\"\"),\"\")","v":""},9012,9052]
["SK Teilnehmer 13",{"$f":"_xlfn.IFNA(INDEX(VLC!A:A,MATCH(913,VLC!V:V,0)),\"\")","v":""},{"$f":"_xlfn.IFNA(INDEX(VLC!A:A,MATCH(953,VLC!V:V,0)),\"\")","v":""},{"$f":"_xlfn.IFNA(INDEX(VLC!B:B,MATCH(901+ROW(A13)-1,VLC!V:V,0)),\"\")","v":""},{"$f":"_xlfn.IFNA(INDEX(VLC!C:C,MATCH(901+ROW(A13)-1,VLC!V:V,0)),\"\")","v":""},{"$f":"_xlfn.IFNA(IF(INDEX(VLC!H:H,MATCH(901+ROW(A13)-1,VLC!V:V,0))=\"x\",_xlfn.IFNA(INDEX(VLC!H:H,MATCH(901+ROW(A13)-1,VLC!V:V,0)),\"\"),\"\"),\"\")","v":""},{"$f":"_xlfn.IFNA(IF(INDEX(VLC!H:H,MATCH(941+ROW(A13)-1,VLC!V:V,0))=\"x\",_xlfn.IFNA(INDEX(VLC!H:H,MATCH(941+ROW(A13)-1,VLC!V:V,0)),\"\"),\"\"),\"\")","v":""},{"$f":"_xlfn.IFNA(IF(INDEX(VLC!I:I,MATCH(901+ROW(A13)-1,VLC!V:V,0))<>\"\",_xlfn.IFNA(INDEX(VLC!I:I,MATCH(901+ROW(A13)-1,VLC!V:V,0)),\"\"),\"\"),\"\")","v":""},{"$f":"_xlfn.IFNA(IF(INDEX(VLC!I:I,MATCH(941+ROW(A13)-1,VLC!V:V,0))<>\"\",_xlfn.IFNA(INDEX(VLC!I:I,MATCH(941+ROW(A13)-1,VLC!V:V,0)),\"\"),\"\"),\"\")","v":""},{"$f":"_xlfn.IFNA(IF(INDEX(VLC!J:J,MATCH(901+ROW(A13)-1,VLC!V:V,0))=\"x\",_xlfn.IFNA(INDEX(VLC!J:J,MATCH(901+ROW(A13)-1,VLC!V:V,0)),\"\"),\"\"),\"\")","v":""},{"$f":"_xlfn.IFNA(IF(INDEX(VLC!J:J,MATCH(941+ROW(A13)-1,VLC!V:V,0))=\"x\",_xlfn.IFNA(INDEX(VLC!J:J,MATCH(941+ROW(A13)-1,VLC!V:V,0)),\"\"),\"\"),\"\")","v":""},9013,9053]
["SK Teilnehmer 14",{"$f":"_xlfn.IFNA(INDEX(VLC!A:A,MATCH(914,VLC!V:V,0)),\"\")","v":""},{"$f":"_xlfn.IFNA(INDEX(VLC!A:A,MATCH(954,VLC!V:V,0)),\"\")","v":""},{"$f":"_xlfn.IFNA(INDEX(VLC!B:B,MATCH(901+ROW(A14)-1,VLC!V:V,0)),\"\")","v":""},{"$f":"_xlfn.IFNA(INDEX(VLC!C:C,MATCH(901+ROW(A14)-1,VLC!V:V,0)),\"\")","v":""},{"$f":"_xlfn.IFNA(IF(INDEX(VLC!H:H,MATCH(901+ROW(A14)-1,VLC!V:V,0))=\"x\",_xlfn.IFNA(INDEX(VLC!H:H,MATCH(901+ROW(A14)-1,VLC!V:V,0)),\"\"),\"\"),\"\")","v":""},{"$f":"_xlfn.IFNA(IF(INDEX(VLC!H:H,MATCH(941+ROW(A14)-1,VLC!V:V,0))=\"x\",_xlfn.IFNA(INDEX(VLC!H:H,MATCH(941+ROW(A14)-1,VLC!V:V,0)),\"\"),\"\"),\"\")","v":""},{"$f":"_xlfn.IFNA(IF(INDEX(VLC!I:I,MATCH(901+ROW(A14)-1,VLC!V:V,0))<>\"\",_xlfn.IFNA(INDEX(VLC!I:I,MATCH(901+ROW(A14)-1,VLC!V:V,0)),\"\"),\"\"),\"\")","v":""},{"$f":"_xlfn.IFNA(IF(INDEX(VLC!I:I,MATCH(941+ROW(A14)-1,VLC!V:V,0))<>\"\",_xlfn.IFNA(INDEX(VLC!I:I,MATCH(941+ROW(A14)-1,VLC!V:V,0)),\"\"),\"\"),\"\")","v":""},{"$f":"_xlfn.IFNA(IF(INDEX(VLC!J:J,MATCH(901+ROW(A14)-1,VLC!V:V,0))=\"x\",_xlfn.IFNA(INDEX(VLC!J:J,MATCH(901+ROW(A14)-1,VLC!V:V,0)),\"\"),\"\"),\"\")","v":""},{"$f":"_xlfn.IFNA(IF(INDEX(VLC!J:J,MATCH(941+ROW(A14)-1,VLC!V:V,0))=\"x\",_xlfn.IFNA(INDEX(VLC!J:J,MATCH(941+ROW(A14)-1,VLC!V:V,0)),\"\"),\"\"),\"\")","v":""},9014,9054]
["SK Teilnehmer 15",{"$f":"_xlfn.IFNA(INDEX(VLC!A:A,MATCH(915,VLC!V:V,0)),\"\")","v":""},{"$f":"_xlfn.IFNA(INDEX(VLC!A:A,MATCH(955,VLC!V:V,0)),\"\")","v":""},{"$f":"_xlfn.IFNA(INDEX(VLC!B:B,MATCH(901+ROW(A15)-1,VLC!V:V,0)),\"\")","v":""},{"$f":"_xlfn.IFNA(INDEX(VLC!C:C,MATCH(901+ROW(A15)-1,VLC!V:V,0)),\"\")","v":""},{"$f":"_xlfn.IFNA(IF(INDEX(VLC!H:H,MATCH(901+ROW(A15)-1,VLC!V:V,0))=\"x\",_xlfn.IFNA(INDEX(VLC!H:H,MATCH(901+ROW(A15)-1,VLC!V:V,0)),\"\"),\"\"),\"\")","v":""},{"$f":"_xlfn.IFNA(IF(INDEX(VLC!H:H,MATCH(941+ROW(A15)-1,VLC!V:V,0))=\"x\",_xlfn.IFNA(INDEX(VLC!H:H,MATCH(941+ROW(A15)-1,VLC!V:V,0)),\"\"),\"\"),\"\")","v":""},{"$f":"_xlfn.IFNA(IF(INDEX(VLC!I:I,MATCH(901+ROW(A15)-1,VLC!V:V,0))<>\"\",_xlfn.IFNA(INDEX(VLC!I:I,MATCH(901+ROW(A15)-1,VLC!V:V,0)),\"\"),\"\"),\"\")","v":""},{"$f":"_xlfn.IFNA(IF(INDEX(VLC!I:I,MATCH(941+ROW(A15)-1,VLC!V:V,0))<>\"\",_xlfn.IFNA(INDEX(VLC!I:I,MATCH(941+ROW(A15)-1,VLC!V:V,0)),\"\"),\"\"),\"\")","v":""},{"$f":"_xlfn.IFNA(IF(INDEX(VLC!J:J,MATCH(901+ROW(A15)-1,VLC!V:V,0))=\"x\",_xlfn.IFNA(INDEX(VLC!J:J,MATCH(901+ROW(A15)-1,VLC!V:V,0)),\"\"),\"\"),\"\")","v":""},{"$f":"_xlfn.IFNA(IF(INDEX(VLC!J:J,MATCH(941+ROW(A15)-1,VLC!V:V,0))=\"x\",_xlfn.IFNA(INDEX(VLC!J:J,MATCH(941+ROW(A15)-1,VLC!V:V,0)),\"\"),\"\"),\"\")","v":""},9015,9055]
["SK Teilnehmer 16",{"$f":"_xlfn.IFNA(INDEX(VLC!A:A,MATCH(916,VLC!V:V,0)),\"\")","v":""},{"$f":"_xlfn.IFNA(INDEX(VLC!A:A,MATCH(956,VLC!V:V,0)),\"\")","v":""},{"$f":"_xlfn.IFNA(INDEX(VLC!B:B,MATCH(901+ROW(A16)-1,VLC!V:V,0)),\"\")","v":""},{"$f":"_xlfn.IFNA(INDEX(VLC!C:C,MATCH(901+ROW(A16)-1,VLC!V:V,0)),\"\")","v":""},{"$f":"_xlfn.IFNA(IF(INDEX(VLC!H:H,MATCH(901+ROW(A16)-1,VLC!V:V,0))=\"x\",_xlfn.IFNA(INDEX(VLC!H:H,MATCH(901+ROW(A16)-1,VLC!V:V,0)),\"\"),\"\"),\"\")","v":""},{"$f":"_xlfn.IFNA(IF(INDEX(VLC!H:H,MATCH(941+ROW(A16)-1,VLC!V:V,0))=\"x\",_xlfn.IFNA(INDEX(VLC!H:H,MATCH(941+ROW(A16)-1,VLC!V:V,0)),\"\"),\"\"),\"\")","v":""},{"$f":"_xlfn.IFNA(IF(INDEX(VLC!I:I,MATCH(901+ROW(A16)-1,VLC!V:V,0))<>\"\",_xlfn.IFNA(INDEX(VLC!I:I,MATCH(901+ROW(A16)-1,VLC!V:V,0)),\"\"),\"\"),\"\")","v":""},{"$f":"_xlfn.IFNA(IF(INDEX(VLC!I:I,MATCH(941+ROW(A16)-1,VLC!V:V,0))<>\"\",_xlfn.IFNA(INDEX(VLC!I:I,MATCH(941+ROW(A16)-1,VLC!V:V,0)),\"\"),\"\"),\"\")","v":""},{"$f":"_xlfn.IFNA(IF(INDEX(VLC!J:J,MATCH(901+ROW(A16)-1,VLC!V:V,0))=\"x\",_xlfn.IFNA(INDEX(VLC!J:J,MATCH(901+ROW(A16)-1,VLC!V:V,0)),\"\"),\"\"),\"\")","v":""},{"$f":"_xlfn.IFNA(IF(INDEX(VLC!J:J,MATCH(941+ROW(A16)-1,VLC!V:V,0))=\"x\",_xlfn.IFNA(INDEX(VLC!J:J,MATCH(941+ROW(A16)-1,VLC!V:V,0)),\"\"),\"\"),\"\")","v":""},9016,9056]
["SK Teilnehmer 17",{"$f":"_xlfn.IFNA(INDEX(VLC!A:A,MATCH(917,VLC!V:V,0)),\"\")","v":""},{"$f":"_xlfn.IFNA(INDEX(VLC!A:A,MATCH(957,VLC!V:V,0)),\"\")","v":""},{"$f":"_xlfn.IFNA(INDEX(VLC!B:B,MATCH(901+ROW(A17)-1,VLC!V:V,0)),\"\")","v":""},{"$f":"_xlfn.IFNA(INDEX(VLC!C:C,MATCH(901+ROW(A17)-1,VLC!V:V,0)),\"\")","v":""},{"$f":"_xlfn.IFNA(IF(INDEX(VLC!H:H,MATCH(901+ROW(A17)-1,VLC!V:V,0))=\"x\",_xlfn.IFNA(INDEX(VLC!H:H,MATCH(901+ROW(A17)-1,VLC!V:V,0)),\"\"),\"\"),\"\")","v":""},{"$f":"_xlfn.IFNA(IF(INDEX(VLC!H:H,MATCH(941+ROW(A17)-1,VLC!V:V,0))=\"x\",_xlfn.IFNA(INDEX(VLC!H:H,MATCH(941+ROW(A17)-1,VLC!V:V,0)),\"\"),\"\"),\"\")","v":""},{"$f":"_xlfn.IFNA(IF(INDEX(VLC!I:I,MATCH(901+ROW(A17)-1,VLC!V:V,0))<>\"\",_xlfn.IFNA(INDEX(VLC!I:I,MATCH(901+ROW(A17)-1,VLC!V:V,0)),\"\"),\"\"),\"\")","v":""},{"$f":"_xlfn.IFNA(IF(INDEX(VLC!I:I,MATCH(941+ROW(A17)-1,VLC!V:V,0))<>\"\",_xlfn.IFNA(INDEX(VLC!I:I,MATCH(941+ROW(A17)-1,VLC!V:V,0)),\"\"),\"\"),\"\")","v":""},{"$f":"_xlfn.IFNA(IF(INDEX(VLC!J:J,MATCH(901+ROW(A17)-1,VLC!V:V,0))=\"x\",_xlfn.IFNA(INDEX(VLC!J:J,MATCH(901+ROW(A17)-1,VLC!V:V,0)),\"\"),\"\"),\"\")","v":""},{"$f":"_xlfn.IFNA(IF(INDEX(VLC!J:J,MATCH(941+ROW(A17)-1,VLC!V:V,0))=\"x\",_xlfn.IFNA(INDEX(VLC!J:J,MATCH(941+ROW(A17)-1,VLC!V:V,0)),\"\"),\"\"),\"\")","v":""},9017,9057]
["SK Teilnehmer 18",{"$f":"_xlfn.IFNA(INDEX(VLC!A:A,MATCH(918,VLC!V:V,0)),\"\")","v":""},{"$f":"_xlfn.IFNA(INDEX(VLC!A:A,MATCH(958,VLC!V:V,0)),\"\")","v":""},{"$f":"_xlfn.IFNA(INDEX(VLC!B:B,MATCH(901+ROW(A18)-1,VLC!V:V,0)),\"\")","v":""},{"$f":"_xlfn.IFNA(INDEX(VLC!C:C,MATCH(901+ROW(A18)-1,VLC!V:V,0)),\"\")","v":""},{"$f":"_xlfn.IFNA(IF(INDEX(VLC!H:H,MATCH(901+ROW(A18)-1,VLC!V:V,0))=\"x\",_xlfn.IFNA(INDEX(VLC!H:H,MATCH(901+ROW(A18)-1,VLC!V:V,0)),\"\"),\"\"),\"\")","v":""},{"$f":"_xlfn.IFNA(IF(INDEX(VLC!H:H,MATCH(941+ROW(A18)-1,VLC!V:V,0))=\"x\",_xlfn.IFNA(INDEX(VLC!H:H,MATCH(941+ROW(A18)-1,VLC!V:V,0)),\"\"),\"\"),\"\")","v":""},{"$f":"_xlfn.IFNA(IF(INDEX(VLC!I:I,MATCH(901+ROW(A18)-1,VLC!V:V,0))<>\"\",_xlfn.IFNA(INDEX(VLC!I:I,MATCH(901+ROW(A18)-1,VLC!V:V,0)),\"\"),\"\"),\"\")","v":""},{"$f":"_xlfn.IFNA(IF(INDEX(VLC!I:I,MATCH(941+ROW(A18)-1,VLC!V:V,0))<>\"\",_xlfn.IFNA(INDEX(VLC!I:I,MATCH(941+ROW(A18)-1,VLC!V:V,0)),\"\"),\"\"),\"\")","v":""},{"$f":"_xlfn.IFNA(IF(INDEX(VLC!J:J,MATCH(901+ROW(A18)-1,VLC!V:V,0))=\"x\",_xlfn.IFNA(INDEX(VLC!J:J,MATCH(901+ROW(A18)-1,VLC!V:V,0)),\"\"),\"\"),\"\")","v":""},{"$f":"_xlfn.IFNA(IF(INDEX(VLC!J:J,MATCH(941+ROW(A18)-1,VLC!V:V,0))=\"x\",_xlfn.IFNA(INDEX(VLC!J:J,MATCH(941+ROW(A18)-1,VLC!V:V,0)),\"\"),\"\"),\"\")","v":""},9018,9058]
["SK Teilnehmer 19",{"$f":"_xlfn.IFNA(INDEX(VLC!A:A,MATCH(919,VLC!V:V,0)),\"\")","v":""},{"$f":"_xlfn.IFNA(INDEX(VLC!A:A,MATCH(959,VLC!V:V,0)),\"\")","v":""},{"$f":"_xlfn.IFNA(INDEX(VLC!B:B,MATCH(901+ROW(A19)-1,VLC!V:V,0)),\"\")","v":""},{"$f":"_xlfn.IFNA(INDEX(VLC!C:C,MATCH(901+ROW(A19)-1,VLC!V:V,0)),\"\")","v":""},{"$f":"_xlfn.IFNA(IF(INDEX(VLC!H:H,MATCH(901+ROW(A19)-1,VLC!V:V,0))=\"x\",_xlfn.IFNA(INDEX(VLC!H:H,MATCH(901+ROW(A19)-1,VLC!V:V,0)),\"\"),\"\"),\"\")","v":""},{"$f":"_xlfn.IFNA(IF(INDEX(VLC!H:H,MATCH(941+ROW(A19)-1,VLC!V:V,0))=\"x\",_xlfn.IFNA(INDEX(VLC!H:H,MATCH(941+ROW(A19)-1,VLC!V:V,0)),\"\"),\"\"),\"\")","v":""},{"$f":"_xlfn.IFNA(IF(INDEX(VLC!I:I,MATCH(901+ROW(A19)-1,VLC!V:V,0))<>\"\",_xlfn.IFNA(INDEX(VLC!I:I,MATCH(901+ROW(A19)-1,VLC!V:V,0)),\"\"),\"\"),\"\")","v":""},{"$f":"_xlfn.IFNA(IF(INDEX(VLC!I:I,MATCH(941+ROW(A19)-1,VLC!V:V,0))<>\"\",_xlfn.IFNA(INDEX(VLC!I:I,MATCH(941+ROW(A19)-1,VLC!V:V,0)),\"\"),\"\"),\"\")","v":""},{"$f":"_xlfn.IFNA(IF(INDEX(VLC!J:J,MATCH(901+ROW(A19)-1,VLC!V:V,0))=\"x\",_xlfn.IFNA(INDEX(VLC!J:J,MATCH(901+ROW(A19)-1,VLC!V:V,0)),\"\"),\"\"),\"\")","v":""},{"$f":"_xlfn.IFNA(IF(INDEX(VLC!J:J,MATCH(941+ROW(A19)-1,VLC!V:V,0))=\"x\",_xlfn.IFNA(INDEX(VLC!J:J,MATCH(941+ROW(A19)-1,VLC!V:V,0)),\"\"),\"\"),\"\")","v":""},9019,9059]
["SK Teilnehmer 20",{"$f":"_xlfn.IFNA(INDEX(VLC!A:A,MATCH(920,VLC!V:V,0)),\"\")","v":""},{"$f":"_xlfn.IFNA(INDEX(VLC!A:A,MATCH(960,VLC!V:V,0)),\"\")","v":""},{"$f":"_xlfn.IFNA(INDEX(VLC!B:B,MATCH(901+ROW(A20)-1,VLC!V:V,0)),\"\")","v":""},{"$f":"_xlfn.IFNA(INDEX(VLC!C:C,MATCH(901+ROW(A20)-1,VLC!V:V,0)),\"\")","v":""},{"$f":"_xlfn.IFNA(IF(INDEX(VLC!H:H,MATCH(901+ROW(A20)-1,VLC!V:V,0))=\"x\",_xlfn.IFNA(INDEX(VLC!H:H,MATCH(901+ROW(A20)-1,VLC!V:V,0)),\"\"),\"\"),\"\")","v":""},{"$f":"_xlfn.IFNA(IF(INDEX(VLC!H:H,MATCH(941+ROW(A20)-1,VLC!V:V,0))=\"x\",_xlfn.IFNA(INDEX(VLC!H:H,MATCH(941+ROW(A20)-1,VLC!V:V,0)),\"\"),\"\"),\"\")","v":""},{"$f":"_xlfn.IFNA(IF(INDEX(VLC!I:I,MATCH(901+ROW(A20)-1,VLC!V:V,0))<>\"\",_xlfn.IFNA(INDEX(VLC!I:I,MATCH(901+ROW(A20)-1,VLC!V:V,0)),\"\"),\"\"),\"\")","v":""},{"$f":"_xlfn.IFNA(IF(INDEX(VLC!I:I,MATCH(941+ROW(A20)-1,VLC!V:V,0))<>\"\",_xlfn.IFNA(INDEX(VLC!I:I,MATCH(941+ROW(A20)-1,VLC!V:V,0)),\"\"),\"\"),\"\")","v":""},{"$f":"_xlfn.IFNA(IF(INDEX(VLC!J:J,MATCH(901+ROW(A20)-1,VLC!V:V,0))=\"x\",_xlfn.IFNA(INDEX(VLC!J:J,MATCH(901+ROW(A20)-1,VLC!V:V,0)),\"\"),\"\"),\"\")","v":""},{"$f":"_xlfn.IFNA(IF(INDEX(VLC!J:J,MATCH(941+ROW(A20)-1,VLC!V:V,0))=\"x\",_xlfn.IFNA(INDEX(VLC!J:J,MATCH(941+ROW(A20)-1,VLC!V:V,0)),\"\"),\"\"),\"\")","v":""},9020,9060]
["Gerätename:",{"$f":"$B$6","v":0},null,null,"PLC24 Stromkreis-Nummer: 10"]
["Stromkreis-Bezeichnung:"]
["Stromkreisbelegung","ID 1","ID 2","Bezeichnung","Zusatzinfo","DL",null,"GL",null,"BL"]
[null,null,null,null,null,"ID1","ID2","ID1","ID2","ID1","ID2"]
["SK Teilnehmer 1",{"$f":"_xlfn.IFNA(INDEX(VLC!A:A,MATCH(1001,VLC!V:V,0)),\"\")","v":""},{"$f":"_xlfn.IFNA(INDEX(VLC!A:A,MATCH(1041,VLC!V:V,0)),\"\")","v":""},{"$f":"_xlfn.IFNA(INDEX(VLC!B:B,MATCH(1001+ROW(A1)-1,VLC!V:V,0)),\"\")","v":""},{"$f":"_xlfn.IFNA(INDEX(VLC!C:C,MATCH(1001+ROW(A1)-1,VLC!V:V,0)),\"\")","v":""},{"$f":"_xlfn.IFNA(IF(INDEX(VLC!H:H,MATCH(1001+ROW(A1)-1,VLC!V:V,0))=\"x\",_xlfn.IFNA(INDEX(VLC!H:H,MATCH(1001+ROW(A1)-1,VLC!V:V,0)),\"\"),\"\"),\"\")","v":""},{"$f":"_xlfn.IFNA(IF(INDEX(VLC!H:H,MATCH(1041+ROW(A1)-1,VLC!V:V,0))=\"x\",_xlfn.IFNA(INDEX(VLC!H:H,MATCH(1041+ROW(A1)-1,VLC!V:V,0)),\"\"),\"\"),\"\")","v":""},{"$f":"_xlfn.IFNA(IF(INDEX(VLC!I:I,MATCH(1001+ROW(A1)-1,VLC!V:V,0))<>\"\",_xlfn.IFNA(INDEX(VLC!I:I,MATCH(1001+ROW(A1)-1,VLC!V:V,0)),\"\"),\"\"),\"\")","v":""},{"$f":"_xlfn.IFNA(IF(INDEX(VLC!I:I,MATCH(1041+ROW(A1)-1,VLC!V:V,0))<>\"\",_xlfn.IFNA(INDEX(VLC!I:I,MATCH(1041+ROW(A1)-1,VLC!V:V,0)),\"\"),\"\"),\"\")","v":""},{"$f":"_xlfn.IFNA(IF(INDEX(VLC!J:J,MATCH(1001+ROW(A1)-1,VLC!V:V,0))=\"x\",_xlfn.IFNA(INDEX(VLC!J:J,MATCH(1001+ROW(A1)-1,VLC!V:V,0)),\"\"),\"\"),\"\")","v":""},{"$f":"_xlfn.IFNA(IF(INDEX(VLC!J:J,MATCH(1041+ROW(A1)-1,VLC!V:V,0))=\"x\",_xlfn.IFNA(INDEX(VLC!J:J,MATCH(1041+ROW(A1)-1,VLC!V:V,0)),\"\"),\"\"),\"\")","v":""},{"$f":"10000+ROW(A226)-225","v":10001},{"$f":"L226+40","v":10041}]
["SK Teilnehmer 2",{"$f":"_xlfn.IFNA(INDEX(VLC!A:A,MATCH(1002,VLC!V:V,0)),\"\")","v":""},{"$f":"_xlfn.IFNA(INDEX(VLC!A:A,MATCH(1042,VLC!V:V,0)),\"\")","v":""},{"$f":"_xlfn.IFNA(INDEX(VLC!B:B,MATCH(1001+ROW(A2)-1,VLC!V:V,0)),\"\")","v":""},{"$f":"_xlfn.IFNA(INDEX(VLC!C:C,MATCH(1001+ROW(A2)-1,VLC!V:V,0)),\"\")","v":""},{"$f":"_xlfn.IFNA(IF(INDEX(VLC!H:H,MATCH(1001+ROW(A2)-1,VLC!V:V,0))=\"x\",_xlfn.IFNA(INDEX(VLC!H:H,MATCH(1001+ROW(A2)-1,VLC!V:V,0)),\"\"),\"\"),\"\")","v":""},{"$f":"_xlfn.IFNA(IF(INDEX(VLC!H:H,MATCH(1041+ROW(A2)-1,VLC!V:V,0))=\"x\",_xlfn.IFNA(INDEX(VLC!H:H,MATCH(1041+ROW(A2)-1,VLC!V:V,0)),\"\"),\"\"),\"\")","v":""},{"$f":"_xlfn.IFNA(IF(INDEX(VLC!I:I,MATCH(1001+ROW(A2)-1,VLC!V:V,0))<>\"\",_xlfn.IFNA(INDEX(VLC!I:I,MATCH(1001+ROW(A2)-1,VLC!V:V,0)),\"\"),\"\"),\"\")","v":""},{"$f":"_xlfn.IFNA(IF(INDEX(VLC!I:I,MATCH(1041+ROW(A2)-1,VLC!V:V,0))<>\"\",_xlfn.IFNA(INDEX(VLC!I:I,MATCH(1041+ROW(A2)-1,VLC!V:V,0)),\"\"),\"\"),\"\")","v":""},{"$f":"_xlfn.IFNA(IF(INDEX(VLC!J:J,MATCH(1001+ROW(A2)-1,VLC!V:V,0))=\"x\",_xlfn.IFNA(INDEX(VLC!J:J,MATCH(1001+ROW(A2)-1,VLC!V:V,0)),\"\"),\"\"),\"\")","v":""},{"$f":"_xlfn.IFNA(IF(INDEX(VLC!J:J,MATCH(1041+ROW(A2)-1,VLC!V:V,0))=\"x\",_xlfn.IFNA(INDEX(VLC!J:J,MATCH(1041+ROW(A2)-1,VLC!V:V,0)),\"\"),\"\"),\"\")","v":""},{"$f":"10000+ROW(A227)-225","v":10002},{"$f":"L227+40","v":10042}]
["SK Teilnehmer 3",{"$f":"_xlfn.IFNA(INDEX(VLC!A:A,MATCH(1003,VLC!V:V,0)),\"\")","v":""},{"$f":"_xlfn.IFNA(INDEX(VLC!A:A,MATCH(1043,VLC!V:V,0)),\"\")","v":""},{"$f":"_xlfn.IFNA(INDEX(VLC!B:B,MATCH(1001+ROW(A3)-1,VLC!V:V,0)),\"\")","v":""},{"$f":"_xlfn.IFNA(INDEX(VLC!C:C,MATCH(1001+ROW(A3)-1,VLC!V:V,0)),\"\")","v":""},{"$f":"_xlfn.IFNA(IF(INDEX(VLC!H:H,MATCH(1001+ROW(A3)-1,VLC!V:V,0))=\"x\",_xlfn.IFNA(INDEX(VLC!H:H,MATCH(1001+ROW(A3)-1,VLC!V:V,0)),\"\"),\"\"),\"\")","v":""},{"$f":"_xlfn.IFNA(IF(INDEX(VLC!H:H,MATCH(1041+ROW(A3)-1,VLC!V:V,0))=\"x\",_xlfn.IFNA(INDEX(VLC!H:H,MATCH(1041+ROW(A3)-1,VLC!V:V,0)),\"\"),\"\"),\"\")","v":""},{"$f":"_xlfn.IFNA(IF(INDEX(VLC!I:I,MATCH(1001+ROW(A3)-1,VLC!V:V,0))<>\"\",_xlfn.IFNA(INDEX(VLC!I:I,MATCH(1001+ROW(A3)-1,VLC!V:V,0)),\"\"),\"\"),\"\")","v":""},{"$f":"_xlfn.IFNA(IF(INDEX(VLC!I:I,MATCH(1041+ROW(A3)-1,VLC!V:V,0))<>\"\",_xlfn.IFNA(INDEX(VLC!I:I,MATCH(1041+ROW(A3)-1,VLC!V:V,0)),\"\"),\"\"),\"\")","v":""},{"$f":"_xlfn.IFNA(IF(INDEX(VLC!J:J,MATCH(1001+ROW(A3)-1,VLC!V:V,0))=\"x\",_xlfn.IFNA(INDEX(VLC!J:J,MATCH(1001+ROW(A3)-1,VLC!V:V,0)),\"\"),\"\"),\"\")","v":""},{"$f":"_xlfn.IFNA(IF(INDEX(VLC!J:J,MATCH(1041+ROW(A3)-1,VLC!V:V,0))=\"x\",_xlfn.IFNA(INDEX(VLC!J:J,MATCH(1041+ROW(A3)-1,VLC!V:V,0)),\"\"),\"\"),\"\")","v":""},10003,10043]
["SK Teilnehmer 4",{"$f":"_xlfn.IFNA(INDEX(VLC!A:A,MATCH(1004,VLC!V:V,0)),\"\")","v":""},{"$f":"_xlfn.IFNA(INDEX(VLC!A:A,MATCH(1044,VLC!V:V,0)),\"\")","v":""},{"$f":"_xlfn.IFNA(INDEX(VLC!B:B,MATCH(1001+ROW(A4)-1,VLC!V:V,0)),\"\")","v":""},{"$f":"_xlfn.IFNA(INDEX(VLC!C:C,MATCH(1001+ROW(A4)-1,VLC!V:V,0)),\"\")","v":""},{"$f":"_xlfn.IFNA(IF(INDEX(VLC!H:H,MATCH(1001+ROW(A4)-1,VLC!V:V,0))=\"x\",_xlfn.IFNA(INDEX(VLC!H:H,MATCH(1001+ROW(A4)-1,VLC!V:V,0)),\"\"),\"\"),\"\")","v":""},{"$f":"_xlfn.IFNA(IF(INDEX(VLC!H:H,MATCH(1041+ROW(A4)-1,VLC!V:V,0))=\"x\",_xlfn.IFNA(INDEX(VLC!H:H,MATCH(1041+ROW(A4)-1,VLC!V:V,0)),\"\"),\"\"),\"\")","v":""},{"$f":"_xlfn.IFNA(IF(INDEX(VLC!I:I,MATCH(1001+ROW(A4)-1,VLC!V:V,0))<>\"\",_xlfn.IFNA(INDEX(VLC!I:I,MATCH(1001+ROW(A4)-1,VLC!V:V,0)),\"\"),\"\"),\"\")","v":""},{"$f":"_xlfn.IFNA(IF(INDEX(VLC!I:I,MATCH(1041+ROW(A4)-1,VLC!V:V,0))<>\"\",_xlfn.IFNA(INDEX(VLC!I:I,MATCH(1041+ROW(A4)-1,VLC!V:V,0)),\"\"),\"\"),\"\")","v":""},{"$f":"_xlfn.IFNA(IF(INDEX(VLC!J:J,MATCH(1001+ROW(A4)-1,VLC!V:V,0))=\"x\",_xlfn.IFNA(INDEX(VLC!J:J,MATCH(1001+ROW(A4)-1,VLC!V:V,0)),\"\"),\"\"),\"\")","v":""},{"$f":"_xlfn.IFNA(IF(INDEX(VLC!J:J,MATCH(1041+ROW(A4)-1,VLC!V:V,0))=\"x\",_xlfn.IFNA(INDEX(VLC!J:J,MATCH(1041+ROW(A4)-1,VLC!V:V,0)),\"\"),\"\"),\"\")","v":""},10004,10044]
["SK Teilnehmer 5",{"$f":"_xlfn.IFNA(INDEX(VLC!A:A,MATCH(1005,VLC!V:V,0)),\"\")","v":""},{"$f":"_xlfn.IFNA(INDEX(VLC!A:A,MATCH(1045,VLC!V:V,0)),\"\")","v":""},{"$f":"_xlfn.IFNA(INDEX(VLC!B:B,MATCH(1001+ROW(A5)-1,VLC!V:V,0)),\"\")","v":""},{"$f":"_xlfn.IFNA(INDEX(VLC!C:C,MATCH(1001+ROW(A5)-1,VLC!V:V,0)),\"\")","v":""},{"$f":"_xlfn.IFNA(IF(INDEX(VLC!H:H,MATCH(1001+ROW(A5)-1,VLC!V:V,0))=\"x\",_xlfn.IFNA(INDEX(VLC!H:H,MATCH(1001+ROW(A5)-1,VLC!V:V,0)),\"\"),\"\"),\"\")","v":""},{"$f":"_xlfn.IFNA(IF(INDEX(VLC!H:H,MATCH(1041+ROW(A5)-1,VLC!V:V,0))=\"x\",_xlfn.IFNA(INDEX(VLC!H:H,MATCH(1041+ROW(A5)-1,VLC!V:V,0)),\"\"),\"\"),\"\")","v":""},{"$f":"_xlfn.IFNA(IF(INDEX(VLC!I:I,MATCH(1001+ROW(A5)-1,VLC!V:V,0))<>\"\",_xlfn.IFNA(INDEX(VLC!I:I,MATCH(1001+ROW(A5)-1,VLC!V:V,0)),\"\"),\"\"),\"\")","v":""},{"$f":"_xlfn.IFNA(IF(INDEX(VLC!I:I,MATCH(1041+ROW(A5)-1,VLC!V:V,0))<>\"\",_xlfn.IFNA(INDEX(VLC!I:I,MATCH(1041+ROW(A5)-1,VLC!V:V,0)),\"\"),\"\"),\"\")","v":""},{"$f":"_xlfn.IFNA(IF(INDEX(VLC!J:J,MATCH(1001+ROW(A5)-1,VLC!V:V,0))=\"x\",_xlfn.IFNA(INDEX(VLC!J:J,MATCH(1001+ROW(A5)-1,VLC!V:V,0)),\"\"),\"\"),\"\")","v":""},{"$f":"_xlfn.IFNA(IF(INDEX(VLC!J:J,MATCH(1041+ROW(A5)-1,VLC!V:V,0))=\"x\",_xlfn.IFNA(INDEX(VLC!J:J,MATCH(1041+ROW(A5)-1,VLC!V:V,0)),\"\"),\"\"),\"\")","v":""},10005,10045]
["SK Teilnehmer 6",{"$f":"_xlfn.IFNA(INDEX(VLC!A:A,MATCH(1006,VLC!V:V,0)),\"\")","v":""},{"$f":"_xlfn.IFNA(INDEX(VLC!A:A,MATCH(1046,VLC!V:V,0)),\"\")","v":""},{"$f":"_xlfn.IFNA(INDEX(VLC!B:B,MATCH(1001+ROW(A6)-1,VLC!V:V,0)),\"\")","v":""},{"$f":"_xlfn.IFNA(INDEX(VLC!C:C,MATCH(1001+ROW(A6)-1,VLC!V:V,0)),\"\")","v":""},{"$f":"_xlfn.IFNA(IF(INDEX(VLC!H:H,MATCH(1001+ROW(A6)-1,VLC!V:V,0))=\"x\",_xlfn.IFNA(INDEX(VLC!H:H,MATCH(1001+ROW(A6)-1,VLC!V:V,0)),\"\"),\"\"),\"\")","v":""},{"$f":"_xlfn.IFNA(IF(INDEX(VLC!H:H,MATCH(1041+ROW(A6)-1,VLC!V:V,0))=\"x\",_xlfn.IFNA(INDEX(VLC!H:H,MATCH(1041+ROW(A6)-1,VLC!V:V,0)),\"\"),\"\"),\"\")","v":""},{"$f":"_xlfn.IFNA(IF(INDEX(VLC!I:I,MATCH(1001+ROW(A6)-1,VLC!V:V,0))<>\"\",_xlfn.IFNA(INDEX(VLC!I:I,MATCH(1001+ROW(A6)-1,VLC!V:V,0)),\"\"),\"\"),\"\")","v":""},{"$f":"_xlfn.IFNA(IF(INDEX(VLC!I:I,MATCH(1041+ROW(A6)-1,VLC!V:V,0))<>\"\",_xlfn.IFNA(INDEX(VLC!I:I,MATCH(1041+ROW(A6)-1,VLC!V:V,0)),\"\"),\"\"),\"\")","v":""},{"$f":"_xlfn.IFNA(IF(INDEX(VLC!J:J,MATCH(1001+ROW(A6)-1,VLC!V:V,0))=\"x\",_xlfn.IFNA(INDEX(VLC!J:J,MATCH(1001+ROW(A6)-1,VLC!V:V,0)),\"\"),\"\"),\"\")","v":""},{"$f":"_xlfn.IFNA(IF(INDEX(VLC!J:J,MATCH(1041+ROW(A6)-1,VLC!V:V,0))=\"x\",_xlfn.IFNA(INDEX(VLC!J:J,MATCH(1041+ROW(A6)-1,VLC!V:V,0)),\"\"),\"\"),\"\")","v":""},10006,10046]
["SK Teilnehmer 7",{"$f":"_xlfn.IFNA(INDEX(VLC!A:A,MATCH(1007,VLC!V:V,0)),\"\")","v":""},{"$f":"_xlfn.IFNA(INDEX(VLC!A:A,MATCH(1047,VLC!V:V,0)),\"\")","v":""},{"$f":"_xlfn.IFNA(INDEX(VLC!B:B,MATCH(1001+ROW(A7)-1,VLC!V:V,0)),\"\")","v":""},{"$f":"_xlfn.IFNA(INDEX(VLC!C:C,MATCH(1001+ROW(A7)-1,VLC!V:V,0)),\"\")","v":""},{"$f":"_xlfn.IFNA(IF(INDEX(VLC!H:H,MATCH(1001+ROW(A7)-1,VLC!V:V,0))=\"x\",_xlfn.IFNA(INDEX(VLC!H:H,MATCH(1001+ROW(A7)-1,VLC!V:V,0)),\"\"),\"\"),\"\")","v":""},{"$f":"_xlfn.IFNA(IF(INDEX(VLC!H:H,MATCH(1041+ROW(A7)-1,VLC!V:V,0))=\"x\",_xlfn.IFNA(INDEX(VLC!H:H,MATCH(1041+ROW(A7)-1,VLC!V:V,0)),\"\"),\"\"),\"\")","v":""},{"$f":"_xlfn.IFNA(IF(INDEX(VLC!I:I,MATCH(1001+ROW(A7)-1,VLC!V:V,0))<>\"\",_xlfn.IFNA(INDEX(VLC!I:I,MATCH(1001+ROW(A7)-1,VLC!V:V,0)),\"\"),\"\"),\"\")","v":""},{"$f":"_xlfn.IFNA(IF(INDEX(VLC!I:I,MATCH(1041+ROW(A7)-1,VLC!V:V,0))<>\"\",_xlfn.IFNA(INDEX(VLC!I:I,MATCH(1041+ROW(A7)-1,VLC!V:V,0)),\"\"),\"\"),\"\")","v":""},{"$f":"_xlfn.IFNA(IF(INDEX(VLC!J:J,MATCH(1001+ROW(A7)-1,VLC!V:V,0))=\"x\",_xlfn.IFNA(INDEX(VLC!J:J,MATCH(1001+ROW(A7)-1,VLC!V:V,0)),\"\"),\"\"),\"\")","v":""},{"$f":"_xlfn.IFNA(IF(INDEX(VLC!J:J,MATCH(1041+ROW(A7)-1,VLC!V:V,0))=\"x\",_xlfn.IFNA(INDEX(VLC!J:J,MATCH(1041+ROW(A7)-1,VLC!V:V,0)),\"\"),\"\"),\"\")","v":""},10007,10047]
["SK Teilnehmer 8",{"$f":"_xlfn.IFNA(INDEX(VLC!A:A,MATCH(1008,VLC!V:V,0)),\"\")","v":""},{"$f":"_xlfn.IFNA(INDEX(VLC!A:A,MATCH(1048,VLC!V:V,0)),\"\")","v":""},{"$f":"_xlfn.IFNA(INDEX(VLC!B:B,MATCH(1001+ROW(A8)-1,VLC!V:V,0)),\"\")","v":""},{"$f":"_xlfn.IFNA(INDEX(VLC!C:C,MATCH(1001+ROW(A8)-1,VLC!V:V,0)),\"\")","v":""},{"$f":"_xlfn.IFNA(IF(INDEX(VLC!H:H,MATCH(1001+ROW(A8)-1,VLC!V:V,0))=\"x\",_xlfn.IFNA(INDEX(VLC!H:H,MATCH(1001+ROW(A8)-1,VLC!V:V,0)),\"\"),\"\"),\"\")","v":""},{"$f":"_xlfn.IFNA(IF(INDEX(VLC!H:H,MATCH(1041+ROW(A8)-1,VLC!V:V,0))=\"x\",_xlfn.IFNA(INDEX(VLC!H:H,MATCH(1041+ROW(A8)-1,VLC!V:V,0)),\"\"),\"\"),\"\")","v":""},{"$f":"_xlfn.IFNA(IF(INDEX(VLC!I:I,MATCH(1001+ROW(A8)-1,VLC!V:V,0))<>\"\",_xlfn.IFNA(INDEX(VLC!I:I,MATCH(1001+ROW(A8)-1,VLC!V:V,0)),\"\"),\"\"),\"\")","v":""},{"$f":"_xlfn.IFNA(IF(INDEX(VLC!I:I,MATCH(1041+ROW(A8)-1,VLC!V:V,0))<>\"\",_xlfn.IFNA(INDEX(VLC!I:I,MATCH(1041+ROW(A8)-1,VLC!V:V,0)),\"\"),\"\"),\"\")","v":""},{"$f":"_xlfn.IFNA(IF(INDEX(VLC!J:J,MATCH(1001+ROW(A8)-1,VLC!V:V,0))=\"x\",_xlfn.IFNA(INDEX(VLC!J:J,MATCH(1001+ROW(A8)-1,VLC!V:V,0)),\"\"),\"\"),\"\")","v":""},{"$f":"_xlfn.IFNA(IF(INDEX(VLC!J:J,MATCH(1041+ROW(A8)-1,VLC!V:V,0))=\"x\",_xlfn.IFNA(INDEX(VLC!J:J,MATCH(1041+ROW(A8)-1,VLC!V:V,0)),\"\"),\"\"),\"\")","v":""},10008,10048]
["SK Teilnehmer 9",{"$f":"_xlfn.IFNA(INDEX(VLC!A:A,MATCH(1009,VLC!V:V,0)),\"\")","v":""},{"$f":"_xlfn.IFNA(INDEX(VLC!A:A,MATCH(1049,VLC!V:V,0)),\"\")","v":""},{"$f":"_xlfn.IFNA(INDEX(VLC!B:B,MATCH(1001+ROW(A9)-1,VLC!V:V,0)),\"\")","v":""},{"$f":"_xlfn.IFNA(INDEX(VLC!C:C,MATCH(1001+ROW(A9)-1,VLC!V:V,0)),\"\")","v":""},{"$f":"_xlfn.IFNA(IF(INDEX(VLC!H:H,MATCH(1001+ROW(A9)-1,VLC!V:V,0))=\"x\",_xlfn.IFNA(INDEX(VLC!H:H,MATCH(1001+ROW(A9)-1,VLC!V:V,0)),\"\"),\"\"),\"\")","v":""},{"$f":"_xlfn.IFNA(IF(INDEX(VLC!H:H,MATCH(1041+ROW(A9)-1,VLC!V:V,0))=\"x\",_xlfn.IFNA(INDEX(VLC!H:H,MATCH(1041+ROW(A9)-1,VLC!V:V,0)),\"\"),\"\"),\"\")","v":""},{"$f":"_xlfn.IFNA(IF(INDEX(VLC!I:I,MATCH(1001+ROW(A9)-1,VLC!V:V,0))<>\"\",_xlfn.IFNA(INDEX(VLC!I:I,MATCH(1001+ROW(A9)-1,VLC!V:V,0)),\"\"),\"\"),\"\")","v":""},{"$f":"_xlfn.IFNA(IF(INDEX(VLC!I:I,MATCH(1041+ROW(A9)-1,VLC!V:V,0))<>\"\",_xlfn.IFNA(INDEX(VLC!I:I,MATCH(1041+ROW(A9)-1,VLC!V:V,0)),\"\"),\"\"),\"\")","v":""},{"$f":"_xlfn.IFNA(IF(INDEX(VLC!J:J,MATCH(1001+ROW(A9)-1,VLC!V:V,0))=\"x\",_xlfn.IFNA(INDEX(VLC!J:J,MATCH(1001+ROW(A9)-1,VLC!V:V,0)),\"\"),\"\"),\"\")","v":""},{"$f":"_xlfn.IFNA(IF(INDEX(VLC!J:J,MATCH(1041+ROW(A9)-1,VLC!V:V,0))=\"x\",_xlfn.IFNA(INDEX(VLC!J:J,MATCH(1041+ROW(A9)-1,VLC!V:V,0)),\"\"),\"\"),\"\")","v":""},10009,10049]
["SK Teilnehmer 10",{"$f":"_xlfn.IFNA(INDEX(VLC!A:A,MATCH(1010,VLC!V:V,0)),\"\")","v":""},{"$f":"_xlfn.IFNA(INDEX(VLC!A:A,MATCH(1050,VLC!V:V,0)),\"\")","v":""},{"$f":"_xlfn.IFNA(INDEX(VLC!B:B,MATCH(1001+ROW(A10)-1,VLC!V:V,0)),\"\")","v":""},{"$f":"_xlfn.IFNA(INDEX(VLC!C:C,MATCH(1001+ROW(A10)-1,VLC!V:V,0)),\"\")","v":""},{"$f":"_xlfn.IFNA(IF(INDEX(VLC!H:H,MATCH(1001+ROW(A10)-1,VLC!V:V,0))=\"x\",_xlfn.IFNA(INDEX(VLC!H:H,MATCH(1001+ROW(A10)-1,VLC!V:V,0)),\"\"),\"\"),\"\")","v":""},{"$f":"_xlfn.IFNA(IF(INDEX(VLC!H:H,MATCH(1041+ROW(A10)-1,VLC!V:V,0))=\"x\",_xlfn.IFNA(INDEX(VLC!H:H,MATCH(1041+ROW(A10)-1,VLC!V:V,0)),\"\"),\"\"),\"\")","v":""},{"$f":"_xlfn.IFNA(IF(INDEX(VLC!I:I,MATCH(1001+ROW(A10)-1,VLC!V:V,0))<>\"\",_xlfn.IFNA(INDEX(VLC!I:I,MATCH(1001+ROW(A10)-1,VLC!V:V,0)),\"\"),\"\"),\"\")","v":""},{"$f":"_xlfn.IFNA(IF(INDEX(VLC!I:I,MATCH(1041+ROW(A10)-1,VLC!V:V,0))<>\"\",_xlfn.IFNA(INDEX(VLC!I:I,MATCH(1041+ROW(A10)-1,VLC!V:V,0)),\"\"),\"\"),\"\")","v":""},{"$f":"_xlfn.IFNA(IF(INDEX(VLC!J:J,MATCH(1001+ROW(A10)-1,VLC!V:V,0))=\"x\",_xlfn.IFNA(INDEX(VLC!J:J,MATCH(1001+ROW(A10)-1,VLC!V:V,0)),\"\"),\"\"),\"\")","v":""},{"$f":"_xlfn.IFNA(IF(INDEX(VLC!J:J,MATCH(1041+ROW(A10)-1,VLC!V:V,0))=\"x\",_xlfn.IFNA(INDEX(VLC!J:J,MATCH(1041+ROW(A10)-1,VLC!V:V,0)),\"\"),\"\"),\"\")","v":""},10010,10050]
["SK Teilnehmer 11",{"$f":"_xlfn.IFNA(INDEX(VLC!A:A,MATCH(1011,VLC!V:V,0)),\"\")","v":""},{"$f":"_xlfn.IFNA(INDEX(VLC!A:A,MATCH(1051,VLC!V:V,0)),\"\")","v":""},{"$f":"_xlfn.IFNA(INDEX(VLC!B:B,MATCH(1001+ROW(A11)-1,VLC!V:V,0)),\"\")","v":""},{"$f":"_xlfn.IFNA(INDEX(VLC!C:C,MATCH(1001+ROW(A11)-1,VLC!V:V,0)),\"\")","v":""},{"$f":"_xlfn.IFNA(IF(INDEX(VLC!H:H,MATCH(1001+ROW(A11)-1,VLC!V:V,0))=\"x\",_xlfn.IFNA(INDEX(VLC!H:H,MATCH(1001+ROW(A11)-1,VLC!V:V,0)),\"\"),\"\"),\"\")","v":""},{"$f":"_xlfn.IFNA(IF(INDEX(VLC!H:H,MATCH(1041+ROW(A11)-1,VLC!V:V,0))=\"x\",_xlfn.IFNA(INDEX(VLC!H:H,MATCH(1041+ROW(A11)-1,VLC!V:V,0)),\"\"),\"\"),\"\")","v":""},{"$f":"_xlfn.IFNA(IF(INDEX(VLC!I:I,MATCH(1001+ROW(A11)-1,VLC!V:V,0))<>\"\",_xlfn.IFNA(INDEX(VLC!I:I,MATCH(1001+ROW(A11)-1,VLC!V:V,0)),\"\"),\"\"),\"\")","v":""},{"$f":"_xlfn.IFNA(IF(INDEX(VLC!I:I,MATCH(1041+ROW(A11)-1,VLC!V:V,0))<>\"\",_xlfn.IFNA(INDEX(VLC!I:I,MATCH(1041+ROW(A11)-1,VLC!V:V,0)),\"\"),\"\"),\"\")","v":""},{"$f":"_xlfn.IFNA(IF(INDEX(VLC!J:J,MATCH(1001+ROW(A11)-1,VLC!V:V,0))=\"x\",_xlfn.IFNA(INDEX(VLC!J:J,MATCH(1001+ROW(A11)-1,VLC!V:V,0)),\"\"),\"\"),\"\")","v":""},{"$f":"_xlfn.IFNA(IF(INDEX(VLC!J:J,MATCH(1041+ROW(A11)-1,VLC!V:V,0))=\"x\",_xlfn.IFNA(INDEX(VLC!J:J,MATCH(1041+ROW(A11)-1,VLC!V:V,0)),\"\"),\"\"),\"\")","v":""},10011,10051]
["SK Teilnehmer 12",{"$f":"_xlfn.IFNA(INDEX(VLC!A:A,MATCH(1012,VLC!V:V,0)),\"\")","v":""},{"$f":"_xlfn.IFNA(INDEX(VLC!A:A,MATCH(1052,VLC!V:V,0)),\"\")","v":""},{"$f":"_xlfn.IFNA(INDEX(VLC!B:B,MATCH(1001+ROW(A12)-1,VLC!V:V,0)),\"\")","v":""},{"$f":"_xlfn.IFNA(INDEX(VLC!C:C,MATCH(1001+ROW(A12)-1,VLC!V:V,0)),\"\")","v":""},{"$f":"_xlfn.IFNA(IF(INDEX(VLC!H:H,MATCH(1001+ROW(A12)-1,VLC!V:V,0))=\"x\",_xlfn.IFNA(INDEX(VLC!H:H,MATCH(1001+ROW(A12)-1,VLC!V:V,0)),\"\"),\"\"),\"\")","v":""},{"$f":"_xlfn.IFNA(IF(INDEX(VLC!H:H,MATCH(1041+ROW(A12)-1,VLC!V:V,0))=\"x\",_xlfn.IFNA(INDEX(VLC!H:H,MATCH(1041+ROW(A12)-1,VLC!V:V,0)),\"\"),\"\"),\"\")","v":""},{"$f":"_xlfn.IFNA(IF(INDEX(VLC!I:I,MATCH(1001+ROW(A12)-1,VLC!V:V,0))<>\"\",_xlfn.IFNA(INDEX(VLC!I:I,MATCH(1001+ROW(A12)-1,VLC!V:V,0)),\"\"),\"\"),\"\")","v":""},{"$f":"_xlfn.IFNA(IF(INDEX(VLC!I:I,MATCH(1041+ROW(A12)-1,VLC!V:V,0))<>\"\",_xlfn.IFNA(INDEX(VLC!I:I,MATCH(1041+ROW(A12)-1,VLC!V:V,0)),\"\"),\"\"),\"\")","v":""},{"$f":"_xlfn.IFNA(IF(INDEX(VLC!J:J,MATCH(1001+ROW(A12)-1,VLC!V:V,0))=\"x\",_xlfn.IFNA(INDEX(VLC!J:J,MATCH(1001+ROW(A12)-1,VLC!V:V,0)),\"\"),\"\"),\"\")","v":""},{"$f":"_xlfn.IFNA(IF(INDEX(VLC!J:J,MATCH(1041+ROW(A12)-1,VLC!V:V,0))=\"x\",_xlfn.IFNA(INDEX(VLC!J:J,MATCH(1041+ROW(A12)-1,VLC!V:V,0)),\"\"),\"\"),\"\")","v":""},10012,10052]
["SK Teilnehmer 13",{"$f":"_xlfn.IFNA(INDEX(VLC!A:A,MATCH(1013,VLC!V:V,0)),\"\")","v":""},{"$f":"_xlfn.IFNA(INDEX(VLC!A:A,MATCH(1053,VLC!V:V,0)),\"\")","v":""},{"$f":"_xlfn.IFNA(INDEX(VLC!B:B,MATCH(1001+ROW(A13)-1,VLC!V:V,0)),\"\")","v":""},{"$f":"_xlfn.IFNA(INDEX(VLC!C:C,MATCH(1001+ROW(A13)-1,VLC!V:V,0)),\"\")","v":""},{"$f":"_xlfn.IFNA(IF(INDEX(VLC!H:H,MATCH(1001+ROW(A13)-1,VLC!V:V,0))=\"x\",_xlfn.IFNA(INDEX(VLC!H:H,MATCH(1001+ROW(A13)-1,VLC!V:V,0)),\"\"),\"\"),\"\")","v":""},{"$f":"_xlfn.IFNA(IF(INDEX(VLC!H:H,MATCH(1041+ROW(A13)-1,VLC!V:V,0))=\"x\",_xlfn.IFNA(INDEX(VLC!H:H,MATCH(1041+ROW(A13)-1,VLC!V:V,0)),\"\"),\"\"),\"\")","v":""},{"$f":"_xlfn.IFNA(IF(INDEX(VLC!I:I,MATCH(1001+ROW(A13)-1,VLC!V:V,0))<>\"\",_xlfn.IFNA(INDEX(VLC!I:I,MATCH(1001+ROW(A13)-1,VLC!V:V,0)),\"\"),\"\"),\"\")","v":""},{"$f":"_xlfn.IFNA(IF(INDEX(VLC!I:I,MATCH(1041+ROW(A13)-1,VLC!V:V,0))<>\"\",_xlfn.IFNA(INDEX(VLC!I:I,MATCH(1041+ROW(A13)-1,VLC!V:V,0)),\"\"),\"\"),\"\")","v":""},{"$f":"_xlfn.IFNA(IF(INDEX(VLC!J:J,MATCH(1001+ROW(A13)-1,VLC!V:V,0))=\"x\",_xlfn.IFNA(INDEX(VLC!J:J,MATCH(1001+ROW(A13)-1,VLC!V:V,0)),\"\"),\"\"),\"\")","v":""},{"$f":"_xlfn.IFNA(IF(INDEX(VLC!J:J,MATCH(1041+ROW(A13)-1,VLC!V:V,0))=\"x\",_xlfn.IFNA(INDEX(VLC!J:J,MATCH(1041+ROW(A13)-1,VLC!V:V,0)),\"\"),\"\"),\"\")","v":""},10013,10053]
["SK Teilnehmer 14",{"$f":"_xlfn.IFNA(INDEX(VLC!A:A,MATCH(1014,VLC!V:V,0)),\"\")","v":""},{"$f":"_xlfn.IFNA(INDEX(VLC!A:A,MATCH(1054,VLC!V:V,0)),\"\")","v":""},{"$f":"_xlfn.IFNA(INDEX(VLC!B:B,MATCH(1001+ROW(A14)-1,VLC!V:V,0)),\"\")","v":""},{"$f":"_xlfn.IFNA(INDEX(VLC!C:C,MATCH(1001+ROW(A14)-1,VLC!V:V,0)),\"\")","v":""},{"$f":"_xlfn.IFNA(IF(INDEX(VLC!H:H,MATCH(1001+ROW(A14)-1,VLC!V:V,0))=\"x\",_xlfn.IFNA(INDEX(VLC!H:H,MATCH(1001+ROW(A14)-1,VLC!V:V,0)),\"\"),\"\"),\"\")","v":""},{"$f":"_xlfn.IFNA(IF(INDEX(VLC!H:H,MATCH(1041+ROW(A14)-1,VLC!V:V,0))=\"x\",_xlfn.IFNA(INDEX(VLC!H:H,MATCH(1041+ROW(A14)-1,VLC!V:V,0)),\"\"),\"\"),\"\")","v":""},{"$f":"_xlfn.IFNA(IF(INDEX(VLC!I:I,MATCH(1001+ROW(A14)-1,VLC!V:V,0))<>\"\",_xlfn.IFNA(INDEX(VLC!I:I,MATCH(1001+ROW(A14)-1,VLC!V:V,0)),\"\"),\"\"),\"\")","v":""},{"$f":"_xlfn.IFNA(IF(INDEX(VLC!I:I,MATCH(1041+ROW(A14)-1,VLC!V:V,0))<>\"\",_xlfn.IFNA(INDEX(VLC!I:I,MATCH(1041+ROW(A14)-1,VLC!V:V,0)),\"\"),\"\"),\"\")","v":""},{"$f":"_xlfn.IFNA(IF(INDEX(VLC!J:J,MATCH(1001+ROW(A14)-1,VLC!V:V,0))=\"x\",_xlfn.IFNA(INDEX(VLC!J:J,MATCH(1001+ROW(A14)-1,VLC!V:V,0)),\"\"),\"\"),\"\")","v":""},{"$f":"_xlfn.IFNA(IF(INDEX(VLC!J:J,MATCH(1041+ROW(A14)-1,VLC!V:V,0))=\"x\",_xlfn.IFNA(INDEX(VLC!J:J,MATCH(1041+ROW(A14)-1,VLC!V:V,0)),\"\"),\"\"),\"\")","v":""},10014,10054]
["SK Teilnehmer 15",{"$f":"_xlfn.IFNA(INDEX(VLC!A:A,MATCH(1015,VLC!V:V,0)),\"\")","v":""},{"$f":"_xlfn.IFNA(INDEX(VLC!A:A,MATCH(1055,VLC!V:V,0)),\"\")","v":""},{"$f":"_xlfn.IFNA(INDEX(VLC!B:B,MATCH(1001+ROW(A15)-1,VLC!V:V,0)),\"\")","v":""},{"$f":"_xlfn.IFNA(INDEX(VLC!C:C,MATCH(1001+ROW(A15)-1,VLC!V:V,0)),\"\")","v":""},{"$f":"_xlfn.IFNA(IF(INDEX(VLC!H:H,MATCH(1001+ROW(A15)-1,VLC!V:V,0))=\"x\",_xlfn.IFNA(INDEX(VLC!H:H,MATCH(1001+ROW(A15)-1,VLC!V:V,0)),\"\"),\"\"),\"\")","v":""},{"$f":"_xlfn.IFNA(IF(INDEX(VLC!H:H,MATCH(1041+ROW(A15)-1,VLC!V:V,0))=\"x\",_xlfn.IFNA(INDEX(VLC!H:H,MATCH(1041+ROW(A15)-1,VLC!V:V,0)),\"\"),\"\"),\"\")","v":""},{"$f":"_xlfn.IFNA(IF(INDEX(VLC!I:I,MATCH(1001+ROW(A15)-1,VLC!V:V,0))<>\"\",_xlfn.IFNA(INDEX(VLC!I:I,MATCH(1001+ROW(A15)-1,VLC!V:V,0)),\"\"),\"\"),\"\")","v":""},{"$f":"_xlfn.IFNA(IF(INDEX(VLC!I:I,MATCH(1041+ROW(A15)-1,VLC!V:V,0))<>\"\",_xlfn.IFNA(INDEX(VLC!I:I,MATCH(1041+ROW(A15)-1,VLC!V:V,0)),\"\"),\"\"),\"\")","v":""},{"$f":"_xlfn.IFNA(IF(INDEX(VLC!J:J,MATCH(1001+ROW(A15)-1,VLC!V:V,0))=\"x\",_xlfn.IFNA(INDEX(VLC!J:J,MATCH(1001+ROW(A15)-1,VLC!V:V,0)),\"\"),\"\"),\"\")","v":""},{"$f":"_xlfn.IFNA(IF(INDEX(VLC!J:J,MATCH(1041+ROW(A15)-1,VLC!V:V,0))=\"x\",_xlfn.IFNA(INDEX(VLC!J:J,MATCH(1041+ROW(A15)-1,VLC!V:V,0)),\"\"),\"\"),\"\")","v":""},10015,10055]
["SK Teilnehmer 16",{"$f":"_xlfn.IFNA(INDEX(VLC!A:A,MATCH(1016,VLC!V:V,0)),\"\")","v":""},{"$f":"_xlfn.IFNA(INDEX(VLC!A:A,MATCH(1056,VLC!V:V,0)),\"\")","v":""},{"$f":"_xlfn.IFNA(INDEX(VLC!B:B,MATCH(1001+ROW(A16)-1,VLC!V:V,0)),\"\")","v":""},{"$f":"_xlfn.IFNA(INDEX(VLC!C:C,MATCH(1001+ROW(A16)-1,VLC!V:V,0)),\"\")","v":""},{"$f":"_xlfn.IFNA(IF(INDEX(VLC!H:H,MATCH(1001+ROW(A16)-1,VLC!V:V,0))=\"x\",_xlfn.IFNA(INDEX(VLC!H:H,MATCH(1001+ROW(A16)-1,VLC!V:V,0)),\"\"),\"\"),\"\")","v":""},{"$f":"_xlfn.IFNA(IF(INDEX(VLC!H:H,MATCH(1041+ROW(A16)-1,VLC!V:V,0))=\"x\",_xlfn.IFNA(INDEX(VLC!H:H,MATCH(1041+ROW(A16)-1,VLC!V:V,0)),\"\"),\"\"),\"\")","v":""},{"$f":"_xlfn.IFNA(IF(INDEX(VLC!I:I,MATCH(1001+ROW(A16)-1,VLC!V:V,0))<>\"\",_xlfn.IFNA(INDEX(VLC!I:I,MATCH(1001+ROW(A16)-1,VLC!V:V,0)),\"\"),\"\"),\"\")","v":""},{"$f":"_xlfn.IFNA(IF(INDEX(VLC!I:I,MATCH(1041+ROW(A16)-1,VLC!V:V,0))<>\"\",_xlfn.IFNA(INDEX(VLC!I:I,MATCH(1041+ROW(A16)-1,VLC!V:V,0)),\"\"),\"\"),\"\")","v":""},{"$f":"_xlfn.IFNA(IF(INDEX(VLC!J:J,MATCH(1001+ROW(A16)-1,VLC!V:V,0))=\"x\",_xlfn.IFNA(INDEX(VLC!J:J,MATCH(1001+ROW(A16)-1,VLC!V:V,0)),\"\"),\"\"),\"\")","v":""},{"$f":"_xlfn.IFNA(IF(INDEX(VLC!J:J,MATCH(1041+ROW(A16)-1,VLC!V:V,0))=\"x\",_xlfn.IFNA(INDEX(VLC!J:J,MATCH(1041+ROW(A16)-1,VLC!V:V,0)),\"\"),\"\"),\"\")","v":""},10016,10056]
["SK Teilnehmer 17",{"$f":"_xlfn.IFNA(INDEX(VLC!A:A,MATCH(1017,VLC!V:V,0)),\"\")","v":""},{"$f":"_xlfn.IFNA(INDEX(VLC!A:A,MATCH(1057,VLC!V:V,0)),\"\")","v":""},{"$f":"_xlfn.IFNA(INDEX(VLC!B:B,MATCH(1001+ROW(A17)-1,VLC!V:V,0)),\"\")","v":""},{"$f":"_xlfn.IFNA(INDEX(VLC!C:C,MATCH(1001+ROW(A17)-1,VLC!V:V,0)),\"\")","v":""},{"$f":"_xlfn.IFNA(IF(INDEX(VLC!H:H,MATCH(1001+ROW(A17)-1,VLC!V:V,0))=\"x\",_xlfn.IFNA(INDEX(VLC!H:H,MATCH(1001+ROW(A17)-1,VLC!V:V,0)),\"\"),\"\"),\"\")","v":""},{"$f":"_xlfn.IFNA(IF(INDEX(VLC!H:H,MATCH(1041+ROW(A17)-1,VLC!V:V,0))=\"x\",_xlfn.IFNA(INDEX(VLC!H:H,MATCH(1041+ROW(A17)-1,VLC!V:V,0)),\"\"),\"\"),\"\")","v":""},{"$f":"_xlfn.IFNA(IF(INDEX(VLC!I:I,MATCH(1001+ROW(A17)-1,VLC!V:V,0))<>\"\",_xlfn.IFNA(INDEX(VLC!I:I,MATCH(1001+ROW(A17)-1,VLC!V:V,0)),\"\"),\"\"),\"\")","v":""},{"$f":"_xlfn.IFNA(IF(INDEX(VLC!I:I,MATCH(1041+ROW(A17)-1,VLC!V:V,0))<>\"\",_xlfn.IFNA(INDEX(VLC!I:I,MATCH(1041+ROW(A17)-1,VLC!V:V,0)),\"\"),\"\"),\"\")","v":""},{"$f":"_xlfn.IFNA(IF(INDEX(VLC!J:J,MATCH(1001+ROW(A17)-1,VLC!V:V,0))=\"x\",_xlfn.IFNA(INDEX(VLC!J:J,MATCH(1001+ROW(A17)-1,VLC!V:V,0)),\"\"),\"\"),\"\")","v":""},{"$f":"_xlfn.IFNA(IF(INDEX(VLC!J:J,MATCH(1041+ROW(A17)-1,VLC!V:V,0))=\"x\",_xlfn.IFNA(INDEX(VLC!J:J,MATCH(1041+ROW(A17)-1,VLC!V:V,0)),\"\"),\"\"),\"\")","v":""},10017,10057]
["SK Teilnehmer 18",{"$f":"_xlfn.IFNA(INDEX(VLC!A:A,MATCH(1018,VLC!V:V,0)),\"\")","v":""},{"$f":"_xlfn.IFNA(INDEX(VLC!A:A,MATCH(1058,VLC!V:V,0)),\"\")","v":""},{"$f":"_xlfn.IFNA(INDEX(VLC!B:B,MATCH(1001+ROW(A18)-1,VLC!V:V,0)),\"\")","v":""},{"$f":"_xlfn.IFNA(INDEX(VLC!C:C,MATCH(1001+ROW(A18)-1,VLC!V:V,0)),\"\")","v":""},{"$f":"_xlfn.IFNA(IF(INDEX(VLC!H:H,MATCH(1001+ROW(A18)-1,VLC!V:V,0))=\"x\",_xlfn.IFNA(INDEX(VLC!H:H,MATCH(1001+ROW(A18)-1,VLC!V:V,0)),\"\"),\"\"),\"\")","v":""},{"$f":"_xlfn.IFNA(IF(INDEX(VLC!H:H,MATCH(1041+ROW(A18)-1,VLC!V:V,0))=\"x\",_xlfn.IFNA(INDEX(VLC!H:H,MATCH(1041+ROW(A18)-1,VLC!V:V,0)),\"\"),\"\"),\"\")","v":""},{"$f":"_xlfn.IFNA(IF(INDEX(VLC!I:I,MATCH(1001+ROW(A18)-1,VLC!V:V,0))<>\"\",_xlfn.IFNA(INDEX(VLC!I:I,MATCH(1001+ROW(A18)-1,VLC!V:V,0)),\"\"),\"\"),\"\")","v":""},{"$f":"_xlfn.IFNA(IF(INDEX(VLC!I:I,MATCH(1041+ROW(A18)-1,VLC!V:V,0))<>\"\",_xlfn.IFNA(INDEX(VLC!I:I,MATCH(1041+ROW(A18)-1,VLC!V:V,0)),\"\"),\"\"),\"\")","v":""},{"$f":"_xlfn.IFNA(IF(INDEX(VLC!J:J,MATCH(1001+ROW(A18)-1,VLC!V:V,0))=\"x\",_xlfn.IFNA(INDEX(VLC!J:J,MATCH(1001+ROW(A18)-1,VLC!V:V,0)),\"\"),\"\"),\"\")","v":""},{"$f":"_xlfn.IFNA(IF(INDEX(VLC!J:J,MATCH(1041+ROW(A18)-1,VLC!V:V,0))=\"x\",_xlfn.IFNA(INDEX(VLC!J:J,MATCH(1041+ROW(A18)-1,VLC!V:V,0)),\"\"),\"\"),\"\")","v":""},10018,10058]
["SK Teilnehmer 19",{"$f":"_xlfn.IFNA(INDEX(VLC!A:A,MATCH(1019,VLC!V:V,0)),\"\")","v":""},{"$f":"_xlfn.IFNA(INDEX(VLC!A:A,MATCH(1059,VLC!V:V,0)),\"\")","v":""},{"$f":"_xlfn.IFNA(INDEX(VLC!B:B,MATCH(1001+ROW(A19)-1,VLC!V:V,0)),\"\")","v":""},{"$f":"_xlfn.IFNA(INDEX(VLC!C:C,MATCH(1001+ROW(A19)-1,VLC!V:V,0)),\"\")","v":""},{"$f":"_xlfn.IFNA(IF(INDEX(VLC!H:H,MATCH(1001+ROW(A19)-1,VLC!V:V,0))=\"x\",_xlfn.IFNA(INDEX(VLC!H:H,MATCH(1001+ROW(A19)-1,VLC!V:V,0)),\"\"),\"\"),\"\")","v":""},{"$f":"_xlfn.IFNA(IF(INDEX(VLC!H:H,MATCH(1041+ROW(A19)-1,VLC!V:V,0))=\"x\",_xlfn.IFNA(INDEX(VLC!H:H,MATCH(1041+ROW(A19)-1,VLC!V:V,0)),\"\"),\"\"),\"\")","v":""},{"$f":"_xlfn.IFNA(IF(INDEX(VLC!I:I,MATCH(1001+ROW(A19)-1,VLC!V:V,0))<>\"\",_xlfn.IFNA(INDEX(VLC!I:I,MATCH(1001+ROW(A19)-1,VLC!V:V,0)),\"\"),\"\"),\"\")","v":""},{"$f":"_xlfn.IFNA(IF(INDEX(VLC!I:I,MATCH(1041+ROW(A19)-1,VLC!V:V,0))<>\"\",_xlfn.IFNA(INDEX(VLC!I:I,MATCH(1041+ROW(A19)-1,VLC!V:V,0)),\"\"),\"\"),\"\")","v":""},{"$f":"_xlfn.IFNA(IF(INDEX(VLC!J:J,MATCH(1001+ROW(A19)-1,VLC!V:V,0))=\"x\",_xlfn.IFNA(INDEX(VLC!J:J,MATCH(1001+ROW(A19)-1,VLC!V:V,0)),\"\"),\"\"),\"\")","v":""},{"$f":"_xlfn.IFNA(IF(INDEX(VLC!J:J,MATCH(1041+ROW(A19)-1,VLC!V:V,0))=\"x\",_xlfn.IFNA(INDEX(VLC!J:J,MATCH(1041+ROW(A19)-1,VLC!V:V,0)),\"\"),\"\"),\"\")","v":""},10019,10059]
["SK Teilnehmer 20",{"$f":"_xlfn.IFNA(INDEX(VLC!A:A,MATCH(1020,VLC!V:V,0)),\"\")","v":""},{"$f":"_xlfn.IFNA(INDEX(VLC!A:A,MATCH(1060,VLC!V:V,0)),\"\")","v":""},{"$f":"_xlfn.IFNA(INDEX(VLC!B:B,MATCH(1001+ROW(A20)-1,VLC!V:V,0)),\"\")","v":""},{"$f":"_xlfn.IFNA(INDEX(VLC!C:C,MATCH(1001+ROW(A20)-1,VLC!V:V,0)),\"\")","v":""},{"$f":"_xlfn.IFNA(IF(INDEX(VLC!H:H,MATCH(1001+ROW(A20)-1,VLC!V:V,0))=\"x\",_xlfn.IFNA(INDEX(VLC!H:H,MATCH(1001+ROW(A20)-1,VLC!V:V,0)),\"\"),\"\"),\"\")","v":""},{"$f":"_xlfn.IFNA(IF(INDEX(VLC!H:H,MATCH(1041+ROW(A20)-1,VLC!V:V,0))=\"x\",_xlfn.IFNA(INDEX(VLC!H:H,MATCH(1041+ROW(A20)-1,VLC!V:V,0)),\"\"),\"\"),\"\")","v":""},{"$f":"_xlfn.IFNA(IF(INDEX(VLC!I:I,MATCH(1001+ROW(A20)-1,VLC!V:V,0))<>\"\",_xlfn.IFNA(INDEX(VLC!I:I,MATCH(1001+ROW(A20)-1,VLC!V:V,0)),\"\"),\"\"),\"\")","v":""},{"$f":"_xlfn.IFNA(IF(INDEX(VLC!I:I,MATCH(1041+ROW(A20)-1,VLC!V:V,0))<>\"\",_xlfn.IFNA(INDEX(VLC!I:I,MATCH(1041+ROW(A20)-1,VLC!V:V,0)),\"\"),\"\"),\"\")","v":""},{"$f":"_xlfn.IFNA(IF(INDEX(VLC!J:J,MATCH(1001+ROW(A20)-1,VLC!V:V,0))=\"x\",_xlfn.IFNA(INDEX(VLC!J:J,MATCH(1001+ROW(A20)-1,VLC!V:V,0)),\"\"),\"\"),\"\")","v":""},{"$f":"_xlfn.IFNA(IF(INDEX(VLC!J:J,MATCH(1041+ROW(A20)-1,VLC!V:V,0))=\"x\",_xlfn.IFNA(INDEX(VLC!J:J,MATCH(1041+ROW(A20)-1,VLC!V:V,0)),\"\"),\"\"),\"\")","v":""},10020,10060]
["Gerätename:",{"$f":"$B$6","v":0},null,null,"PLC24 Stromkreis-Nummer: 11"]
["Stromkreis-Bezeichnung:"]
["Stromkreisbelegung","ID 1","ID 2","Bezeichnung","Zusatzinfo","DL",null,"GL",null,"BL"]
[null,null,null,null,null,"ID1","ID2","ID1","ID2","ID1","ID2"]
["SK Teilnehmer 1",{"$f":"_xlfn.IFNA(INDEX(VLC!A:A,MATCH(1101,VLC!V:V,0)),\"\")","v":""},{"$f":"_xlfn.IFNA(INDEX(VLC!A:A,MATCH(1141,VLC!V:V,0)),\"\")","v":""},{"$f":"_xlfn.IFNA(INDEX(VLC!B:B,MATCH(1101+ROW(A1)-1,VLC!V:V,0)),\"\")","v":""},{"$f":"_xlfn.IFNA(INDEX(VLC!C:C,MATCH(1101+ROW(A1)-1,VLC!V:V,0)),\"\")","v":""},{"$f":"_xlfn.IFNA(IF(INDEX(VLC!H:H,MATCH(1101+ROW(A1)-1,VLC!V:V,0))=\"x\",_xlfn.IFNA(INDEX(VLC!H:H,MATCH(1101+ROW(A1)-1,VLC!V:V,0)),\"\"),\"\"),\"\")","v":""},{"$f":"_xlfn.IFNA(IF(INDEX(VLC!H:H,MATCH(1141+ROW(A1)-1,VLC!V:V,0))=\"x\",_xlfn.IFNA(INDEX(VLC!H:H,MATCH(1141+ROW(A1)-1,VLC!V:V,0)),\"\"),\"\"),\"\")","v":""},{"$f":"_xlfn.IFNA(IF(INDEX(VLC!I:I,MATCH(1101+ROW(A1)-1,VLC!V:V,0))<>\"\",_xlfn.IFNA(INDEX(VLC!I:I,MATCH(1101+ROW(A1)-1,VLC!V:V,0)),\"\"),\"\"),\"\")","v":""},{"$f":"_xlfn.IFNA(IF(INDEX(VLC!I:I,MATCH(1141+ROW(A1)-1,VLC!V:V,0))<>\"\",_xlfn.IFNA(INDEX(VLC!I:I,MATCH(1141+ROW(A1)-1,VLC!V:V,0)),\"\"),\"\"),\"\")","v":""},{"$f":"_xlfn.IFNA(IF(INDEX(VLC!J:J,MATCH(1101+ROW(A1)-1,VLC!V:V,0))=\"x\",_xlfn.IFNA(INDEX(VLC!J:J,MATCH(1101+ROW(A1)-1,VLC!V:V,0)),\"\"),\"\"),\"\")","v":""},{"$f":"_xlfn.IFNA(IF(INDEX(VLC!J:J,MATCH(1141+ROW(A1)-1,VLC!V:V,0))=\"x\",_xlfn.IFNA(INDEX(VLC!J:J,MATCH(1141+ROW(A1)-1,VLC!V:V,0)),\"\"),\"\"),\"\")","v":""},{"$f":"11000+ROW(A250)-249","v":11001},{"$f":"L250+40","v":11041}]
["SK Teilnehmer 2",{"$f":"_xlfn.IFNA(INDEX(VLC!A:A,MATCH(1102,VLC!V:V,0)),\"\")","v":""},{"$f":"_xlfn.IFNA(INDEX(VLC!A:A,MATCH(1142,VLC!V:V,0)),\"\")","v":""},{"$f":"_xlfn.IFNA(INDEX(VLC!B:B,MATCH(1101+ROW(A2)-1,VLC!V:V,0)),\"\")","v":""},{"$f":"_xlfn.IFNA(INDEX(VLC!C:C,MATCH(1101+ROW(A2)-1,VLC!V:V,0)),\"\")","v":""},{"$f":"_xlfn.IFNA(IF(INDEX(VLC!H:H,MATCH(1101+ROW(A2)-1,VLC!V:V,0))=\"x\",_xlfn.IFNA(INDEX(VLC!H:H,MATCH(1101+ROW(A2)-1,VLC!V:V,0)),\"\"),\"\"),\"\")","v":""},{"$f":"_xlfn.IFNA(IF(INDEX(VLC!H:H,MATCH(1141+ROW(A2)-1,VLC!V:V,0))=\"x\",_xlfn.IFNA(INDEX(VLC!H:H,MATCH(1141+ROW(A2)-1,VLC!V:V,0)),\"\"),\"\"),\"\")","v":""},{"$f":"_xlfn.IFNA(IF(INDEX(VLC!I:I,MATCH(1101+ROW(A2)-1,VLC!V:V,0))<>\"\",_xlfn.IFNA(INDEX(VLC!I:I,MATCH(1101+ROW(A2)-1,VLC!V:V,0)),\"\"),\"\"),\"\")","v":""},{"$f":"_xlfn.IFNA(IF(INDEX(VLC!I:I,MATCH(1141+ROW(A2)-1,VLC!V:V,0))<>\"\",_xlfn.IFNA(INDEX(VLC!I:I,MATCH(1141+ROW(A2)-1,VLC!V:V,0)),\"\"),\"\"),\"\")","v":""},{"$f":"_xlfn.IFNA(IF(INDEX(VLC!J:J,MATCH(1101+ROW(A2)-1,VLC!V:V,0))=\"x\",_xlfn.IFNA(INDEX(VLC!J:J,MATCH(1101+ROW(A2)-1,VLC!V:V,0)),\"\"),\"\"),\"\")","v":""},{"$f":"_xlfn.IFNA(IF(INDEX(VLC!J:J,MATCH(1141+ROW(A2)-1,VLC!V:V,0))=\"x\",_xlfn.IFNA(INDEX(VLC!J:J,MATCH(1141+ROW(A2)-1,VLC!V:V,0)),\"\"),\"\"),\"\")","v":""},{"$f":"11000+ROW(A251)-249","v":11002},{"$f":"L251+40","v":11042}]
["SK Teilnehmer 3",{"$f":"_xlfn.IFNA(INDEX(VLC!A:A,MATCH(1103,VLC!V:V,0)),\"\")","v":""},{"$f":"_xlfn.IFNA(INDEX(VLC!A:A,MATCH(1143,VLC!V:V,0)),\"\")","v":""},{"$f":"_xlfn.IFNA(INDEX(VLC!B:B,MATCH(1101+ROW(A3)-1,VLC!V:V,0)),\"\")","v":""},{"$f":"_xlfn.IFNA(INDEX(VLC!C:C,MATCH(1101+ROW(A3)-1,VLC!V:V,0)),\"\")","v":""},{"$f":"_xlfn.IFNA(IF(INDEX(VLC!H:H,MATCH(1101+ROW(A3)-1,VLC!V:V,0))=\"x\",_xlfn.IFNA(INDEX(VLC!H:H,MATCH(1101+ROW(A3)-1,VLC!V:V,0)),\"\"),\"\"),\"\")","v":""},{"$f":"_xlfn.IFNA(IF(INDEX(VLC!H:H,MATCH(1141+ROW(A3)-1,VLC!V:V,0))=\"x\",_xlfn.IFNA(INDEX(VLC!H:H,MATCH(1141+ROW(A3)-1,VLC!V:V,0)),\"\"),\"\"),\"\")","v":""},{"$f":"_xlfn.IFNA(IF(INDEX(VLC!I:I,MATCH(1101+ROW(A3)-1,VLC!V:V,0))<>\"\",_xlfn.IFNA(INDEX(VLC!I:I,MATCH(1101+ROW(A3)-1,VLC!V:V,0)),\"\"),\"\"),\"\")","v":""},{"$f":"_xlfn.IFNA(IF(INDEX(VLC!I:I,MATCH(1141+ROW(A3)-1,VLC!V:V,0))<>\"\",_xlfn.IFNA(INDEX(VLC!I:I,MATCH(1141+ROW(A3)-1,VLC!V:V,0)),\"\"),\"\"),\"\")","v":""},{"$f":"_xlfn.IFNA(IF(INDEX(VLC!J:J,MATCH(1101+ROW(A3)-1,VLC!V:V,0))=\"x\",_xlfn.IFNA(INDEX(VLC!J:J,MATCH(1101+ROW(A3)-1,VLC!V:V,0)),\"\"),\"\"),\"\")","v":""},{"$f":"_xlfn.IFNA(IF(INDEX(VLC!J:J,MATCH(1141+ROW(A3)-1,VLC!V:V,0))=\"x\",_xlfn.IFNA(INDEX(VLC!J:J,MATCH(1141+ROW(A3)-1,VLC!V:V,0)),\"\"),\"\"),\"\")","v":""},11003,11043]
["SK Teilnehmer 4",{"$f":"_xlfn.IFNA(INDEX(VLC!A:A,MATCH(1104,VLC!V:V,0)),\"\")","v":""},{"$f":"_xlfn.IFNA(INDEX(VLC!A:A,MATCH(1144,VLC!V:V,0)),\"\")","v":""},{"$f":"_xlfn.IFNA(INDEX(VLC!B:B,MATCH(1101+ROW(A4)-1,VLC!V:V,0)),\"\")","v":""},{"$f":"_xlfn.IFNA(INDEX(VLC!C:C,MATCH(1101+ROW(A4)-1,VLC!V:V,0)),\"\")","v":""},{"$f":"_xlfn.IFNA(IF(INDEX(VLC!H:H,MATCH(1101+ROW(A4)-1,VLC!V:V,0))=\"x\",_xlfn.IFNA(INDEX(VLC!H:H,MATCH(1101+ROW(A4)-1,VLC!V:V,0)),\"\"),\"\"),\"\")","v":""},{"$f":"_xlfn.IFNA(IF(INDEX(VLC!H:H,MATCH(1141+ROW(A4)-1,VLC!V:V,0))=\"x\",_xlfn.IFNA(INDEX(VLC!H:H,MATCH(1141+ROW(A4)-1,VLC!V:V,0)),\"\"),\"\"),\"\")","v":""},{"$f":"_xlfn.IFNA(IF(INDEX(VLC!I:I,MATCH(1101+ROW(A4)-1,VLC!V:V,0))<>\"\",_xlfn.IFNA(INDEX(VLC!I:I,MATCH(1101+ROW(A4)-1,VLC!V:V,0)),\"\"),\"\"),\"\")","v":""},{"$f":"_xlfn.IFNA(IF(INDEX(VLC!I:I,MATCH(1141+ROW(A4)-1,VLC!V:V,0))<>\"\",_xlfn.IFNA(INDEX(VLC!I:I,MATCH(1141+ROW(A4)-1,VLC!V:V,0)),\"\"),\"\"),\"\")","v":""},{"$f":"_xlfn.IFNA(IF(INDEX(VLC!J:J,MATCH(1101+ROW(A4)-1,VLC!V:V,0))=\"x\",_xlfn.IFNA(INDEX(VLC!J:J,MATCH(1101+ROW(A4)-1,VLC!V:V,0)),\"\"),\"\"),\"\")","v":""},{"$f":"_xlfn.IFNA(IF(INDEX(VLC!J:J,MATCH(1141+ROW(A4)-1,VLC!V:V,0))=\"x\",_xlfn.IFNA(INDEX(VLC!J:J,MATCH(1141+ROW(A4)-1,VLC!V:V,0)),\"\"),\"\"),\"\")","v":""},11004,11044]
["SK Teilnehmer 5",{"$f":"_xlfn.IFNA(INDEX(VLC!A:A,MATCH(1105,VLC!V:V,0)),\"\")","v":""},{"$f":"_xlfn.IFNA(INDEX(VLC!A:A,MATCH(1145,VLC!V:V,0)),\"\")","v":""},{"$f":"_xlfn.IFNA(INDEX(VLC!B:B,MATCH(1101+ROW(A5)-1,VLC!V:V,0)),\"\")","v":""},{"$f":"_xlfn.IFNA(INDEX(VLC!C:C,MATCH(1101+ROW(A5)-1,VLC!V:V,0)),\"\")","v":""},{"$f":"_xlfn.IFNA(IF(INDEX(VLC!H:H,MATCH(1101+ROW(A5)-1,VLC!V:V,0))=\"x\",_xlfn.IFNA(INDEX(VLC!H:H,MATCH(1101+ROW(A5)-1,VLC!V:V,0)),\"\"),\"\"),\"\")","v":""},{"$f":"_xlfn.IFNA(IF(INDEX(VLC!H:H,MATCH(1141+ROW(A5)-1,VLC!V:V,0))=\"x\",_xlfn.IFNA(INDEX(VLC!H:H,MATCH(1141+ROW(A5)-1,VLC!V:V,0)),\"\"),\"\"),\"\")","v":""},{"$f":"_xlfn.IFNA(IF(INDEX(VLC!I:I,MATCH(1101+ROW(A5)-1,VLC!V:V,0))<>\"\",_xlfn.IFNA(INDEX(VLC!I:I,MATCH(1101+ROW(A5)-1,VLC!V:V,0)),\"\"),\"\"),\"\")","v":""},{"$f":"_xlfn.IFNA(IF(INDEX(VLC!I:I,MATCH(1141+ROW(A5)-1,VLC!V:V,0))<>\"\",_xlfn.IFNA(INDEX(VLC!I:I,MATCH(1141+ROW(A5)-1,VLC!V:V,0)),\"\"),\"\"),\"\")","v":""},{"$f":"_xlfn.IFNA(IF(INDEX(VLC!J:J,MATCH(1101+ROW(A5)-1,VLC!V:V,0))=\"x\",_xlfn.IFNA(INDEX(VLC!J:J,MATCH(1101+ROW(A5)-1,VLC!V:V,0)),\"\"),\"\"),\"\")","v":""},{"$f":"_xlfn.IFNA(IF(INDEX(VLC!J:J,MATCH(1141+ROW(A5)-1,VLC!V:V,0))=\"x\",_xlfn.IFNA(INDEX(VLC!J:J,MATCH(1141+ROW(A5)-1,VLC!V:V,0)),\"\"),\"\"),\"\")","v":""},11005,11045]
["SK Teilnehmer 6",{"$f":"_xlfn.IFNA(INDEX(VLC!A:A,MATCH(1106,VLC!V:V,0)),\"\")","v":""},{"$f":"_xlfn.IFNA(INDEX(VLC!A:A,MATCH(1146,VLC!V:V,0)),\"\")","v":""},{"$f":"_xlfn.IFNA(INDEX(VLC!B:B,MATCH(1101+ROW(A6)-1,VLC!V:V,0)),\"\")","v":""},{"$f":"_xlfn.IFNA(INDEX(VLC!C:C,MATCH(1101+ROW(A6)-1,VLC!V:V,0)),\"\")","v":""},{"$f":"_xlfn.IFNA(IF(INDEX(VLC!H:H,MATCH(1101+ROW(A6)-1,VLC!V:V,0))=\"x\",_xlfn.IFNA(INDEX(VLC!H:H,MATCH(1101+ROW(A6)-1,VLC!V:V,0)),\"\"),\"\"),\"\")","v":""},{"$f":"_xlfn.IFNA(IF(INDEX(VLC!H:H,MATCH(1141+ROW(A6)-1,VLC!V:V,0))=\"x\",_xlfn.IFNA(INDEX(VLC!H:H,MATCH(1141+ROW(A6)-1,VLC!V:V,0)),\"\"),\"\"),\"\")","v":""},{"$f":"_xlfn.IFNA(IF(INDEX(VLC!I:I,MATCH(1101+ROW(A6)-1,VLC!V:V,0))<>\"\",_xlfn.IFNA(INDEX(VLC!I:I,MATCH(1101+ROW(A6)-1,VLC!V:V,0)),\"\"),\"\"),\"\")","v":""},{"$f":"_xlfn.IFNA(IF(INDEX(VLC!I:I,MATCH(1141+ROW(A6)-1,VLC!V:V,0))<>\"\",_xlfn.IFNA(INDEX(VLC!I:I,MATCH(1141+ROW(A6)-1,VLC!V:V,0)),\"\"),\"\"),\"\")","v":""},{"$f":"_xlfn.IFNA(IF(INDEX(VLC!J:J,MATCH(1101+ROW(A6)-1,VLC!V:V,0))=\"x\",_xlfn.IFNA(INDEX(VLC!J:J,MATCH(1101+ROW(A6)-1,VLC!V:V,0)),\"\"),\"\"),\"\")","v":""},{"$f":"_xlfn.IFNA(IF(INDEX(VLC!J:J,MATCH(1141+ROW(A6)-1,VLC!V:V,0))=\"x\",_xlfn.IFNA(INDEX(VLC!J:J,MATCH(1141+ROW(A6)-1,VLC!V:V,0)),\"\"),\"\"),\"\")","v":""},11006,11046]
["SK Teilnehmer 7",{"$f":"_xlfn.IFNA(INDEX(VLC!A:A,MATCH(1107,VLC!V:V,0)),\"\")","v":""},{"$f":"_xlfn.IFNA(INDEX(VLC!A:A,MATCH(1147,VLC!V:V,0)),\"\")","v":""},{"$f":"_xlfn.IFNA(INDEX(VLC!B:B,MATCH(1101+ROW(A7)-1,VLC!V:V,0)),\"\")","v":""},{"$f":"_xlfn.IFNA(INDEX(VLC!C:C,MATCH(1101+ROW(A7)-1,VLC!V:V,0)),\"\")","v":""},{"$f":"_xlfn.IFNA(IF(INDEX(VLC!H:H,MATCH(1101+ROW(A7)-1,VLC!V:V,0))=\"x\",_xlfn.IFNA(INDEX(VLC!H:H,MATCH(1101+ROW(A7)-1,VLC!V:V,0)),\"\"),\"\"),\"\")","v":""},{"$f":"_xlfn.IFNA(IF(INDEX(VLC!H:H,MATCH(1141+ROW(A7)-1,VLC!V:V,0))=\"x\",_xlfn.IFNA(INDEX(VLC!H:H,MATCH(1141+ROW(A7)-1,VLC!V:V,0)),\"\"),\"\"),\"\")","v":""},{"$f":"_xlfn.IFNA(IF(INDEX(VLC!I:I,MATCH(1101+ROW(A7)-1,VLC!V:V,0))<>\"\",_xlfn.IFNA(INDEX(VLC!I:I,MATCH(1101+ROW(A7)-1,VLC!V:V,0)),\"\"),\"\"),\"\")","v":""},{"$f":"_xlfn.IFNA(IF(INDEX(VLC!I:I,MATCH(1141+ROW(A7)-1,VLC!V:V,0))<>\"\",_xlfn.IFNA(INDEX(VLC!I:I,MATCH(1141+ROW(A7)-1,VLC!V:V,0)),\"\"),\"\"),\"\")","v":""},{"$f":"_xlfn.IFNA(IF(INDEX(VLC!J:J,MATCH(1101+ROW(A7)-1,VLC!V:V,0))=\"x\",_xlfn.IFNA(INDEX(VLC!J:J,MATCH(1101+ROW(A7)-1,VLC!V:V,0)),\"\"),\"\"),\"\")","v":""},{"$f":"_xlfn.IFNA(IF(INDEX(VLC!J:J,MATCH(1141+ROW(A7)-1,VLC!V:V,0))=\"x\",_xlfn.IFNA(INDEX(VLC!J:J,MATCH(1141+ROW(A7)-1,VLC!V:V,0)),\"\"),\"\"),\"\")","v":""},11007,11047]
["SK Teilnehmer 8",{"$f":"_xlfn.IFNA(INDEX(VLC!A:A,MATCH(1108,VLC!V:V,0)),\"\")","v":""},{"$f":"_xlfn.IFNA(INDEX(VLC!A:A,MATCH(1148,VLC!V:V,0)),\"\")","v":""},{"$f":"_xlfn.IFNA(INDEX(VLC!B:B,MATCH(1101+ROW(A8)-1,VLC!V:V,0)),\"\")","v":""},{"$f":"_xlfn.IFNA(INDEX(VLC!C:C,MATCH(1101+ROW(A8)-1,VLC!V:V,0)),\"\")","v":""},{"$f":"_xlfn.IFNA(IF(INDEX(VLC!H:H,MATCH(1101+ROW(A8)-1,VLC!V:V,0))=\"x\",_xlfn.IFNA(INDEX(VLC!H:H,MATCH(1101+ROW(A8)-1,VLC!V:V,0)),\"\"),\"\"),\"\")","v":""},{"$f":"_xlfn.IFNA(IF(INDEX(VLC!H:H,MATCH(1141+ROW(A8)-1,VLC!V:V,0))=\"x\",_xlfn.IFNA(INDEX(VLC!H:H,MATCH(1141+ROW(A8)-1,VLC!V:V,0)),\"\"),\"\"),\"\")","v":""},{"$f":"_xlfn.IFNA(IF(INDEX(VLC!I:I,MATCH(1101+ROW(A8)-1,VLC!V:V,0))<>\"\",_xlfn.IFNA(INDEX(VLC!I:I,MATCH(1101+ROW(A8)-1,VLC!V:V,0)),\"\"),\"\"),\"\")","v":""},{"$f":"_xlfn.IFNA(IF(INDEX(VLC!I:I,MATCH(1141+ROW(A8)-1,VLC!V:V,0))<>\"\",_xlfn.IFNA(INDEX(VLC!I:I,MATCH(1141+ROW(A8)-1,VLC!V:V,0)),\"\"),\"\"),\"\")","v":""},{"$f":"_xlfn.IFNA(IF(INDEX(VLC!J:J,MATCH(1101+ROW(A8)-1,VLC!V:V,0))=\"x\",_xlfn.IFNA(INDEX(VLC!J:J,MATCH(1101+ROW(A8)-1,VLC!V:V,0)),\"\"),\"\"),\"\")","v":""},{"$f":"_xlfn.IFNA(IF(INDEX(VLC!J:J,MATCH(1141+ROW(A8)-1,VLC!V:V,0))=\"x\",_xlfn.IFNA(INDEX(VLC!J:J,MATCH(1141+ROW(A8)-1,VLC!V:V,0)),\"\"),\"\"),\"\")","v":""},11008,11048]
["SK Teilnehmer 9",{"$f":"_xlfn.IFNA(INDEX(VLC!A:A,MATCH(1109,VLC!V:V,0)),\"\")","v":""},{"$f":"_xlfn.IFNA(INDEX(VLC!A:A,MATCH(1149,VLC!V:V,0)),\"\")","v":""},{"$f":"_xlfn.IFNA(INDEX(VLC!B:B,MATCH(1101+ROW(A9)-1,VLC!V:V,0)),\"\")","v":""},{"$f":"_xlfn.IFNA(INDEX(VLC!C:C,MATCH(1101+ROW(A9)-1,VLC!V:V,0)),\"\")","v":""},{"$f":"_xlfn.IFNA(IF(INDEX(VLC!H:H,MATCH(1101+ROW(A9)-1,VLC!V:V,0))=\"x\",_xlfn.IFNA(INDEX(VLC!H:H,MATCH(1101+ROW(A9)-1,VLC!V:V,0)),\"\"),\"\"),\"\")","v":""},{"$f":"_xlfn.IFNA(IF(INDEX(VLC!H:H,MATCH(1141+ROW(A9)-1,VLC!V:V,0))=\"x\",_xlfn.IFNA(INDEX(VLC!H:H,MATCH(1141+ROW(A9)-1,VLC!V:V,0)),\"\"),\"\"),\"\")","v":""},{"$f":"_xlfn.IFNA(IF(INDEX(VLC!I:I,MATCH(1101+ROW(A9)-1,VLC!V:V,0))<>\"\",_xlfn.IFNA(INDEX(VLC!I:I,MATCH(1101+ROW(A9)-1,VLC!V:V,0)),\"\"),\"\"),\"\")","v":""},{"$f":"_xlfn.IFNA(IF(INDEX(VLC!I:I,MATCH(1141+ROW(A9)-1,VLC!V:V,0))<>\"\",_xlfn.IFNA(INDEX(VLC!I:I,MATCH(1141+ROW(A9)-1,VLC!V:V,0)),\"\"),\"\"),\"\")","v":""},{"$f":"_xlfn.IFNA(IF(INDEX(VLC!J:J,MATCH(1101+ROW(A9)-1,VLC!V:V,0))=\"x\",_xlfn.IFNA(INDEX(VLC!J:J,MATCH(1101+ROW(A9)-1,VLC!V:V,0)),\"\"),\"\"),\"\")","v":""},{"$f":"_xlfn.IFNA(IF(INDEX(VLC!J:J,MATCH(1141+ROW(A9)-1,VLC!V:V,0))=\"x\",_xlfn.IFNA(INDEX(VLC!J:J,MATCH(1141+ROW(A9)-1,VLC!V:V,0)),\"\"),\"\"),\"\")","v":""},11009,11049]
["SK Teilnehmer 10",{"$f":"_xlfn.IFNA(INDEX(VLC!A:A,MATCH(1110,VLC!V:V,0)),\"\")","v":""},{"$f":"_xlfn.IFNA(INDEX(VLC!A:A,MATCH(1150,VLC!V:V,0)),\"\")","v":""},{"$f":"_xlfn.IFNA(INDEX(VLC!B:B,MATCH(1101+ROW(A10)-1,VLC!V:V,0)),\"\")","v":""},{"$f":"_xlfn.IFNA(INDEX(VLC!C:C,MATCH(1101+ROW(A10)-1,VLC!V:V,0)),\"\")","v":""},{"$f":"_xlfn.IFNA(IF(INDEX(VLC!H:H,MATCH(1101+ROW(A10)-1,VLC!V:V,0))=\"x\",_xlfn.IFNA(INDEX(VLC!H:H,MATCH(1101+ROW(A10)-1,VLC!V:V,0)),\"\"),\"\"),\"\")","v":""},{"$f":"_xlfn.IFNA(IF(INDEX(VLC!H:H,MATCH(1141+ROW(A10)-1,VLC!V:V,0))=\"x\",_xlfn.IFNA(INDEX(VLC!H:H,MATCH(1141+ROW(A10)-1,VLC!V:V,0)),\"\"),\"\"),\"\")","v":""},{"$f":"_xlfn.IFNA(IF(INDEX(VLC!I:I,MATCH(1101+ROW(A10)-1,VLC!V:V,0))<>\"\",_xlfn.IFNA(INDEX(VLC!I:I,MATCH(1101+ROW(A10)-1,VLC!V:V,0)),\"\"),\"\"),\"\")","v":""},{"$f":"_xlfn.IFNA(IF(INDEX(VLC!I:I,MATCH(1141+ROW(A10)-1,VLC!V:V,0))<>\"\",_xlfn.IFNA(INDEX(VLC!I:I,MATCH(1141+ROW(A10)-1,VLC!V:V,0)),\"\"),\"\"),\"\")","v":""},{"$f":"_xlfn.IFNA(IF(INDEX(VLC!J:J,MATCH(1101+ROW(A10)-1,VLC!V:V,0))=\"x\",_xlfn.IFNA(INDEX(VLC!J:J,MATCH(1101+ROW(A10)-1,VLC!V:V,0)),\"\"),\"\"),\"\")","v":""},{"$f":"_xlfn.IFNA(IF(INDEX(VLC!J:J,MATCH(1141+ROW(A10)-1,VLC!V:V,0))=\"x\",_xlfn.IFNA(INDEX(VLC!J:J,MATCH(1141+ROW(A10)-1,VLC!V:V,0)),\"\"),\"\"),\"\")","v":""},11010,11050]
["SK Teilnehmer 11",{"$f":"_xlfn.IFNA(INDEX(VLC!A:A,MATCH(1111,VLC!V:V,0)),\"\")","v":""},{"$f":"_xlfn.IFNA(INDEX(VLC!A:A,MATCH(1151,VLC!V:V,0)),\"\")","v":""},{"$f":"_xlfn.IFNA(INDEX(VLC!B:B,MATCH(1101+ROW(A11)-1,VLC!V:V,0)),\"\")","v":""},{"$f":"_xlfn.IFNA(INDEX(VLC!C:C,MATCH(1101+ROW(A11)-1,VLC!V:V,0)),\"\")","v":""},{"$f":"_xlfn.IFNA(IF(INDEX(VLC!H:H,MATCH(1101+ROW(A11)-1,VLC!V:V,0))=\"x\",_xlfn.IFNA(INDEX(VLC!H:H,MATCH(1101+ROW(A11)-1,VLC!V:V,0)),\"\"),\"\"),\"\")","v":""},{"$f":"_xlfn.IFNA(IF(INDEX(VLC!H:H,MATCH(1141+ROW(A11)-1,VLC!V:V,0))=\"x\",_xlfn.IFNA(INDEX(VLC!H:H,MATCH(1141+ROW(A11)-1,VLC!V:V,0)),\"\"),\"\"),\"\")","v":""},{"$f":"_xlfn.IFNA(IF(INDEX(VLC!I:I,MATCH(1101+ROW(A11)-1,VLC!V:V,0))<>\"\",_xlfn.IFNA(INDEX(VLC!I:I,MATCH(1101+ROW(A11)-1,VLC!V:V,0)),\"\"),\"\"),\"\")","v":""},{"$f":"_xlfn.IFNA(IF(INDEX(VLC!I:I,MATCH(1141+ROW(A11)-1,VLC!V:V,0))<>\"\",_xlfn.IFNA(INDEX(VLC!I:I,MATCH(1141+ROW(A11)-1,VLC!V:V,0)),\"\"),\"\"),\"\")","v":""},{"$f":"_xlfn.IFNA(IF(INDEX(VLC!J:J,MATCH(1101+ROW(A11)-1,VLC!V:V,0))=\"x\",_xlfn.IFNA(INDEX(VLC!J:J,MATCH(1101+ROW(A11)-1,VLC!V:V,0)),\"\"),\"\"),\"\")","v":""},{"$f":"_xlfn.IFNA(IF(INDEX(VLC!J:J,MATCH(1141+ROW(A11)-1,VLC!V:V,0))=\"x\",_xlfn.IFNA(INDEX(VLC!J:J,MATCH(1141+ROW(A11)-1,VLC!V:V,0)),\"\"),\"\"),\"\")","v":""},11011,11051]
["SK Teilnehmer 12",{"$f":"_xlfn.IFNA(INDEX(VLC!A:A,MATCH(1112,VLC!V:V,0)),\"\")","v":""},{"$f":"_xlfn.IFNA(INDEX(VLC!A:A,MATCH(1152,VLC!V:V,0)),\"\")","v":""},{"$f":"_xlfn.IFNA(INDEX(VLC!B:B,MATCH(1101+ROW(A12)-1,VLC!V:V,0)),\"\")","v":""},{"$f":"_xlfn.IFNA(INDEX(VLC!C:C,MATCH(1101+ROW(A12)-1,VLC!V:V,0)),\"\")","v":""},{"$f":"_xlfn.IFNA(IF(INDEX(VLC!H:H,MATCH(1101+ROW(A12)-1,VLC!V:V,0))=\"x\",_xlfn.IFNA(INDEX(VLC!H:H,MATCH(1101+ROW(A12)-1,VLC!V:V,0)),\"\"),\"\"),\"\")","v":""},{"$f":"_xlfn.IFNA(IF(INDEX(VLC!H:H,MATCH(1141+ROW(A12)-1,VLC!V:V,0))=\"x\",_xlfn.IFNA(INDEX(VLC!H:H,MATCH(1141+ROW(A12)-1,VLC!V:V,0)),\"\"),\"\"),\"\")","v":""},{"$f":"_xlfn.IFNA(IF(INDEX(VLC!I:I,MATCH(1101+ROW(A12)-1,VLC!V:V,0))<>\"\",_xlfn.IFNA(INDEX(VLC!I:I,MATCH(1101+ROW(A12)-1,VLC!V:V,0)),\"\"),\"\"),\"\")","v":""},{"$f":"_xlfn.IFNA(IF(INDEX(VLC!I:I,MATCH(1141+ROW(A12)-1,VLC!V:V,0))<>\"\",_xlfn.IFNA(INDEX(VLC!I:I,MATCH(1141+ROW(A12)-1,VLC!V:V,0)),\"\"),\"\"),\"\")","v":""},{"$f":"_xlfn.IFNA(IF(INDEX(VLC!J:J,MATCH(1101+ROW(A12)-1,VLC!V:V,0))=\"x\",_xlfn.IFNA(INDEX(VLC!J:J,MATCH(1101+ROW(A12)-1,VLC!V:V,0)),\"\"),\"\"),\"\")","v":""},{"$f":"_xlfn.IFNA(IF(INDEX(VLC!J:J,MATCH(1141+ROW(A12)-1,VLC!V:V,0))=\"x\",_xlfn.IFNA(INDEX(VLC!J:J,MATCH(1141+ROW(A12)-1,VLC!V:V,0)),\"\"),\"\"),\"\")","v":""},11012,11052]
["SK Teilnehmer 13",{"$f":"_xlfn.IFNA(INDEX(VLC!A:A,MATCH(1113,VLC!V:V,0)),\"\")","v":""},{"$f":"_xlfn.IFNA(INDEX(VLC!A:A,MATCH(1153,VLC!V:V,0)),\"\")","v":""},{"$f":"_xlfn.IFNA(INDEX(VLC!B:B,MATCH(1101+ROW(A13)-1,VLC!V:V,0)),\"\")","v":""},{"$f":"_xlfn.IFNA(INDEX(VLC!C:C,MATCH(1101+ROW(A13)-1,VLC!V:V,0)),\"\")","v":""},{"$f":"_xlfn.IFNA(IF(INDEX(VLC!H:H,MATCH(1101+ROW(A13)-1,VLC!V:V,0))=\"x\",_xlfn.IFNA(INDEX(VLC!H:H,MATCH(1101+ROW(A13)-1,VLC!V:V,0)),\"\"),\"\"),\"\")","v":""},{"$f":"_xlfn.IFNA(IF(INDEX(VLC!H:H,MATCH(1141+ROW(A13)-1,VLC!V:V,0))=\"x\",_xlfn.IFNA(INDEX(VLC!H:H,MATCH(1141+ROW(A13)-1,VLC!V:V,0)),\"\"),\"\"),\"\")","v":""},{"$f":"_xlfn.IFNA(IF(INDEX(VLC!I:I,MATCH(1101+ROW(A13)-1,VLC!V:V,0))<>\"\",_xlfn.IFNA(INDEX(VLC!I:I,MATCH(1101+ROW(A13)-1,VLC!V:V,0)),\"\"),\"\"),\"\")","v":""},{"$f":"_xlfn.IFNA(IF(INDEX(VLC!I:I,MATCH(1141+ROW(A13)-1,VLC!V:V,0))<>\"\",_xlfn.IFNA(INDEX(VLC!I:I,MATCH(1141+ROW(A13)-1,VLC!V:V,0)),\"\"),\"\"),\"\")","v":""},{"$f":"_xlfn.IFNA(IF(INDEX(VLC!J:J,MATCH(1101+ROW(A13)-1,VLC!V:V,0))=\"x\",_xlfn.IFNA(INDEX(VLC!J:J,MATCH(1101+ROW(A13)-1,VLC!V:V,0)),\"\"),\"\"),\"\")","v":""},{"$f":"_xlfn.IFNA(IF(INDEX(VLC!J:J,MATCH(1141+ROW(A13)-1,VLC!V:V,0))=\"x\",_xlfn.IFNA(INDEX(VLC!J:J,MATCH(1141+ROW(A13)-1,VLC!V:V,0)),\"\"),\"\"),\"\")","v":""},11013,11053]
["SK Teilnehmer 14",{"$f":"_xlfn.IFNA(INDEX(VLC!A:A,MATCH(1114,VLC!V:V,0)),\"\")","v":""},{"$f":"_xlfn.IFNA(INDEX(VLC!A:A,MATCH(1154,VLC!V:V,0)),\"\")","v":""},{"$f":"_xlfn.IFNA(INDEX(VLC!B:B,MATCH(1101+ROW(A14)-1,VLC!V:V,0)),\"\")","v":""},{"$f":"_xlfn.IFNA(INDEX(VLC!C:C,MATCH(1101+ROW(A14)-1,VLC!V:V,0)),\"\")","v":""},{"$f":"_xlfn.IFNA(IF(INDEX(VLC!H:H,MATCH(1101+ROW(A14)-1,VLC!V:V,0))=\"x\",_xlfn.IFNA(INDEX(VLC!H:H,MATCH(1101+ROW(A14)-1,VLC!V:V,0)),\"\"),\"\"),\"\")","v":""},{"$f":"_xlfn.IFNA(IF(INDEX(VLC!H:H,MATCH(1141+ROW(A14)-1,VLC!V:V,0))=\"x\",_xlfn.IFNA(INDEX(VLC!H:H,MATCH(1141+ROW(A14)-1,VLC!V:V,0)),\"\"),\"\"),\"\")","v":""},{"$f":"_xlfn.IFNA(IF(INDEX(VLC!I:I,MATCH(1101+ROW(A14)-1,VLC!V:V,0))<>\"\",_xlfn.IFNA(INDEX(VLC!I:I,MATCH(1101+ROW(A14)-1,VLC!V:V,0)),\"\"),\"\"),\"\")","v":""},{"$f":"_xlfn.IFNA(IF(INDEX(VLC!I:I,MATCH(1141+ROW(A14)-1,VLC!V:V,0))<>\"\",_xlfn.IFNA(INDEX(VLC!I:I,MATCH(1141+ROW(A14)-1,VLC!V:V,0)),\"\"),\"\"),\"\")","v":""},{"$f":"_xlfn.IFNA(IF(INDEX(VLC!J:J,MATCH(1101+ROW(A14)-1,VLC!V:V,0))=\"x\",_xlfn.IFNA(INDEX(VLC!J:J,MATCH(1101+ROW(A14)-1,VLC!V:V,0)),\"\"),\"\"),\"\")","v":""},{"$f":"_xlfn.IFNA(IF(INDEX(VLC!J:J,MATCH(1141+ROW(A14)-1,VLC!V:V,0))=\"x\",_xlfn.IFNA(INDEX(VLC!J:J,MATCH(1141+ROW(A14)-1,VLC!V:V,0)),\"\"),\"\"),\"\")","v":""},11014,11054]
["SK Teilnehmer 15",{"$f":"_xlfn.IFNA(INDEX(VLC!A:A,MATCH(1115,VLC!V:V,0)),\"\")","v":""},{"$f":"_xlfn.IFNA(INDEX(VLC!A:A,MATCH(1155,VLC!V:V,0)),\"\")","v":""},{"$f":"_xlfn.IFNA(INDEX(VLC!B:B,MATCH(1101+ROW(A15)-1,VLC!V:V,0)),\"\")","v":""},{"$f":"_xlfn.IFNA(INDEX(VLC!C:C,MATCH(1101+ROW(A15)-1,VLC!V:V,0)),\"\")","v":""},{"$f":"_xlfn.IFNA(IF(INDEX(VLC!H:H,MATCH(1101+ROW(A15)-1,VLC!V:V,0))=\"x\",_xlfn.IFNA(INDEX(VLC!H:H,MATCH(1101+ROW(A15)-1,VLC!V:V,0)),\"\"),\"\"),\"\")","v":""},{"$f":"_xlfn.IFNA(IF(INDEX(VLC!H:H,MATCH(1141+ROW(A15)-1,VLC!V:V,0))=\"x\",_xlfn.IFNA(INDEX(VLC!H:H,MATCH(1141+ROW(A15)-1,VLC!V:V,0)),\"\"),\"\"),\"\")","v":""},{"$f":"_xlfn.IFNA(IF(INDEX(VLC!I:I,MATCH(1101+ROW(A15)-1,VLC!V:V,0))<>\"\",_xlfn.IFNA(INDEX(VLC!I:I,MATCH(1101+ROW(A15)-1,VLC!V:V,0)),\"\"),\"\"),\"\")","v":""},{"$f":"_xlfn.IFNA(IF(INDEX(VLC!I:I,MATCH(1141+ROW(A15)-1,VLC!V:V,0))<>\"\",_xlfn.IFNA(INDEX(VLC!I:I,MATCH(1141+ROW(A15)-1,VLC!V:V,0)),\"\"),\"\"),\"\")","v":""},{"$f":"_xlfn.IFNA(IF(INDEX(VLC!J:J,MATCH(1101+ROW(A15)-1,VLC!V:V,0))=\"x\",_xlfn.IFNA(INDEX(VLC!J:J,MATCH(1101+ROW(A15)-1,VLC!V:V,0)),\"\"),\"\"),\"\")","v":""},{"$f":"_xlfn.IFNA(IF(INDEX(VLC!J:J,MATCH(1141+ROW(A15)-1,VLC!V:V,0))=\"x\",_xlfn.IFNA(INDEX(VLC!J:J,MATCH(1141+ROW(A15)-1,VLC!V:V,0)),\"\"),\"\"),\"\")","v":""},11015,11055]
["SK Teilnehmer 16",{"$f":"_xlfn.IFNA(INDEX(VLC!A:A,MATCH(1116,VLC!V:V,0)),\"\")","v":""},{"$f":"_xlfn.IFNA(INDEX(VLC!A:A,MATCH(1156,VLC!V:V,0)),\"\")","v":""},{"$f":"_xlfn.IFNA(INDEX(VLC!B:B,MATCH(1101+ROW(A16)-1,VLC!V:V,0)),\"\")","v":""},{"$f":"_xlfn.IFNA(INDEX(VLC!C:C,MATCH(1101+ROW(A16)-1,VLC!V:V,0)),\"\")","v":""},{"$f":"_xlfn.IFNA(IF(INDEX(VLC!H:H,MATCH(1101+ROW(A16)-1,VLC!V:V,0))=\"x\",_xlfn.IFNA(INDEX(VLC!H:H,MATCH(1101+ROW(A16)-1,VLC!V:V,0)),\"\"),\"\"),\"\")","v":""},{"$f":"_xlfn.IFNA(IF(INDEX(VLC!H:H,MATCH(1141+ROW(A16)-1,VLC!V:V,0))=\"x\",_xlfn.IFNA(INDEX(VLC!H:H,MATCH(1141+ROW(A16)-1,VLC!V:V,0)),\"\"),\"\"),\"\")","v":""},{"$f":"_xlfn.IFNA(IF(INDEX(VLC!I:I,MATCH(1101+ROW(A16)-1,VLC!V:V,0))<>\"\",_xlfn.IFNA(INDEX(VLC!I:I,MATCH(1101+ROW(A16)-1,VLC!V:V,0)),\"\"),\"\"),\"\")","v":""},{"$f":"_xlfn.IFNA(IF(INDEX(VLC!I:I,MATCH(1141+ROW(A16)-1,VLC!V:V,0))<>\"\",_xlfn.IFNA(INDEX(VLC!I:I,MATCH(1141+ROW(A16)-1,VLC!V:V,0)),\"\"),\"\"),\"\")","v":""},{"$f":"_xlfn.IFNA(IF(INDEX(VLC!J:J,MATCH(1101+ROW(A16)-1,VLC!V:V,0))=\"x\",_xlfn.IFNA(INDEX(VLC!J:J,MATCH(1101+ROW(A16)-1,VLC!V:V,0)),\"\"),\"\"),\"\")","v":""},{"$f":"_xlfn.IFNA(IF(INDEX(VLC!J:J,MATCH(1141+ROW(A16)-1,VLC!V:V,0))=\"x\",_xlfn.IFNA(INDEX(VLC!J:J,MATCH(1141+ROW(A16)-1,VLC!V:V,0)),\"\"),\"\"),\"\")","v":""},11016,11056]
["SK Teilnehmer 17",{"$f":"_xlfn.IFNA(INDEX(VLC!A:A,MATCH(1117,VLC!V:V,0)),\"\")","v":""},{"$f":"_xlfn.IFNA(INDEX(VLC!A:A,MATCH(1157,VLC!V:V,0)),\"\")","v":""},{"$f":"_xlfn.IFNA(INDEX(VLC!B:B,MATCH(1101+ROW(A17)-1,VLC!V:V,0)),\"\")","v":""},{"$f":"_xlfn.IFNA(INDEX(VLC!C:C,MATCH(1101+ROW(A17)-1,VLC!V:V,0)),\"\")","v":""},{"$f":"_xlfn.IFNA(IF(INDEX(VLC!H:H,MATCH(1101+ROW(A17)-1,VLC!V:V,0))=\"x\",_xlfn.IFNA(INDEX(VLC!H:H,MATCH(1101+ROW(A17)-1,VLC!V:V,0)),\"\"),\"\"),\"\")","v":""},{"$f":"_xlfn.IFNA(IF(INDEX(VLC!H:H,MATCH(1141+ROW(A17)-1,VLC!V:V,0))=\"x\",_xlfn.IFNA(INDEX(VLC!H:H,MATCH(1141+ROW(A17)-1,VLC!V:V,0)),\"\"),\"\"),\"\")","v":""},{"$f":"_xlfn.IFNA(IF(INDEX(VLC!I:I,MATCH(1101+ROW(A17)-1,VLC!V:V,0))<>\"\",_xlfn.IFNA(INDEX(VLC!I:I,MATCH(1101+ROW(A17)-1,VLC!V:V,0)),\"\"),\"\"),\"\")","v":""},{"$f":"_xlfn.IFNA(IF(INDEX(VLC!I:I,MATCH(1141+ROW(A17)-1,VLC!V:V,0))<>\"\",_xlfn.IFNA(INDEX(VLC!I:I,MATCH(1141+ROW(A17)-1,VLC!V:V,0)),\"\"),\"\"),\"\")","v":""},{"$f":"_xlfn.IFNA(IF(INDEX(VLC!J:J,MATCH(1101+ROW(A17)-1,VLC!V:V,0))=\"x\",_xlfn.IFNA(INDEX(VLC!J:J,MATCH(1101+ROW(A17)-1,VLC!V:V,0)),\"\"),\"\"),\"\")","v":""},{"$f":"_xlfn.IFNA(IF(INDEX(VLC!J:J,MATCH(1141+ROW(A17)-1,VLC!V:V,0))=\"x\",_xlfn.IFNA(INDEX(VLC!J:J,MATCH(1141+ROW(A17)-1,VLC!V:V,0)),\"\"),\"\"),\"\")","v":""},11017,11057]
["SK Teilnehmer 18",{"$f":"_xlfn.IFNA(INDEX(VLC!A:A,MATCH(1118,VLC!V:V,0)),\"\")","v":""},{"$f":"_xlfn.IFNA(INDEX(VLC!A:A,MATCH(1158,VLC!V:V,0)),\"\")","v":""},{"$f":"_xlfn.IFNA(INDEX(VLC!B:B,MATCH(1101+ROW(A18)-1,VLC!V:V,0)),\"\")","v":""},{"$f":"_xlfn.IFNA(INDEX(VLC!C:C,MATCH(1101+ROW(A18)-1,VLC!V:V,0)),\"\")","v":""},{"$f":"_xlfn.IFNA(IF(INDEX(VLC!H:H,MATCH(1101+ROW(A18)-1,VLC!V:V,0))=\"x\",_xlfn.IFNA(INDEX(VLC!H:H,MATCH(1101+ROW(A18)-1,VLC!V:V,0)),\"\"),\"\"),\"\")","v":""},{"$f":"_xlfn.IFNA(IF(INDEX(VLC!H:H,MATCH(1141+ROW(A18)-1,VLC!V:V,0))=\"x\",_xlfn.IFNA(INDEX(VLC!H:H,MATCH(1141+ROW(A18)-1,VLC!V:V,0)),\"\"),\"\"),\"\")","v":""},{"$f":"_xlfn.IFNA(IF(INDEX(VLC!I:I,MATCH(1101+ROW(A18)-1,VLC!V:V,0))<>\"\",_xlfn.IFNA(INDEX(VLC!I:I,MATCH(1101+ROW(A18)-1,VLC!V:V,0)),\"\"),\"\"),\"\")","v":""},{"$f":"_xlfn.IFNA(IF(INDEX(VLC!I:I,MATCH(1141+ROW(A18)-1,VLC!V:V,0))<>\"\",_xlfn.IFNA(INDEX(VLC!I:I,MATCH(1141+ROW(A18)-1,VLC!V:V,0)),\"\"),\"\"),\"\")","v":""},{"$f":"_xlfn.IFNA(IF(INDEX(VLC!J:J,MATCH(1101+ROW(A18)-1,VLC!V:V,0))=\"x\",_xlfn.IFNA(INDEX(VLC!J:J,MATCH(1101+ROW(A18)-1,VLC!V:V,0)),\"\"),\"\"),\"\")","v":""},{"$f":"_xlfn.IFNA(IF(INDEX(VLC!J:J,MATCH(1141+ROW(A18)-1,VLC!V:V,0))=\"x\",_xlfn.IFNA(INDEX(VLC!J:J,MATCH(1141+ROW(A18)-1,VLC!V:V,0)),\"\"),\"\"),\"\")","v":""},11018,11058]
["SK Teilnehmer 19",{"$f":"_xlfn.IFNA(INDEX(VLC!A:A,MATCH(1119,VLC!V:V,0)),\"\")","v":""},{"$f":"_xlfn.IFNA(INDEX(VLC!A:A,MATCH(1159,VLC!V:V,0)),\"\")","v":""},{"$f":"_xlfn.IFNA(INDEX(VLC!B:B,MATCH(1101+ROW(A19)-1,VLC!V:V,0)),\"\")","v":""},{"$f":"_xlfn.IFNA(INDEX(VLC!C:C,MATCH(1101+ROW(A19)-1,VLC!V:V,0)),\"\")","v":""},{"$f":"_xlfn.IFNA(IF(INDEX(VLC!H:H,MATCH(1101+ROW(A19)-1,VLC!V:V,0))=\"x\",_xlfn.IFNA(INDEX(VLC!H:H,MATCH(1101+ROW(A19)-1,VLC!V:V,0)),\"\"),\"\"),\"\")","v":""},{"$f":"_xlfn.IFNA(IF(INDEX(VLC!H:H,MATCH(1141+ROW(A19)-1,VLC!V:V,0))=\"x\",_xlfn.IFNA(INDEX(VLC!H:H,MATCH(1141+ROW(A19)-1,VLC!V:V,0)),\"\"),\"\"),\"\")","v":""},{"$f":"_xlfn.IFNA(IF(INDEX(VLC!I:I,MATCH(1101+ROW(A19)-1,VLC!V:V,0))<>\"\",_xlfn.IFNA(INDEX(VLC!I:I,MATCH(1101+ROW(A19)-1,VLC!V:V,0)),\"\"),\"\"),\"\")","v":""},{"$f":"_xlfn.IFNA(IF(INDEX(VLC!I:I,MATCH(1141+ROW(A19)-1,VLC!V:V,0))<>\"\",_xlfn.IFNA(INDEX(VLC!I:I,MATCH(1141+ROW(A19)-1,VLC!V:V,0)),\"\"),\"\"),\"\")","v":""},{"$f":"_xlfn.IFNA(IF(INDEX(VLC!J:J,MATCH(1101+ROW(A19)-1,VLC!V:V,0))=\"x\",_xlfn.IFNA(INDEX(VLC!J:J,MATCH(1101+ROW(A19)-1,VLC!V:V,0)),\"\"),\"\"),\"\")","v":""},{"$f":"_xlfn.IFNA(IF(INDEX(VLC!J:J,MATCH(1141+ROW(A19)-1,VLC!V:V,0))=\"x\",_xlfn.IFNA(INDEX(VLC!J:J,MATCH(1141+ROW(A19)-1,VLC!V:V,0)),\"\"),\"\"),\"\")","v":""},11019,11059]
["SK Teilnehmer 20",{"$f":"_xlfn.IFNA(INDEX(VLC!A:A,MATCH(1120,VLC!V:V,0)),\"\")","v":""},{"$f":"_xlfn.IFNA(INDEX(VLC!A:A,MATCH(1160,VLC!V:V,0)),\"\")","v":""},{"$f":"_xlfn.IFNA(INDEX(VLC!B:B,MATCH(1101+ROW(A20)-1,VLC!V:V,0)),\"\")","v":""},{"$f":"_xlfn.IFNA(INDEX(VLC!C:C,MATCH(1101+ROW(A20)-1,VLC!V:V,0)),\"\")","v":""},{"$f":"_xlfn.IFNA(IF(INDEX(VLC!H:H,MATCH(1101+ROW(A20)-1,VLC!V:V,0))=\"x\",_xlfn.IFNA(INDEX(VLC!H:H,MATCH(1101+ROW(A20)-1,VLC!V:V,0)),\"\"),\"\"),\"\")","v":""},{"$f":"_xlfn.IFNA(IF(INDEX(VLC!H:H,MATCH(1141+ROW(A20)-1,VLC!V:V,0))=\"x\",_xlfn.IFNA(INDEX(VLC!H:H,MATCH(1141+ROW(A20)-1,VLC!V:V,0)),\"\"),\"\"),\"\")","v":""},{"$f":"_xlfn.IFNA(IF(INDEX(VLC!I:I,MATCH(1101+ROW(A20)-1,VLC!V:V,0))<>\"\",_xlfn.IFNA(INDEX(VLC!I:I,MATCH(1101+ROW(A20)-1,VLC!V:V,0)),\"\"),\"\"),\"\")","v":""},{"$f":"_xlfn.IFNA(IF(INDEX(VLC!I:I,MATCH(1141+ROW(A20)-1,VLC!V:V,0))<>\"\",_xlfn.IFNA(INDEX(VLC!I:I,MATCH(1141+ROW(A20)-1,VLC!V:V,0)),\"\"),\"\"),\"\")","v":""},{"$f":"_xlfn.IFNA(IF(INDEX(VLC!J:J,MATCH(1101+ROW(A20)-1,VLC!V:V,0))=\"x\",_xlfn.IFNA(INDEX(VLC!J:J,MATCH(1101+ROW(A20)-1,VLC!V:V,0)),\"\"),\"\"),\"\")","v":""},{"$f":"_xlfn.IFNA(IF(INDEX(VLC!J:J,MATCH(1141+ROW(A20)-1,VLC!V:V,0))=\"x\",_xlfn.IFNA(INDEX(VLC!J:J,MATCH(1141+ROW(A20)-1,VLC!V:V,0)),\"\"),\"\"),\"\")","v":""},11020,11060]
["Gerätename:",{"$f":"$B$6","v":0},null,null,"PLC24 Stromkreis-Nummer: 12"]
["Stromkreis-Bezeichnung:"]
["Stromkreisbelegung","ID 1","ID 2","Bezeichnung","Zusatzinfo","DL",null,"GL",null,"BL"]
[null,null,null,null,null,"ID1","ID2","ID1","ID2","ID1","ID2"]
["SK Teilnehmer 1",{"$f":"_xlfn.IFNA(INDEX(VLC!A:A,MATCH(1201,VLC!V:V,0)),\"\")","v":""},{"$f":"_xlfn.IFNA(INDEX(VLC!A:A,MATCH(1241,VLC!V:V,0)),\"\")","v":""},{"$f":"_xlfn.IFNA(INDEX(VLC!B:B,MATCH(1201+ROW(A1)-1,VLC!V:V,0)),\"\")","v":""},{"$f":"_xlfn.IFNA(INDEX(VLC!C:C,MATCH(1201+ROW(A1)-1,VLC!V:V,0)),\"\")","v":""},{"$f":"_xlfn.IFNA(IF(INDEX(VLC!H:H,MATCH(1201+ROW(A1)-1,VLC!V:V,0))=\"x\",_xlfn.IFNA(INDEX(VLC!H:H,MATCH(1201+ROW(A1)-1,VLC!V:V,0)),\"\"),\"\"),\"\")","v":""},{"$f":"_xlfn.IFNA(IF(INDEX(VLC!H:H,MATCH(1241+ROW(A1)-1,VLC!V:V,0))=\"x\",_xlfn.IFNA(INDEX(VLC!H:H,MATCH(1241+ROW(A1)-1,VLC!V:V,0)),\"\"),\"\"),\"\")","v":""},{"$f":"_xlfn.IFNA(IF(INDEX(VLC!I:I,MATCH(1201+ROW(A1)-1,VLC!V:V,0))<>\"\",_xlfn.IFNA(INDEX(VLC!I:I,MATCH(1201+ROW(A1)-1,VLC!V:V,0)),\"\"),\"\"),\"\")","v":""},{"$f":"_xlfn.IFNA(IF(INDEX(VLC!I:I,MATCH(1241+ROW(A1)-1,VLC!V:V,0))<>\"\",_xlfn.IFNA(INDEX(VLC!I:I,MATCH(1241+ROW(A1)-1,VLC!V:V,0)),\"\"),\"\"),\"\")","v":""},{"$f":"_xlfn.IFNA(IF(INDEX(VLC!J:J,MATCH(1201+ROW(A1)-1,VLC!V:V,0))=\"x\",_xlfn.IFNA(INDEX(VLC!J:J,MATCH(1201+ROW(A1)-1,VLC!V:V,0)),\"\"),\"\"),\"\")","v":""},{"$f":"_xlfn.IFNA(IF(INDEX(VLC!J:J,MATCH(1241+ROW(A1)-1,VLC!V:V,0))=\"x\",_xlfn.IFNA(INDEX(VLC!J:J,MATCH(1241+ROW(A1)-1,VLC!V:V,0)),\"\"),\"\"),\"\")","v":""},{"$f":"12000+ROW(A274)-273","v":12001},{"$f":"L274+40","v":12041}]
["SK Teilnehmer 2",{"$f":"_xlfn.IFNA(INDEX(VLC!A:A,MATCH(1202,VLC!V:V,0)),\"\")","v":""},{"$f":"_xlfn.IFNA(INDEX(VLC!A:A,MATCH(1242,VLC!V:V,0)),\"\")","v":""},{"$f":"_xlfn.IFNA(INDEX(VLC!B:B,MATCH(1201+ROW(A2)-1,VLC!V:V,0)),\"\")","v":""},{"$f":"_xlfn.IFNA(INDEX(VLC!C:C,MATCH(1201+ROW(A2)-1,VLC!V:V,0)),\"\")","v":""},{"$f":"_xlfn.IFNA(IF(INDEX(VLC!H:H,MATCH(1201+ROW(A2)-1,VLC!V:V,0))=\"x\",_xlfn.IFNA(INDEX(VLC!H:H,MATCH(1201+ROW(A2)-1,VLC!V:V,0)),\"\"),\"\"),\"\")","v":""},{"$f":"_xlfn.IFNA(IF(INDEX(VLC!H:H,MATCH(1241+ROW(A2)-1,VLC!V:V,0))=\"x\",_xlfn.IFNA(INDEX(VLC!H:H,MATCH(1241+ROW(A2)-1,VLC!V:V,0)),\"\"),\"\"),\"\")","v":""},{"$f":"_xlfn.IFNA(IF(INDEX(VLC!I:I,MATCH(1201+ROW(A2)-1,VLC!V:V,0))<>\"\",_xlfn.IFNA(INDEX(VLC!I:I,MATCH(1201+ROW(A2)-1,VLC!V:V,0)),\"\"),\"\"),\"\")","v":""},{"$f":"_xlfn.IFNA(IF(INDEX(VLC!I:I,MATCH(1241+ROW(A2)-1,VLC!V:V,0))<>\"\",_xlfn.IFNA(INDEX(VLC!I:I,MATCH(1241+ROW(A2)-1,VLC!V:V,0)),\"\"),\"\"),\"\")","v":""},{"$f":"_xlfn.IFNA(IF(INDEX(VLC!J:J,MATCH(1201+ROW(A2)-1,VLC!V:V,0))=\"x\",_xlfn.IFNA(INDEX(VLC!J:J,MATCH(1201+ROW(A2)-1,VLC!V:V,0)),\"\"),\"\"),\"\")","v":""},{"$f":"_xlfn.IFNA(IF(INDEX(VLC!J:J,MATCH(1241+ROW(A2)-1,VLC!V:V,0))=\"x\",_xlfn.IFNA(INDEX(VLC!J:J,MATCH(1241+ROW(A2)-1,VLC!V:V,0)),\"\"),\"\"),\"\")","v":""},{"$f":"12000+ROW(A275)-273","v":12002},{"$f":"L275+40","v":12042}]
["SK Teilnehmer 3",{"$f":"_xlfn.IFNA(INDEX(VLC!A:A,MATCH(1203,VLC!V:V,0)),\"\")","v":""},{"$f":"_xlfn.IFNA(INDEX(VLC!A:A,MATCH(1243,VLC!V:V,0)),\"\")","v":""},{"$f":"_xlfn.IFNA(INDEX(VLC!B:B,MATCH(1201+ROW(A3)-1,VLC!V:V,0)),\"\")","v":""},{"$f":"_xlfn.IFNA(INDEX(VLC!C:C,MATCH(1201+ROW(A3)-1,VLC!V:V,0)),\"\")","v":""},{"$f":"_xlfn.IFNA(IF(INDEX(VLC!H:H,MATCH(1201+ROW(A3)-1,VLC!V:V,0))=\"x\",_xlfn.IFNA(INDEX(VLC!H:H,MATCH(1201+ROW(A3)-1,VLC!V:V,0)),\"\"),\"\"),\"\")","v":""},{"$f":"_xlfn.IFNA(IF(INDEX(VLC!H:H,MATCH(1241+ROW(A3)-1,VLC!V:V,0))=\"x\",_xlfn.IFNA(INDEX(VLC!H:H,MATCH(1241+ROW(A3)-1,VLC!V:V,0)),\"\"),\"\"),\"\")","v":""},{"$f":"_xlfn.IFNA(IF(INDEX(VLC!I:I,MATCH(1201+ROW(A3)-1,VLC!V:V,0))<>\"\",_xlfn.IFNA(INDEX(VLC!I:I,MATCH(1201+ROW(A3)-1,VLC!V:V,0)),\"\"),\"\"),\"\")","v":""},{"$f":"_xlfn.IFNA(IF(INDEX(VLC!I:I,MATCH(1241+ROW(A3)-1,VLC!V:V,0))<>\"\",_xlfn.IFNA(INDEX(VLC!I:I,MATCH(1241+ROW(A3)-1,VLC!V:V,0)),\"\"),\"\"),\"\")","v":""},{"$f":"_xlfn.IFNA(IF(INDEX(VLC!J:J,MATCH(1201+ROW(A3)-1,VLC!V:V,0))=\"x\",_xlfn.IFNA(INDEX(VLC!J:J,MATCH(1201+ROW(A3)-1,VLC!V:V,0)),\"\"),\"\"),\"\")","v":""},{"$f":"_xlfn.IFNA(IF(INDEX(VLC!J:J,MATCH(1241+ROW(A3)-1,VLC!V:V,0))=\"x\",_xlfn.IFNA(INDEX(VLC!J:J,MATCH(1241+ROW(A3)-1,VLC!V:V,0)),\"\"),\"\"),\"\")","v":""},12003,12043]
["SK Teilnehmer 4",{"$f":"_xlfn.IFNA(INDEX(VLC!A:A,MATCH(1204,VLC!V:V,0)),\"\")","v":""},{"$f":"_xlfn.IFNA(INDEX(VLC!A:A,MATCH(1244,VLC!V:V,0)),\"\")","v":""},{"$f":"_xlfn.IFNA(INDEX(VLC!B:B,MATCH(1201+ROW(A4)-1,VLC!V:V,0)),\"\")","v":""},{"$f":"_xlfn.IFNA(INDEX(VLC!C:C,MATCH(1201+ROW(A4)-1,VLC!V:V,0)),\"\")","v":""},{"$f":"_xlfn.IFNA(IF(INDEX(VLC!H:H,MATCH(1201+ROW(A4)-1,VLC!V:V,0))=\"x\",_xlfn.IFNA(INDEX(VLC!H:H,MATCH(1201+ROW(A4)-1,VLC!V:V,0)),\"\"),\"\"),\"\")","v":""},{"$f":"_xlfn.IFNA(IF(INDEX(VLC!H:H,MATCH(1241+ROW(A4)-1,VLC!V:V,0))=\"x\",_xlfn.IFNA(INDEX(VLC!H:H,MATCH(1241+ROW(A4)-1,VLC!V:V,0)),\"\"),\"\"),\"\")","v":""},{"$f":"_xlfn.IFNA(IF(INDEX(VLC!I:I,MATCH(1201+ROW(A4)-1,VLC!V:V,0))<>\"\",_xlfn.IFNA(INDEX(VLC!I:I,MATCH(1201+ROW(A4)-1,VLC!V:V,0)),\"\"),\"\"),\"\")","v":""},{"$f":"_xlfn.IFNA(IF(INDEX(VLC!I:I,MATCH(1241+ROW(A4)-1,VLC!V:V,0))<>\"\",_xlfn.IFNA(INDEX(VLC!I:I,MATCH(1241+ROW(A4)-1,VLC!V:V,0)),\"\"),\"\"),\"\")","v":""},{"$f":"_xlfn.IFNA(IF(INDEX(VLC!J:J,MATCH(1201+ROW(A4)-1,VLC!V:V,0))=\"x\",_xlfn.IFNA(INDEX(VLC!J:J,MATCH(1201+ROW(A4)-1,VLC!V:V,0)),\"\"),\"\"),\"\")","v":""},{"$f":"_xlfn.IFNA(IF(INDEX(VLC!J:J,MATCH(1241+ROW(A4)-1,VLC!V:V,0))=\"x\",_xlfn.IFNA(INDEX(VLC!J:J,MATCH(1241+ROW(A4)-1,VLC!V:V,0)),\"\"),\"\"),\"\")","v":""},12004,12044]
["SK Teilnehmer 5",{"$f":"_xlfn.IFNA(INDEX(VLC!A:A,MATCH(1205,VLC!V:V,0)),\"\")","v":""},{"$f":"_xlfn.IFNA(INDEX(VLC!A:A,MATCH(1245,VLC!V:V,0)),\"\")","v":""},{"$f":"_xlfn.IFNA(INDEX(VLC!B:B,MATCH(1201+ROW(A5)-1,VLC!V:V,0)),\"\")","v":""},{"$f":"_xlfn.IFNA(INDEX(VLC!C:C,MATCH(1201+ROW(A5)-1,VLC!V:V,0)),\"\")","v":""},{"$f":"_xlfn.IFNA(IF(INDEX(VLC!H:H,MATCH(1201+ROW(A5)-1,VLC!V:V,0))=\"x\",_xlfn.IFNA(INDEX(VLC!H:H,MATCH(1201+ROW(A5)-1,VLC!V:V,0)),\"\"),\"\"),\"\")","v":""},{"$f":"_xlfn.IFNA(IF(INDEX(VLC!H:H,MATCH(1241+ROW(A5)-1,VLC!V:V,0))=\"x\",_xlfn.IFNA(INDEX(VLC!H:H,MATCH(1241+ROW(A5)-1,VLC!V:V,0)),\"\"),\"\"),\"\")","v":""},{"$f":"_xlfn.IFNA(IF(INDEX(VLC!I:I,MATCH(1201+ROW(A5)-1,VLC!V:V,0))<>\"\",_xlfn.IFNA(INDEX(VLC!I:I,MATCH(1201+ROW(A5)-1,VLC!V:V,0)),\"\"),\"\"),\"\")","v":""},{"$f":"_xlfn.IFNA(IF(INDEX(VLC!I:I,MATCH(1241+ROW(A5)-1,VLC!V:V,0))<>\"\",_xlfn.IFNA(INDEX(VLC!I:I,MATCH(1241+ROW(A5)-1,VLC!V:V,0)),\"\"),\"\"),\"\")","v":""},{"$f":"_xlfn.IFNA(IF(INDEX(VLC!J:J,MATCH(1201+ROW(A5)-1,VLC!V:V,0))=\"x\",_xlfn.IFNA(INDEX(VLC!J:J,MATCH(1201+ROW(A5)-1,VLC!V:V,0)),\"\"),\"\"),\"\")","v":""},{"$f":"_xlfn.IFNA(IF(INDEX(VLC!J:J,MATCH(1241+ROW(A5)-1,VLC!V:V,0))=\"x\",_xlfn.IFNA(INDEX(VLC!J:J,MATCH(1241+ROW(A5)-1,VLC!V:V,0)),\"\"),\"\"),\"\")","v":""},12005,12045]
["SK Teilnehmer 6",{"$f":"_xlfn.IFNA(INDEX(VLC!A:A,MATCH(1206,VLC!V:V,0)),\"\")","v":""},{"$f":"_xlfn.IFNA(INDEX(VLC!A:A,MATCH(1246,VLC!V:V,0)),\"\")","v":""},{"$f":"_xlfn.IFNA(INDEX(VLC!B:B,MATCH(1201+ROW(A6)-1,VLC!V:V,0)),\"\")","v":""},{"$f":"_xlfn.IFNA(INDEX(VLC!C:C,MATCH(1201+ROW(A6)-1,VLC!V:V,0)),\"\")","v":""},{"$f":"_xlfn.IFNA(IF(INDEX(VLC!H:H,MATCH(1201+ROW(A6)-1,VLC!V:V,0))=\"x\",_xlfn.IFNA(INDEX(VLC!H:H,MATCH(1201+ROW(A6)-1,VLC!V:V,0)),\"\"),\"\"),\"\")","v":""},{"$f":"_xlfn.IFNA(IF(INDEX(VLC!H:H,MATCH(1241+ROW(A6)-1,VLC!V:V,0))=\"x\",_xlfn.IFNA(INDEX(VLC!H:H,MATCH(1241+ROW(A6)-1,VLC!V:V,0)),\"\"),\"\"),\"\")","v":""},{"$f":"_xlfn.IFNA(IF(INDEX(VLC!I:I,MATCH(1201+ROW(A6)-1,VLC!V:V,0))<>\"\",_xlfn.IFNA(INDEX(VLC!I:I,MATCH(1201+ROW(A6)-1,VLC!V:V,0)),\"\"),\"\"),\"\")","v":""},{"$f":"_xlfn.IFNA(IF(INDEX(VLC!I:I,MATCH(1241+ROW(A6)-1,VLC!V:V,0))<>\"\",_xlfn.IFNA(INDEX(VLC!I:I,MATCH(1241+ROW(A6)-1,VLC!V:V,0)),\"\"),\"\"),\"\")","v":""},{"$f":"_xlfn.IFNA(IF(INDEX(VLC!J:J,MATCH(1201+ROW(A6)-1,VLC!V:V,0))=\"x\",_xlfn.IFNA(INDEX(VLC!J:J,MATCH(1201+ROW(A6)-1,VLC!V:V,0)),\"\"),\"\"),\"\")","v":""},{"$f":"_xlfn.IFNA(IF(INDEX(VLC!J:J,MATCH(1241+ROW(A6)-1,VLC!V:V,0))=\"x\",_xlfn.IFNA(INDEX(VLC!J:J,MATCH(1241+ROW(A6)-1,VLC!V:V,0)),\"\"),\"\"),\"\")","v":""},12006,12046]
["SK Teilnehmer 7",{"$f":"_xlfn.IFNA(INDEX(VLC!A:A,MATCH(1207,VLC!V:V,0)),\"\")","v":""},{"$f":"_xlfn.IFNA(INDEX(VLC!A:A,MATCH(1247,VLC!V:V,0)),\"\")","v":""},{"$f":"_xlfn.IFNA(INDEX(VLC!B:B,MATCH(1201+ROW(A7)-1,VLC!V:V,0)),\"\")","v":""},{"$f":"_xlfn.IFNA(INDEX(VLC!C:C,MATCH(1201+ROW(A7)-1,VLC!V:V,0)),\"\")","v":""},{"$f":"_xlfn.IFNA(IF(INDEX(VLC!H:H,MATCH(1201+ROW(A7)-1,VLC!V:V,0))=\"x\",_xlfn.IFNA(INDEX(VLC!H:H,MATCH(1201+ROW(A7)-1,VLC!V:V,0)),\"\"),\"\"),\"\")","v":""},{"$f":"_xlfn.IFNA(IF(INDEX(VLC!H:H,MATCH(1241+ROW(A7)-1,VLC!V:V,0))=\"x\",_xlfn.IFNA(INDEX(VLC!H:H,MATCH(1241+ROW(A7)-1,VLC!V:V,0)),\"\"),\"\"),\"\")","v":""},{"$f":"_xlfn.IFNA(IF(INDEX(VLC!I:I,MATCH(1201+ROW(A7)-1,VLC!V:V,0))<>\"\",_xlfn.IFNA(INDEX(VLC!I:I,MATCH(1201+ROW(A7)-1,VLC!V:V,0)),\"\"),\"\"),\"\")","v":""},{"$f":"_xlfn.IFNA(IF(INDEX(VLC!I:I,MATCH(1241+ROW(A7)-1,VLC!V:V,0))<>\"\",_xlfn.IFNA(INDEX(VLC!I:I,MATCH(1241+ROW(A7)-1,VLC!V:V,0)),\"\"),\"\"),\"\")","v":""},{"$f":"_xlfn.IFNA(IF(INDEX(VLC!J:J,MATCH(1201+ROW(A7)-1,VLC!V:V,0))=\"x\",_xlfn.IFNA(INDEX(VLC!J:J,MATCH(1201+ROW(A7)-1,VLC!V:V,0)),\"\"),\"\"),\"\")","v":""},{"$f":"_xlfn.IFNA(IF(INDEX(VLC!J:J,MATCH(1241+ROW(A7)-1,VLC!V:V,0))=\"x\",_xlfn.IFNA(INDEX(VLC!J:J,MATCH(1241+ROW(A7)-1,VLC!V:V,0)),\"\"),\"\"),\"\")","v":""},12007,12047]
["SK Teilnehmer 8",{"$f":"_xlfn.IFNA(INDEX(VLC!A:A,MATCH(1208,VLC!V:V,0)),\"\")","v":""},{"$f":"_xlfn.IFNA(INDEX(VLC!A:A,MATCH(1248,VLC!V:V,0)),\"\")","v":""},{"$f":"_xlfn.IFNA(INDEX(VLC!B:B,MATCH(1201+ROW(A8)-1,VLC!V:V,0)),\"\")","v":""},{"$f":"_xlfn.IFNA(INDEX(VLC!C:C,MATCH(1201+ROW(A8)-1,VLC!V:V,0)),\"\")","v":""},{"$f":"_xlfn.IFNA(IF(INDEX(VLC!H:H,MATCH(1201+ROW(A8)-1,VLC!V:V,0))=\"x\",_xlfn.IFNA(INDEX(VLC!H:H,MATCH(1201+ROW(A8)-1,VLC!V:V,0)),\"\"),\"\"),\"\")","v":""},{"$f":"_xlfn.IFNA(IF(INDEX(VLC!H:H,MATCH(1241+ROW(A8)-1,VLC!V:V,0))=\"x\",_xlfn.IFNA(INDEX(VLC!H:H,MATCH(1241+ROW(A8)-1,VLC!V:V,0)),\"\"),\"\"),\"\")","v":""},{"$f":"_xlfn.IFNA(IF(INDEX(VLC!I:I,MATCH(1201+ROW(A8)-1,VLC!V:V,0))<>\"\",_xlfn.IFNA(INDEX(VLC!I:I,MATCH(1201+ROW(A8)-1,VLC!V:V,0)),\"\"),\"\"),\"\")","v":""},{"$f":"_xlfn.IFNA(IF(INDEX(VLC!I:I,MATCH(1241+ROW(A8)-1,VLC!V:V,0))<>\"\",_xlfn.IFNA(INDEX(VLC!I:I,MATCH(1241+ROW(A8)-1,VLC!V:V,0)),\"\"),\"\"),\"\")","v":""},{"$f":"_xlfn.IFNA(IF(INDEX(VLC!J:J,MATCH(1201+ROW(A8)-1,VLC!V:V,0))=\"x\",_xlfn.IFNA(INDEX(VLC!J:J,MATCH(1201+ROW(A8)-1,VLC!V:V,0)),\"\"),\"\"),\"\")","v":""},{"$f":"_xlfn.IFNA(IF(INDEX(VLC!J:J,MATCH(1241+ROW(A8)-1,VLC!V:V,0))=\"x\",_xlfn.IFNA(INDEX(VLC!J:J,MATCH(1241+ROW(A8)-1,VLC!V:V,0)),\"\"),\"\"),\"\")","v":""},12008,12048]
["SK Teilnehmer 9",{"$f":"_xlfn.IFNA(INDEX(VLC!A:A,MATCH(1209,VLC!V:V,0)),\"\")","v":""},{"$f":"_xlfn.IFNA(INDEX(VLC!A:A,MATCH(1249,VLC!V:V,0)),\"\")","v":""},{"$f":"_xlfn.IFNA(INDEX(VLC!B:B,MATCH(1201+ROW(A9)-1,VLC!V:V,0)),\"\")","v":""},{"$f":"_xlfn.IFNA(INDEX(VLC!C:C,MATCH(1201+ROW(A9)-1,VLC!V:V,0)),\"\")","v":""},{"$f":"_xlfn.IFNA(IF(INDEX(VLC!H:H,MATCH(1201+ROW(A9)-1,VLC!V:V,0))=\"x\",_xlfn.IFNA(INDEX(VLC!H:H,MATCH(1201+ROW(A9)-1,VLC!V:V,0)),\"\"),\"\"),\"\")","v":""},{"$f":"_xlfn.IFNA(IF(INDEX(VLC!H:H,MATCH(1241+ROW(A9)-1,VLC!V:V,0))=\"x\",_xlfn.IFNA(INDEX(VLC!H:H,MATCH(1241+ROW(A9)-1,VLC!V:V,0)),\"\"),\"\"),\"\")","v":""},{"$f":"_xlfn.IFNA(IF(INDEX(VLC!I:I,MATCH(1201+ROW(A9)-1,VLC!V:V,0))<>\"\",_xlfn.IFNA(INDEX(VLC!I:I,MATCH(1201+ROW(A9)-1,VLC!V:V,0)),\"\"),\"\"),\"\")","v":""},{"$f":"_xlfn.IFNA(IF(INDEX(VLC!I:I,MATCH(1241+ROW(A9)-1,VLC!V:V,0))<>\"\",_xlfn.IFNA(INDEX(VLC!I:I,MATCH(1241+ROW(A9)-1,VLC!V:V,0)),\"\"),\"\"),\"\")","v":""},{"$f":"_xlfn.IFNA(IF(INDEX(VLC!J:J,MATCH(1201+ROW(A9)-1,VLC!V:V,0))=\"x\",_xlfn.IFNA(INDEX(VLC!J:J,MATCH(1201+ROW(A9)-1,VLC!V:V,0)),\"\"),\"\"),\"\")","v":""},{"$f":"_xlfn.IFNA(IF(INDEX(VLC!J:J,MATCH(1241+ROW(A9)-1,VLC!V:V,0))=\"x\",_xlfn.IFNA(INDEX(VLC!J:J,MATCH(1241+ROW(A9)-1,VLC!V:V,0)),\"\"),\"\"),\"\")","v":""},12009,12049]
["SK Teilnehmer 10",{"$f":"_xlfn.IFNA(INDEX(VLC!A:A,MATCH(1210,VLC!V:V,0)),\"\")","v":""},{"$f":"_xlfn.IFNA(INDEX(VLC!A:A,MATCH(1250,VLC!V:V,0)),\"\")","v":""},{"$f":"_xlfn.IFNA(INDEX(VLC!B:B,MATCH(1201+ROW(A10)-1,VLC!V:V,0)),\"\")","v":""},{"$f":"_xlfn.IFNA(INDEX(VLC!C:C,MATCH(1201+ROW(A10)-1,VLC!V:V,0)),\"\")","v":""},{"$f":"_xlfn.IFNA(IF(INDEX(VLC!H:H,MATCH(1201+ROW(A10)-1,VLC!V:V,0))=\"x\",_xlfn.IFNA(INDEX(VLC!H:H,MATCH(1201+ROW(A10)-1,VLC!V:V,0)),\"\"),\"\"),\"\")","v":""},{"$f":"_xlfn.IFNA(IF(INDEX(VLC!H:H,MATCH(1241+ROW(A10)-1,VLC!V:V,0))=\"x\",_xlfn.IFNA(INDEX(VLC!H:H,MATCH(1241+ROW(A10)-1,VLC!V:V,0)),\"\"),\"\"),\"\")","v":""},{"$f":"_xlfn.IFNA(IF(INDEX(VLC!I:I,MATCH(1201+ROW(A10)-1,VLC!V:V,0))<>\"\",_xlfn.IFNA(INDEX(VLC!I:I,MATCH(1201+ROW(A10)-1,VLC!V:V,0)),\"\"),\"\"),\"\")","v":""},{"$f":"_xlfn.IFNA(IF(INDEX(VLC!I:I,MATCH(1241+ROW(A10)-1,VLC!V:V,0))<>\"\",_xlfn.IFNA(INDEX(VLC!I:I,MATCH(1241+ROW(A10)-1,VLC!V:V,0)),\"\"),\"\"),\"\")","v":""},{"$f":"_xlfn.IFNA(IF(INDEX(VLC!J:J,MATCH(1201+ROW(A10)-1,VLC!V:V,0))=\"x\",_xlfn.IFNA(INDEX(VLC!J:J,MATCH(1201+ROW(A10)-1,VLC!V:V,0)),\"\"),\"\"),\"\")","v":""},{"$f":"_xlfn.IFNA(IF(INDEX(VLC!J:J,MATCH(1241+ROW(A10)-1,VLC!V:V,0))=\"x\",_xlfn.IFNA(INDEX(VLC!J:J,MATCH(1241+ROW(A10)-1,VLC!V:V,0)),\"\"),\"\"),\"\")","v":""},12010,12050]
["SK Teilnehmer 11",{"$f":"_xlfn.IFNA(INDEX(VLC!A:A,MATCH(1211,VLC!V:V,0)),\"\")","v":""},{"$f":"_xlfn.IFNA(INDEX(VLC!A:A,MATCH(1251,VLC!V:V,0)),\"\")","v":""},{"$f":"_xlfn.IFNA(INDEX(VLC!B:B,MATCH(1201+ROW(A11)-1,VLC!V:V,0)),\"\")","v":""},{"$f":"_xlfn.IFNA(INDEX(VLC!C:C,MATCH(1201+ROW(A11)-1,VLC!V:V,0)),\"\")","v":""},{"$f":"_xlfn.IFNA(IF(INDEX(VLC!H:H,MATCH(1201+ROW(A11)-1,VLC!V:V,0))=\"x\",_xlfn.IFNA(INDEX(VLC!H:H,MATCH(1201+ROW(A11)-1,VLC!V:V,0)),\"\"),\"\"),\"\")","v":""},{"$f":"_xlfn.IFNA(IF(INDEX(VLC!H:H,MATCH(1241+ROW(A11)-1,VLC!V:V,0))=\"x\",_xlfn.IFNA(INDEX(VLC!H:H,MATCH(1241+ROW(A11)-1,VLC!V:V,0)),\"\"),\"\"),\"\")","v":""},{"$f":"_xlfn.IFNA(IF(INDEX(VLC!I:I,MATCH(1201+ROW(A11)-1,VLC!V:V,0))<>\"\",_xlfn.IFNA(INDEX(VLC!I:I,MATCH(1201+ROW(A11)-1,VLC!V:V,0)),\"\"),\"\"),\"\")","v":""},{"$f":"_xlfn.IFNA(IF(INDEX(VLC!I:I,MATCH(1241+ROW(A11)-1,VLC!V:V,0))<>\"\",_xlfn.IFNA(INDEX(VLC!I:I,MATCH(1241+ROW(A11)-1,VLC!V:V,0)),\"\"),\"\"),\"\")","v":""},{"$f":"_xlfn.IFNA(IF(INDEX(VLC!J:J,MATCH(1201+ROW(A11)-1,VLC!V:V,0))=\"x\",_xlfn.IFNA(INDEX(VLC!J:J,MATCH(1201+ROW(A11)-1,VLC!V:V,0)),\"\"),\"\"),\"\")","v":""},{"$f":"_xlfn.IFNA(IF(INDEX(VLC!J:J,MATCH(1241+ROW(A11)-1,VLC!V:V,0))=\"x\",_xlfn.IFNA(INDEX(VLC!J:J,MATCH(1241+ROW(A11)-1,VLC!V:V,0)),\"\"),\"\"),\"\")","v":""},12011,12051]
["SK Teilnehmer 12",{"$f":"_xlfn.IFNA(INDEX(VLC!A:A,MATCH(1212,VLC!V:V,0)),\"\")","v":""},{"$f":"_xlfn.IFNA(INDEX(VLC!A:A,MATCH(1252,VLC!V:V,0)),\"\")","v":""},{"$f":"_xlfn.IFNA(INDEX(VLC!B:B,MATCH(1201+ROW(A12)-1,VLC!V:V,0)),\"\")","v":""},{"$f":"_xlfn.IFNA(INDEX(VLC!C:C,MATCH(1201+ROW(A12)-1,VLC!V:V,0)),\"\")","v":""},{"$f":"_xlfn.IFNA(IF(INDEX(VLC!H:H,MATCH(1201+ROW(A12)-1,VLC!V:V,0))=\"x\",_xlfn.IFNA(INDEX(VLC!H:H,MATCH(1201+ROW(A12)-1,VLC!V:V,0)),\"\"),\"\"),\"\")","v":""},{"$f":"_xlfn.IFNA(IF(INDEX(VLC!H:H,MATCH(1241+ROW(A12)-1,VLC!V:V,0))=\"x\",_xlfn.IFNA(INDEX(VLC!H:H,MATCH(1241+ROW(A12)-1,VLC!V:V,0)),\"\"),\"\"),\"\")","v":""},{"$f":"_xlfn.IFNA(IF(INDEX(VLC!I:I,MATCH(1201+ROW(A12)-1,VLC!V:V,0))<>\"\",_xlfn.IFNA(INDEX(VLC!I:I,MATCH(1201+ROW(A12)-1,VLC!V:V,0)),\"\"),\"\"),\"\")","v":""},{"$f":"_xlfn.IFNA(IF(INDEX(VLC!I:I,MATCH(1241+ROW(A12)-1,VLC!V:V,0))<>\"\",_xlfn.IFNA(INDEX(VLC!I:I,MATCH(1241+ROW(A12)-1,VLC!V:V,0)),\"\"),\"\"),\"\")","v":""},{"$f":"_xlfn.IFNA(IF(INDEX(VLC!J:J,MATCH(1201+ROW(A12)-1,VLC!V:V,0))=\"x\",_xlfn.IFNA(INDEX(VLC!J:J,MATCH(1201+ROW(A12)-1,VLC!V:V,0)),\"\"),\"\"),\"\")","v":""},{"$f":"_xlfn.IFNA(IF(INDEX(VLC!J:J,MATCH(1241+ROW(A12)-1,VLC!V:V,0))=\"x\",_xlfn.IFNA(INDEX(VLC!J:J,MATCH(1241+ROW(A12)-1,VLC!V:V,0)),\"\"),\"\"),\"\")","v":""},12012,12052]
["SK Teilnehmer 13",{"$f":"_xlfn.IFNA(INDEX(VLC!A:A,MATCH(1213,VLC!V:V,0)),\"\")","v":""},{"$f":"_xlfn.IFNA(INDEX(VLC!A:A,MATCH(1253,VLC!V:V,0)),\"\")","v":""},{"$f":"_xlfn.IFNA(INDEX(VLC!B:B,MATCH(1201+ROW(A13)-1,VLC!V:V,0)),\"\")","v":""},{"$f":"_xlfn.IFNA(INDEX(VLC!C:C,MATCH(1201+ROW(A13)-1,VLC!V:V,0)),\"\")","v":""},{"$f":"_xlfn.IFNA(IF(INDEX(VLC!H:H,MATCH(1201+ROW(A13)-1,VLC!V:V,0))=\"x\",_xlfn.IFNA(INDEX(VLC!H:H,MATCH(1201+ROW(A13)-1,VLC!V:V,0)),\"\"),\"\"),\"\")","v":""},{"$f":"_xlfn.IFNA(IF(INDEX(VLC!H:H,MATCH(1241+ROW(A13)-1,VLC!V:V,0))=\"x\",_xlfn.IFNA(INDEX(VLC!H:H,MATCH(1241+ROW(A13)-1,VLC!V:V,0)),\"\"),\"\"),\"\")","v":""},{"$f":"_xlfn.IFNA(IF(INDEX(VLC!I:I,MATCH(1201+ROW(A13)-1,VLC!V:V,0))<>\"\",_xlfn.IFNA(INDEX(VLC!I:I,MATCH(1201+ROW(A13)-1,VLC!V:V,0)),\"\"),\"\"),\"\")","v":""},{"$f":"_xlfn.IFNA(IF(INDEX(VLC!I:I,MATCH(1241+ROW(A13)-1,VLC!V:V,0))<>\"\",_xlfn.IFNA(INDEX(VLC!I:I,MATCH(1241+ROW(A13)-1,VLC!V:V,0)),\"\"),\"\"),\"\")","v":""},{"$f":"_xlfn.IFNA(IF(INDEX(VLC!J:J,MATCH(1201+ROW(A13)-1,VLC!V:V,0))=\"x\",_xlfn.IFNA(INDEX(VLC!J:J,MATCH(1201+ROW(A13)-1,VLC!V:V,0)),\"\"),\"\"),\"\")","v":""},{"$f":"_xlfn.IFNA(IF(INDEX(VLC!J:J,MATCH(1241+ROW(A13)-1,VLC!V:V,0))=\"x\",_xlfn.IFNA(INDEX(VLC!J:J,MATCH(1241+ROW(A13)-1,VLC!V:V,0)),\"\"),\"\"),\"\")","v":""},12013,12053]
["SK Teilnehmer 14",{"$f":"_xlfn.IFNA(INDEX(VLC!A:A,MATCH(1214,VLC!V:V,0)),\"\")","v":""},{"$f":"_xlfn.IFNA(INDEX(VLC!A:A,MATCH(1254,VLC!V:V,0)),\"\")","v":""},{"$f":"_xlfn.IFNA(INDEX(VLC!B:B,MATCH(1201+ROW(A14)-1,VLC!V:V,0)),\"\")","v":""},{"$f":"_xlfn.IFNA(INDEX(VLC!C:C,MATCH(1201+ROW(A14)-1,VLC!V:V,0)),\"\")","v":""},{"$f":"_xlfn.IFNA(IF(INDEX(VLC!H:H,MATCH(1201+ROW(A14)-1,VLC!V:V,0))=\"x\",_xlfn.IFNA(INDEX(VLC!H:H,MATCH(1201+ROW(A14)-1,VLC!V:V,0)),\"\"),\"\"),\"\")","v":""},{"$f":"_xlfn.IFNA(IF(INDEX(VLC!H:H,MATCH(1241+ROW(A14)-1,VLC!V:V,0))=\"x\",_xlfn.IFNA(INDEX(VLC!H:H,MATCH(1241+ROW(A14)-1,VLC!V:V,0)),\"\"),\"\"),\"\")","v":""},{"$f":"_xlfn.IFNA(IF(INDEX(VLC!I:I,MATCH(1201+ROW(A14)-1,VLC!V:V,0))<>\"\",_xlfn.IFNA(INDEX(VLC!I:I,MATCH(1201+ROW(A14)-1,VLC!V:V,0)),\"\"),\"\"),\"\")","v":""},{"$f":"_xlfn.IFNA(IF(INDEX(VLC!I:I,MATCH(1241+ROW(A14)-1,VLC!V:V,0))<>\"\",_xlfn.IFNA(INDEX(VLC!I:I,MATCH(1241+ROW(A14)-1,VLC!V:V,0)),\"\"),\"\"),\"\")","v":""},{"$f":"_xlfn.IFNA(IF(INDEX(VLC!J:J,MATCH(1201+ROW(A14)-1,VLC!V:V,0))=\"x\",_xlfn.IFNA(INDEX(VLC!J:J,MATCH(1201+ROW(A14)-1,VLC!V:V,0)),\"\"),\"\"),\"\")","v":""},{"$f":"_xlfn.IFNA(IF(INDEX(VLC!J:J,MATCH(1241+ROW(A14)-1,VLC!V:V,0))=\"x\",_xlfn.IFNA(INDEX(VLC!J:J,MATCH(1241+ROW(A14)-1,VLC!V:V,0)),\"\"),\"\"),\"\")","v":""},12014,12054]
["SK Teilnehmer 15",{"$f":"_xlfn.IFNA(INDEX(VLC!A:A,MATCH(1215,VLC!V:V,0)),\"\")","v":""},{"$f":"_xlfn.IFNA(INDEX(VLC!A:A,MATCH(1255,VLC!V:V,0)),\"\")","v":""},{"$f":"_xlfn.IFNA(INDEX(VLC!B:B,MATCH(1201+ROW(A15)-1,VLC!V:V,0)),\"\")","v":""},{"$f":"_xlfn.IFNA(INDEX(VLC!C:C,MATCH(1201+ROW(A15)-1,VLC!V:V,0)),\"\")","v":""},{"$f":"_xlfn.IFNA(IF(INDEX(VLC!H:H,MATCH(1201+ROW(A15)-1,VLC!V:V,0))=\"x\",_xlfn.IFNA(INDEX(VLC!H:H,MATCH(1201+ROW(A15)-1,VLC!V:V,0)),\"\"),\"\"),\"\")","v":""},{"$f":"_xlfn.IFNA(IF(INDEX(VLC!H:H,MATCH(1241+ROW(A15)-1,VLC!V:V,0))=\"x\",_xlfn.IFNA(INDEX(VLC!H:H,MATCH(1241+ROW(A15)-1,VLC!V:V,0)),\"\"),\"\"),\"\")","v":""},{"$f":"_xlfn.IFNA(IF(INDEX(VLC!I:I,MATCH(1201+ROW(A15)-1,VLC!V:V,0))<>\"\",_xlfn.IFNA(INDEX(VLC!I:I,MATCH(1201+ROW(A15)-1,VLC!V:V,0)),\"\"),\"\"),\"\")","v":""},{"$f":"_xlfn.IFNA(IF(INDEX(VLC!I:I,MATCH(1241+ROW(A15)-1,VLC!V:V,0))<>\"\",_xlfn.IFNA(INDEX(VLC!I:I,MATCH(1241+ROW(A15)-1,VLC!V:V,0)),\"\"),\"\"),\"\")","v":""},{"$f":"_xlfn.IFNA(IF(INDEX(VLC!J:J,MATCH(1201+ROW(A15)-1,VLC!V:V,0))=\"x\",_xlfn.IFNA(INDEX(VLC!J:J,MATCH(1201+ROW(A15)-1,VLC!V:V,0)),\"\"),\"\"),\"\")","v":""},{"$f":"_xlfn.IFNA(IF(INDEX(VLC!J:J,MATCH(1241+ROW(A15)-1,VLC!V:V,0))=\"x\",_xlfn.IFNA(INDEX(VLC!J:J,MATCH(1241+ROW(A15)-1,VLC!V:V,0)),\"\"),\"\"),\"\")","v":""},12015,12055]
["SK Teilnehmer 16",{"$f":"_xlfn.IFNA(INDEX(VLC!A:A,MATCH(1216,VLC!V:V,0)),\"\")","v":""},{"$f":"_xlfn.IFNA(INDEX(VLC!A:A,MATCH(1256,VLC!V:V,0)),\"\")","v":""},{"$f":"_xlfn.IFNA(INDEX(VLC!B:B,MATCH(1201+ROW(A16)-1,VLC!V:V,0)),\"\")","v":""},{"$f":"_xlfn.IFNA(INDEX(VLC!C:C,MATCH(1201+ROW(A16)-1,VLC!V:V,0)),\"\")","v":""},{"$f":"_xlfn.IFNA(IF(INDEX(VLC!H:H,MATCH(1201+ROW(A16)-1,VLC!V:V,0))=\"x\",_xlfn.IFNA(INDEX(VLC!H:H,MATCH(1201+ROW(A16)-1,VLC!V:V,0)),\"\"),\"\"),\"\")","v":""},{"$f":"_xlfn.IFNA(IF(INDEX(VLC!H:H,MATCH(1241+ROW(A16)-1,VLC!V:V,0))=\"x\",_xlfn.IFNA(INDEX(VLC!H:H,MATCH(1241+ROW(A16)-1,VLC!V:V,0)),\"\"),\"\"),\"\")","v":""},{"$f":"_xlfn.IFNA(IF(INDEX(VLC!I:I,MATCH(1201+ROW(A16)-1,VLC!V:V,0))<>\"\",_xlfn.IFNA(INDEX(VLC!I:I,MATCH(1201+ROW(A16)-1,VLC!V:V,0)),\"\"),\"\"),\"\")","v":""},{"$f":"_xlfn.IFNA(IF(INDEX(VLC!I:I,MATCH(1241+ROW(A16)-1,VLC!V:V,0))<>\"\",_xlfn.IFNA(INDEX(VLC!I:I,MATCH(1241+ROW(A16)-1,VLC!V:V,0)),\"\"),\"\"),\"\")","v":""},{"$f":"_xlfn.IFNA(IF(INDEX(VLC!J:J,MATCH(1201+ROW(A16)-1,VLC!V:V,0))=\"x\",_xlfn.IFNA(INDEX(VLC!J:J,MATCH(1201+ROW(A16)-1,VLC!V:V,0)),\"\"),\"\"),\"\")","v":""},{"$f":"_xlfn.IFNA(IF(INDEX(VLC!J:J,MATCH(1241+ROW(A16)-1,VLC!V:V,0))=\"x\",_xlfn.IFNA(INDEX(VLC!J:J,MATCH(1241+ROW(A16)-1,VLC!V:V,0)),\"\"),\"\"),\"\")","v":""},12016,12056]
["SK Teilnehmer 17",{"$f":"_xlfn.IFNA(INDEX(VLC!A:A,MATCH(1217,VLC!V:V,0)),\"\")","v":""},{"$f":"_xlfn.IFNA(INDEX(VLC!A:A,MATCH(1257,VLC!V:V,0)),\"\")","v":""},{"$f":"_xlfn.IFNA(INDEX(VLC!B:B,MATCH(1201+ROW(A17)-1,VLC!V:V,0)),\"\")","v":""},{"$f":"_xlfn.IFNA(INDEX(VLC!C:C,MATCH(1201+ROW(A17)-1,VLC!V:V,0)),\"\")","v":""},{"$f":"_xlfn.IFNA(IF(INDEX(VLC!H:H,MATCH(1201+ROW(A17)-1,VLC!V:V,0))=\"x\",_xlfn.IFNA(INDEX(VLC!H:H,MATCH(1201+ROW(A17)-1,VLC!V:V,0)),\"\"),\"\"),\"\")","v":""},{"$f":"_xlfn.IFNA(IF(INDEX(VLC!H:H,MATCH(1241+ROW(A17)-1,VLC!V:V,0))=\"x\",_xlfn.IFNA(INDEX(VLC!H:H,MATCH(1241+ROW(A17)-1,VLC!V:V,0)),\"\"),\"\"),\"\")","v":""},{"$f":"_xlfn.IFNA(IF(INDEX(VLC!I:I,MATCH(1201+ROW(A17)-1,VLC!V:V,0))<>\"\",_xlfn.IFNA(INDEX(VLC!I:I,MATCH(1201+ROW(A17)-1,VLC!V:V,0)),\"\"),\"\"),\"\")","v":""},{"$f":"_xlfn.IFNA(IF(INDEX(VLC!I:I,MATCH(1241+ROW(A17)-1,VLC!V:V,0))<>\"\",_xlfn.IFNA(INDEX(VLC!I:I,MATCH(1241+ROW(A17)-1,VLC!V:V,0)),\"\"),\"\"),\"\")","v":""},{"$f":"_xlfn.IFNA(IF(INDEX(VLC!J:J,MATCH(1201+ROW(A17)-1,VLC!V:V,0))=\"x\",_xlfn.IFNA(INDEX(VLC!J:J,MATCH(1201+ROW(A17)-1,VLC!V:V,0)),\"\"),\"\"),\"\")","v":""},{"$f":"_xlfn.IFNA(IF(INDEX(VLC!J:J,MATCH(1241+ROW(A17)-1,VLC!V:V,0))=\"x\",_xlfn.IFNA(INDEX(VLC!J:J,MATCH(1241+ROW(A17)-1,VLC!V:V,0)),\"\"),\"\"),\"\")","v":""},12017,12057]
["SK Teilnehmer 18",{"$f":"_xlfn.IFNA(INDEX(VLC!A:A,MATCH(1218,VLC!V:V,0)),\"\")","v":""},{"$f":"_xlfn.IFNA(INDEX(VLC!A:A,MATCH(1258,VLC!V:V,0)),\"\")","v":""},{"$f":"_xlfn.IFNA(INDEX(VLC!B:B,MATCH(1201+ROW(A18)-1,VLC!V:V,0)),\"\")","v":""},{"$f":"_xlfn.IFNA(INDEX(VLC!C:C,MATCH(1201+ROW(A18)-1,VLC!V:V,0)),\"\")","v":""},{"$f":"_xlfn.IFNA(IF(INDEX(VLC!H:H,MATCH(1201+ROW(A18)-1,VLC!V:V,0))=\"x\",_xlfn.IFNA(INDEX(VLC!H:H,MATCH(1201+ROW(A18)-1,VLC!V:V,0)),\"\"),\"\"),\"\")","v":""},{"$f":"_xlfn.IFNA(IF(INDEX(VLC!H:H,MATCH(1241+ROW(A18)-1,VLC!V:V,0))=\"x\",_xlfn.IFNA(INDEX(VLC!H:H,MATCH(1241+ROW(A18)-1,VLC!V:V,0)),\"\"),\"\"),\"\")","v":""},{"$f":"_xlfn.IFNA(IF(INDEX(VLC!I:I,MATCH(1201+ROW(A18)-1,VLC!V:V,0))<>\"\",_xlfn.IFNA(INDEX(VLC!I:I,MATCH(1201+ROW(A18)-1,VLC!V:V,0)),\"\"),\"\"),\"\")","v":""},{"$f":"_xlfn.IFNA(IF(INDEX(VLC!I:I,MATCH(1241+ROW(A18)-1,VLC!V:V,0))<>\"\",_xlfn.IFNA(INDEX(VLC!I:I,MATCH(1241+ROW(A18)-1,VLC!V:V,0)),\"\"),\"\"),\"\")","v":""},{"$f":"_xlfn.IFNA(IF(INDEX(VLC!J:J,MATCH(1201+ROW(A18)-1,VLC!V:V,0))=\"x\",_xlfn.IFNA(INDEX(VLC!J:J,MATCH(1201+ROW(A18)-1,VLC!V:V,0)),\"\"),\"\"),\"\")","v":""},{"$f":"_xlfn.IFNA(IF(INDEX(VLC!J:J,MATCH(1241+ROW(A18)-1,VLC!V:V,0))=\"x\",_xlfn.IFNA(INDEX(VLC!J:J,MATCH(1241+ROW(A18)-1,VLC!V:V,0)),\"\"),\"\"),\"\")","v":""},12018,12058]
["SK Teilnehmer 19",{"$f":"_xlfn.IFNA(INDEX(VLC!A:A,MATCH(1219,VLC!V:V,0)),\"\")","v":""},{"$f":"_xlfn.IFNA(INDEX(VLC!A:A,MATCH(1259,VLC!V:V,0)),\"\")","v":""},{"$f":"_xlfn.IFNA(INDEX(VLC!B:B,MATCH(1201+ROW(A19)-1,VLC!V:V,0)),\"\")","v":""},{"$f":"_xlfn.IFNA(INDEX(VLC!C:C,MATCH(1201+ROW(A19)-1,VLC!V:V,0)),\"\")","v":""},{"$f":"_xlfn.IFNA(IF(INDEX(VLC!H:H,MATCH(1201+ROW(A19)-1,VLC!V:V,0))=\"x\",_xlfn.IFNA(INDEX(VLC!H:H,MATCH(1201+ROW(A19)-1,VLC!V:V,0)),\"\"),\"\"),\"\")","v":""},{"$f":"_xlfn.IFNA(IF(INDEX(VLC!H:H,MATCH(1241+ROW(A19)-1,VLC!V:V,0))=\"x\",_xlfn.IFNA(INDEX(VLC!H:H,MATCH(1241+ROW(A19)-1,VLC!V:V,0)),\"\"),\"\"),\"\")","v":""},{"$f":"_xlfn.IFNA(IF(INDEX(VLC!I:I,MATCH(1201+ROW(A19)-1,VLC!V:V,0))<>\"\",_xlfn.IFNA(INDEX(VLC!I:I,MATCH(1201+ROW(A19)-1,VLC!V:V,0)),\"\"),\"\"),\"\")","v":""},{"$f":"_xlfn.IFNA(IF(INDEX(VLC!I:I,MATCH(1241+ROW(A19)-1,VLC!V:V,0))<>\"\",_xlfn.IFNA(INDEX(VLC!I:I,MATCH(1241+ROW(A19)-1,VLC!V:V,0)),\"\"),\"\"),\"\")","v":""},{"$f":"_xlfn.IFNA(IF(INDEX(VLC!J:J,MATCH(1201+ROW(A19)-1,VLC!V:V,0))=\"x\",_xlfn.IFNA(INDEX(VLC!J:J,MATCH(1201+ROW(A19)-1,VLC!V:V,0)),\"\"),\"\"),\"\")","v":""},{"$f":"_xlfn.IFNA(IF(INDEX(VLC!J:J,MATCH(1241+ROW(A19)-1,VLC!V:V,0))=\"x\",_xlfn.IFNA(INDEX(VLC!J:J,MATCH(1241+ROW(A19)-1,VLC!V:V,0)),\"\"),\"\"),\"\")","v":""},12019,12059]
["SK Teilnehmer 20",{"$f":"_xlfn.IFNA(INDEX(VLC!A:A,MATCH(1220,VLC!V:V,0)),\"\")","v":""},{"$f":"_xlfn.IFNA(INDEX(VLC!A:A,MATCH(1260,VLC!V:V,0)),\"\")","v":""},{"$f":"_xlfn.IFNA(INDEX(VLC!B:B,MATCH(1201+ROW(A20)-1,VLC!V:V,0)),\"\")","v":""},{"$f":"_xlfn.IFNA(INDEX(VLC!C:C,MATCH(1201+ROW(A20)-1,VLC!V:V,0)),\"\")","v":""},{"$f":"_xlfn.IFNA(IF(INDEX(VLC!H:H,MATCH(1201+ROW(A20)-1,VLC!V:V,0))=\"x\",_xlfn.IFNA(INDEX(VLC!H:H,MATCH(1201+ROW(A20)-1,VLC!V:V,0)),\"\"),\"\"),\"\")","v":""},{"$f":"_xlfn.IFNA(IF(INDEX(VLC!H:H,MATCH(1241+ROW(A20)-1,VLC!V:V,0))=\"x\",_xlfn.IFNA(INDEX(VLC!H:H,MATCH(1241+ROW(A20)-1,VLC!V:V,0)),\"\"),\"\"),\"\")","v":""},{"$f":"_xlfn.IFNA(IF(INDEX(VLC!I:I,MATCH(1201+ROW(A20)-1,VLC!V:V,0))<>\"\",_xlfn.IFNA(INDEX(VLC!I:I,MATCH(1201+ROW(A20)-1,VLC!V:V,0)),\"\"),\"\"),\"\")","v":""},{"$f":"_xlfn.IFNA(IF(INDEX(VLC!I:I,MATCH(1241+ROW(A20)-1,VLC!V:V,0))<>\"\",_xlfn.IFNA(INDEX(VLC!I:I,MATCH(1241+ROW(A20)-1,VLC!V:V,0)),\"\"),\"\"),\"\")","v":""},{"$f":"_xlfn.IFNA(IF(INDEX(VLC!J:J,MATCH(1201+ROW(A20)-1,VLC!V:V,0))=\"x\",_xlfn.IFNA(INDEX(VLC!J:J,MATCH(1201+ROW(A20)-1,VLC!V:V,0)),\"\"),\"\"),\"\")","v":""},{"$f":"_xlfn.IFNA(IF(INDEX(VLC!J:J,MATCH(1241+ROW(A20)-1,VLC!V:V,0))=\"x\",_xlfn.IFNA(INDEX(VLC!J:J,MATCH(1241+ROW(A20)-1,VLC!V:V,0)),\"\"),\"\"),\"\")","v":""},12020,12060]
["Gerätename:",{"$f":"$B$6","v":0},null,null,"PLC24 Stromkreis-Nummer: 13"]
["Stromkreis-Bezeichnung:"]
["Stromkreisbelegung","ID 1","ID 2","Bezeichnung","Zusatzinfo","DL",null,"GL",null,"BL"]
[null,null,null,null,null,"ID1","ID2","ID1","ID2","ID1","ID2"]
["SK Teilnehmer 1",{"$f":"_xlfn.IFNA(INDEX(VLC!A:A,MATCH(1301,VLC!V:V,0)),\"\")","v":""},{"$f":"_xlfn.IFNA(INDEX(VLC!A:A,MATCH(1341,VLC!V:V,0)),\"\")","v":""},{"$f":"_xlfn.IFNA(INDEX(VLC!B:B,MATCH(1301+ROW(A1)-1,VLC!V:V,0)),\"\")","v":""},{"$f":"_xlfn.IFNA(INDEX(VLC!C:C,MATCH(1301+ROW(A1)-1,VLC!V:V,0)),\"\")","v":""},{"$f":"_xlfn.IFNA(IF(INDEX(VLC!H:H,MATCH(1301+ROW(A1)-1,VLC!V:V,0))=\"x\",_xlfn.IFNA(INDEX(VLC!H:H,MATCH(1301+ROW(A1)-1,VLC!V:V,0)),\"\"),\"\"),\"\")","v":""},{"$f":"_xlfn.IFNA(IF(INDEX(VLC!H:H,MATCH(1341+ROW(A1)-1,VLC!V:V,0))=\"x\",_xlfn.IFNA(INDEX(VLC!H:H,MATCH(1341+ROW(A1)-1,VLC!V:V,0)),\"\"),\"\"),\"\")","v":""},{"$f":"_xlfn.IFNA(IF(INDEX(VLC!I:I,MATCH(1301+ROW(A1)-1,VLC!V:V,0))<>\"\",_xlfn.IFNA(INDEX(VLC!I:I,MATCH(1301+ROW(A1)-1,VLC!V:V,0)),\"\"),\"\"),\"\")","v":""},{"$f":"_xlfn.IFNA(IF(INDEX(VLC!I:I,MATCH(1341+ROW(A1)-1,VLC!V:V,0))<>\"\",_xlfn.IFNA(INDEX(VLC!I:I,MATCH(1341+ROW(A1)-1,VLC!V:V,0)),\"\"),\"\"),\"\")","v":""},{"$f":"_xlfn.IFNA(IF(INDEX(VLC!J:J,MATCH(1301+ROW(A1)-1,VLC!V:V,0))=\"x\",_xlfn.IFNA(INDEX(VLC!J:J,MATCH(1301+ROW(A1)-1,VLC!V:V,0)),\"\"),\"\"),\"\")","v":""},{"$f":"_xlfn.IFNA(IF(INDEX(VLC!J:J,MATCH(1341+ROW(A1)-1,VLC!V:V,0))=\"x\",_xlfn.IFNA(INDEX(VLC!J:J,MATCH(1341+ROW(A1)-1,VLC!V:V,0)),\"\"),\"\"),\"\")","v":""},{"$f":"13000+ROW(A298)-297","v":13001},{"$f":"L298+40","v":13041}]
["SK Teilnehmer 2",{"$f":"_xlfn.IFNA(INDEX(VLC!A:A,MATCH(1302,VLC!V:V,0)),\"\")","v":""},{"$f":"_xlfn.IFNA(INDEX(VLC!A:A,MATCH(1342,VLC!V:V,0)),\"\")","v":""},{"$f":"_xlfn.IFNA(INDEX(VLC!B:B,MATCH(1301+ROW(A2)-1,VLC!V:V,0)),\"\")","v":""},{"$f":"_xlfn.IFNA(INDEX(VLC!C:C,MATCH(1301+ROW(A2)-1,VLC!V:V,0)),\"\")","v":""},{"$f":"_xlfn.IFNA(IF(INDEX(VLC!H:H,MATCH(1301+ROW(A2)-1,VLC!V:V,0))=\"x\",_xlfn.IFNA(INDEX(VLC!H:H,MATCH(1301+ROW(A2)-1,VLC!V:V,0)),\"\"),\"\"),\"\")","v":""},{"$f":"_xlfn.IFNA(IF(INDEX(VLC!H:H,MATCH(1341+ROW(A2)-1,VLC!V:V,0))=\"x\",_xlfn.IFNA(INDEX(VLC!H:H,MATCH(1341+ROW(A2)-1,VLC!V:V,0)),\"\"),\"\"),\"\")","v":""},{"$f":"_xlfn.IFNA(IF(INDEX(VLC!I:I,MATCH(1301+ROW(A2)-1,VLC!V:V,0))<>\"\",_xlfn.IFNA(INDEX(VLC!I:I,MATCH(1301+ROW(A2)-1,VLC!V:V,0)),\"\"),\"\"),\"\")","v":""},{"$f":"_xlfn.IFNA(IF(INDEX(VLC!I:I,MATCH(1341+ROW(A2)-1,VLC!V:V,0))<>\"\",_xlfn.IFNA(INDEX(VLC!I:I,MATCH(1341+ROW(A2)-1,VLC!V:V,0)),\"\"),\"\"),\"\")","v":""},{"$f":"_xlfn.IFNA(IF(INDEX(VLC!J:J,MATCH(1301+ROW(A2)-1,VLC!V:V,0))=\"x\",_xlfn.IFNA(INDEX(VLC!J:J,MATCH(1301+ROW(A2)-1,VLC!V:V,0)),\"\"),\"\"),\"\")","v":""},{"$f":"_xlfn.IFNA(IF(INDEX(VLC!J:J,MATCH(1341+ROW(A2)-1,VLC!V:V,0))=\"x\",_xlfn.IFNA(INDEX(VLC!J:J,MATCH(1341+ROW(A2)-1,VLC!V:V,0)),\"\"),\"\"),\"\")","v":""},{"$f":"13000+ROW(A299)-297","v":13002},{"$f":"L299+40","v":13042}]
["SK Teilnehmer 3",{"$f":"_xlfn.IFNA(INDEX(VLC!A:A,MATCH(1303,VLC!V:V,0)),\"\")","v":""},{"$f":"_xlfn.IFNA(INDEX(VLC!A:A,MATCH(1343,VLC!V:V,0)),\"\")","v":""},{"$f":"_xlfn.IFNA(INDEX(VLC!B:B,MATCH(1301+ROW(A3)-1,VLC!V:V,0)),\"\")","v":""},{"$f":"_xlfn.IFNA(INDEX(VLC!C:C,MATCH(1301+ROW(A3)-1,VLC!V:V,0)),\"\")","v":""},{"$f":"_xlfn.IFNA(IF(INDEX(VLC!H:H,MATCH(1301+ROW(A3)-1,VLC!V:V,0))=\"x\",_xlfn.IFNA(INDEX(VLC!H:H,MATCH(1301+ROW(A3)-1,VLC!V:V,0)),\"\"),\"\"),\"\")","v":""},{"$f":"_xlfn.IFNA(IF(INDEX(VLC!H:H,MATCH(1341+ROW(A3)-1,VLC!V:V,0))=\"x\",_xlfn.IFNA(INDEX(VLC!H:H,MATCH(1341+ROW(A3)-1,VLC!V:V,0)),\"\"),\"\"),\"\")","v":""},{"$f":"_xlfn.IFNA(IF(INDEX(VLC!I:I,MATCH(1301+ROW(A3)-1,VLC!V:V,0))<>\"\",_xlfn.IFNA(INDEX(VLC!I:I,MATCH(1301+ROW(A3)-1,VLC!V:V,0)),\"\"),\"\"),\"\")","v":""},{"$f":"_xlfn.IFNA(IF(INDEX(VLC!I:I,MATCH(1341+ROW(A3)-1,VLC!V:V,0))<>\"\",_xlfn.IFNA(INDEX(VLC!I:I,MATCH(1341+ROW(A3)-1,VLC!V:V,0)),\"\"),\"\"),\"\")","v":""},{"$f":"_xlfn.IFNA(IF(INDEX(VLC!J:J,MATCH(1301+ROW(A3)-1,VLC!V:V,0))=\"x\",_xlfn.IFNA(INDEX(VLC!J:J,MATCH(1301+ROW(A3)-1,VLC!V:V,0)),\"\"),\"\"),\"\")","v":""},{"$f":"_xlfn.IFNA(IF(INDEX(VLC!J:J,MATCH(1341+ROW(A3)-1,VLC!V:V,0))=\"x\",_xlfn.IFNA(INDEX(VLC!J:J,MATCH(1341+ROW(A3)-1,VLC!V:V,0)),\"\"),\"\"),\"\")","v":""},13003,13043]
["SK Teilnehmer 4",{"$f":"_xlfn.IFNA(INDEX(VLC!A:A,MATCH(1304,VLC!V:V,0)),\"\")","v":""},{"$f":"_xlfn.IFNA(INDEX(VLC!A:A,MATCH(1344,VLC!V:V,0)),\"\")","v":""},{"$f":"_xlfn.IFNA(INDEX(VLC!B:B,MATCH(1301+ROW(A4)-1,VLC!V:V,0)),\"\")","v":""},{"$f":"_xlfn.IFNA(INDEX(VLC!C:C,MATCH(1301+ROW(A4)-1,VLC!V:V,0)),\"\")","v":""},{"$f":"_xlfn.IFNA(IF(INDEX(VLC!H:H,MATCH(1301+ROW(A4)-1,VLC!V:V,0))=\"x\",_xlfn.IFNA(INDEX(VLC!H:H,MATCH(1301+ROW(A4)-1,VLC!V:V,0)),\"\"),\"\"),\"\")","v":""},{"$f":"_xlfn.IFNA(IF(INDEX(VLC!H:H,MATCH(1341+ROW(A4)-1,VLC!V:V,0))=\"x\",_xlfn.IFNA(INDEX(VLC!H:H,MATCH(1341+ROW(A4)-1,VLC!V:V,0)),\"\"),\"\"),\"\")","v":""},{"$f":"_xlfn.IFNA(IF(INDEX(VLC!I:I,MATCH(1301+ROW(A4)-1,VLC!V:V,0))<>\"\",_xlfn.IFNA(INDEX(VLC!I:I,MATCH(1301+ROW(A4)-1,VLC!V:V,0)),\"\"),\"\"),\"\")","v":""},{"$f":"_xlfn.IFNA(IF(INDEX(VLC!I:I,MATCH(1341+ROW(A4)-1,VLC!V:V,0))<>\"\",_xlfn.IFNA(INDEX(VLC!I:I,MATCH(1341+ROW(A4)-1,VLC!V:V,0)),\"\"),\"\"),\"\")","v":""},{"$f":"_xlfn.IFNA(IF(INDEX(VLC!J:J,MATCH(1301+ROW(A4)-1,VLC!V:V,0))=\"x\",_xlfn.IFNA(INDEX(VLC!J:J,MATCH(1301+ROW(A4)-1,VLC!V:V,0)),\"\"),\"\"),\"\")","v":""},{"$f":"_xlfn.IFNA(IF(INDEX(VLC!J:J,MATCH(1341+ROW(A4)-1,VLC!V:V,0))=\"x\",_xlfn.IFNA(INDEX(VLC!J:J,MATCH(1341+ROW(A4)-1,VLC!V:V,0)),\"\"),\"\"),\"\")","v":""},13004,13044]
["SK Teilnehmer 5",{"$f":"_xlfn.IFNA(INDEX(VLC!A:A,MATCH(1305,VLC!V:V,0)),\"\")","v":""},{"$f":"_xlfn.IFNA(INDEX(VLC!A:A,MATCH(1345,VLC!V:V,0)),\"\")","v":""},{"$f":"_xlfn.IFNA(INDEX(VLC!B:B,MATCH(1301+ROW(A5)-1,VLC!V:V,0)),\"\")","v":""},{"$f":"_xlfn.IFNA(INDEX(VLC!C:C,MATCH(1301+ROW(A5)-1,VLC!V:V,0)),\"\")","v":""},{"$f":"_xlfn.IFNA(IF(INDEX(VLC!H:H,MATCH(1301+ROW(A5)-1,VLC!V:V,0))=\"x\",_xlfn.IFNA(INDEX(VLC!H:H,MATCH(1301+ROW(A5)-1,VLC!V:V,0)),\"\"),\"\"),\"\")","v":""},{"$f":"_xlfn.IFNA(IF(INDEX(VLC!H:H,MATCH(1341+ROW(A5)-1,VLC!V:V,0))=\"x\",_xlfn.IFNA(INDEX(VLC!H:H,MATCH(1341+ROW(A5)-1,VLC!V:V,0)),\"\"),\"\"),\"\")","v":""},{"$f":"_xlfn.IFNA(IF(INDEX(VLC!I:I,MATCH(1301+ROW(A5)-1,VLC!V:V,0))<>\"\",_xlfn.IFNA(INDEX(VLC!I:I,MATCH(1301+ROW(A5)-1,VLC!V:V,0)),\"\"),\"\"),\"\")","v":""},{"$f":"_xlfn.IFNA(IF(INDEX(VLC!I:I,MATCH(1341+ROW(A5)-1,VLC!V:V,0))<>\"\",_xlfn.IFNA(INDEX(VLC!I:I,MATCH(1341+ROW(A5)-1,VLC!V:V,0)),\"\"),\"\"),\"\")","v":""},{"$f":"_xlfn.IFNA(IF(INDEX(VLC!J:J,MATCH(1301+ROW(A5)-1,VLC!V:V,0))=\"x\",_xlfn.IFNA(INDEX(VLC!J:J,MATCH(1301+ROW(A5)-1,VLC!V:V,0)),\"\"),\"\"),\"\")","v":""},{"$f":"_xlfn.IFNA(IF(INDEX(VLC!J:J,MATCH(1341+ROW(A5)-1,VLC!V:V,0))=\"x\",_xlfn.IFNA(INDEX(VLC!J:J,MATCH(1341+ROW(A5)-1,VLC!V:V,0)),\"\"),\"\"),\"\")","v":""},13005,13045]
["SK Teilnehmer 6",{"$f":"_xlfn.IFNA(INDEX(VLC!A:A,MATCH(1306,VLC!V:V,0)),\"\")","v":""},{"$f":"_xlfn.IFNA(INDEX(VLC!A:A,MATCH(1346,VLC!V:V,0)),\"\")","v":""},{"$f":"_xlfn.IFNA(INDEX(VLC!B:B,MATCH(1301+ROW(A6)-1,VLC!V:V,0)),\"\")","v":""},{"$f":"_xlfn.IFNA(INDEX(VLC!C:C,MATCH(1301+ROW(A6)-1,VLC!V:V,0)),\"\")","v":""},{"$f":"_xlfn.IFNA(IF(INDEX(VLC!H:H,MATCH(1301+ROW(A6)-1,VLC!V:V,0))=\"x\",_xlfn.IFNA(INDEX(VLC!H:H,MATCH(1301+ROW(A6)-1,VLC!V:V,0)),\"\"),\"\"),\"\")","v":""},{"$f":"_xlfn.IFNA(IF(INDEX(VLC!H:H,MATCH(1341+ROW(A6)-1,VLC!V:V,0))=\"x\",_xlfn.IFNA(INDEX(VLC!H:H,MATCH(1341+ROW(A6)-1,VLC!V:V,0)),\"\"),\"\"),\"\")","v":""},{"$f":"_xlfn.IFNA(IF(INDEX(VLC!I:I,MATCH(1301+ROW(A6)-1,VLC!V:V,0))<>\"\",_xlfn.IFNA(INDEX(VLC!I:I,MATCH(1301+ROW(A6)-1,VLC!V:V,0)),\"\"),\"\"),\"\")","v":""},{"$f":"_xlfn.IFNA(IF(INDEX(VLC!I:I,MATCH(1341+ROW(A6)-1,VLC!V:V,0))<>\"\",_xlfn.IFNA(INDEX(VLC!I:I,MATCH(1341+ROW(A6)-1,VLC!V:V,0)),\"\"),\"\"),\"\")","v":""},{"$f":"_xlfn.IFNA(IF(INDEX(VLC!J:J,MATCH(1301+ROW(A6)-1,VLC!V:V,0))=\"x\",_xlfn.IFNA(INDEX(VLC!J:J,MATCH(1301+ROW(A6)-1,VLC!V:V,0)),\"\"),\"\"),\"\")","v":""},{"$f":"_xlfn.IFNA(IF(INDEX(VLC!J:J,MATCH(1341+ROW(A6)-1,VLC!V:V,0))=\"x\",_xlfn.IFNA(INDEX(VLC!J:J,MATCH(1341+ROW(A6)-1,VLC!V:V,0)),\"\"),\"\"),\"\")","v":""},13006,13046]
["SK Teilnehmer 7",{"$f":"_xlfn.IFNA(INDEX(VLC!A:A,MATCH(1307,VLC!V:V,0)),\"\")","v":""},{"$f":"_xlfn.IFNA(INDEX(VLC!A:A,MATCH(1347,VLC!V:V,0)),\"\")","v":""},{"$f":"_xlfn.IFNA(INDEX(VLC!B:B,MATCH(1301+ROW(A7)-1,VLC!V:V,0)),\"\")","v":""},{"$f":"_xlfn.IFNA(INDEX(VLC!C:C,MATCH(1301+ROW(A7)-1,VLC!V:V,0)),\"\")","v":""},{"$f":"_xlfn.IFNA(IF(INDEX(VLC!H:H,MATCH(1301+ROW(A7)-1,VLC!V:V,0))=\"x\",_xlfn.IFNA(INDEX(VLC!H:H,MATCH(1301+ROW(A7)-1,VLC!V:V,0)),\"\"),\"\"),\"\")","v":""},{"$f":"_xlfn.IFNA(IF(INDEX(VLC!H:H,MATCH(1341+ROW(A7)-1,VLC!V:V,0))=\"x\",_xlfn.IFNA(INDEX(VLC!H:H,MATCH(1341+ROW(A7)-1,VLC!V:V,0)),\"\"),\"\"),\"\")","v":""},{"$f":"_xlfn.IFNA(IF(INDEX(VLC!I:I,MATCH(1301+ROW(A7)-1,VLC!V:V,0))<>\"\",_xlfn.IFNA(INDEX(VLC!I:I,MATCH(1301+ROW(A7)-1,VLC!V:V,0)),\"\"),\"\"),\"\")","v":""},{"$f":"_xlfn.IFNA(IF(INDEX(VLC!I:I,MATCH(1341+ROW(A7)-1,VLC!V:V,0))<>\"\",_xlfn.IFNA(INDEX(VLC!I:I,MATCH(1341+ROW(A7)-1,VLC!V:V,0)),\"\"),\"\"),\"\")","v":""},{"$f":"_xlfn.IFNA(IF(INDEX(VLC!J:J,MATCH(1301+ROW(A7)-1,VLC!V:V,0))=\"x\",_xlfn.IFNA(INDEX(VLC!J:J,MATCH(1301+ROW(A7)-1,VLC!V:V,0)),\"\"),\"\"),\"\")","v":""},{"$f":"_xlfn.IFNA(IF(INDEX(VLC!J:J,MATCH(1341+ROW(A7)-1,VLC!V:V,0))=\"x\",_xlfn.IFNA(INDEX(VLC!J:J,MATCH(1341+ROW(A7)-1,VLC!V:V,0)),\"\"),\"\"),\"\")","v":""},13007,13047]
["SK Teilnehmer 8",{"$f":"_xlfn.IFNA(INDEX(VLC!A:A,MATCH(1308,VLC!V:V,0)),\"\")","v":""},{"$f":"_xlfn.IFNA(INDEX(VLC!A:A,MATCH(1348,VLC!V:V,0)),\"\")","v":""},{"$f":"_xlfn.IFNA(INDEX(VLC!B:B,MATCH(1301+ROW(A8)-1,VLC!V:V,0)),\"\")","v":""},{"$f":"_xlfn.IFNA(INDEX(VLC!C:C,MATCH(1301+ROW(A8)-1,VLC!V:V,0)),\"\")","v":""},{"$f":"_xlfn.IFNA(IF(INDEX(VLC!H:H,MATCH(1301+ROW(A8)-1,VLC!V:V,0))=\"x\",_xlfn.IFNA(INDEX(VLC!H:H,MATCH(1301+ROW(A8)-1,VLC!V:V,0)),\"\"),\"\"),\"\")","v":""},{"$f":"_xlfn.IFNA(IF(INDEX(VLC!H:H,MATCH(1341+ROW(A8)-1,VLC!V:V,0))=\"x\",_xlfn.IFNA(INDEX(VLC!H:H,MATCH(1341+ROW(A8)-1,VLC!V:V,0)),\"\"),\"\"),\"\")","v":""},{"$f":"_xlfn.IFNA(IF(INDEX(VLC!I:I,MATCH(1301+ROW(A8)-1,VLC!V:V,0))<>\"\",_xlfn.IFNA(INDEX(VLC!I:I,MATCH(1301+ROW(A8)-1,VLC!V:V,0)),\"\"),\"\"),\"\")","v":""},{"$f":"_xlfn.IFNA(IF(INDEX(VLC!I:I,MATCH(1341+ROW(A8)-1,VLC!V:V,0))<>\"\",_xlfn.IFNA(INDEX(VLC!I:I,MATCH(1341+ROW(A8)-1,VLC!V:V,0)),\"\"),\"\"),\"\")","v":""},{"$f":"_xlfn.IFNA(IF(INDEX(VLC!J:J,MATCH(1301+ROW(A8)-1,VLC!V:V,0))=\"x\",_xlfn.IFNA(INDEX(VLC!J:J,MATCH(1301+ROW(A8)-1,VLC!V:V,0)),\"\"),\"\"),\"\")","v":""},{"$f":"_xlfn.IFNA(IF(INDEX(VLC!J:J,MATCH(1341+ROW(A8)-1,VLC!V:V,0))=\"x\",_xlfn.IFNA(INDEX(VLC!J:J,MATCH(1341+ROW(A8)-1,VLC!V:V,0)),\"\"),\"\"),\"\")","v":""},13008,13048]
["SK Teilnehmer 9",{"$f":"_xlfn.IFNA(INDEX(VLC!A:A,MATCH(1309,VLC!V:V,0)),\"\")","v":""},{"$f":"_xlfn.IFNA(INDEX(VLC!A:A,MATCH(1349,VLC!V:V,0)),\"\")","v":""},{"$f":"_xlfn.IFNA(INDEX(VLC!B:B,MATCH(1301+ROW(A9)-1,VLC!V:V,0)),\"\")","v":""},{"$f":"_xlfn.IFNA(INDEX(VLC!C:C,MATCH(1301+ROW(A9)-1,VLC!V:V,0)),\"\")","v":""},{"$f":"_xlfn.IFNA(IF(INDEX(VLC!H:H,MATCH(1301+ROW(A9)-1,VLC!V:V,0))=\"x\",_xlfn.IFNA(INDEX(VLC!H:H,MATCH(1301+ROW(A9)-1,VLC!V:V,0)),\"\"),\"\"),\"\")","v":""},{"$f":"_xlfn.IFNA(IF(INDEX(VLC!H:H,MATCH(1341+ROW(A9)-1,VLC!V:V,0))=\"x\",_xlfn.IFNA(INDEX(VLC!H:H,MATCH(1341+ROW(A9)-1,VLC!V:V,0)),\"\"),\"\"),\"\")","v":""},{"$f":"_xlfn.IFNA(IF(INDEX(VLC!I:I,MATCH(1301+ROW(A9)-1,VLC!V:V,0))<>\"\",_xlfn.IFNA(INDEX(VLC!I:I,MATCH(1301+ROW(A9)-1,VLC!V:V,0)),\"\"),\"\"),\"\")","v":""},{"$f":"_xlfn.IFNA(IF(INDEX(VLC!I:I,MATCH(1341+ROW(A9)-1,VLC!V:V,0))<>\"\",_xlfn.IFNA(INDEX(VLC!I:I,MATCH(1341+ROW(A9)-1,VLC!V:V,0)),\"\"),\"\"),\"\")","v":""},{"$f":"_xlfn.IFNA(IF(INDEX(VLC!J:J,MATCH(1301+ROW(A9)-1,VLC!V:V,0))=\"x\",_xlfn.IFNA(INDEX(VLC!J:J,MATCH(1301+ROW(A9)-1,VLC!V:V,0)),\"\"),\"\"),\"\")","v":""},{"$f":"_xlfn.IFNA(IF(INDEX(VLC!J:J,MATCH(1341+ROW(A9)-1,VLC!V:V,0))=\"x\",_xlfn.IFNA(INDEX(VLC!J:J,MATCH(1341+ROW(A9)-1,VLC!V:V,0)),\"\"),\"\"),\"\")","v":""},13009,13049]
["SK Teilnehmer 10",{"$f":"_xlfn.IFNA(INDEX(VLC!A:A,MATCH(1310,VLC!V:V,0)),\"\")","v":""},{"$f":"_xlfn.IFNA(INDEX(VLC!A:A,MATCH(1350,VLC!V:V,0)),\"\")","v":""},{"$f":"_xlfn.IFNA(INDEX(VLC!B:B,MATCH(1301+ROW(A10)-1,VLC!V:V,0)),\"\")","v":""},{"$f":"_xlfn.IFNA(INDEX(VLC!C:C,MATCH(1301+ROW(A10)-1,VLC!V:V,0)),\"\")","v":""},{"$f":"_xlfn.IFNA(IF(INDEX(VLC!H:H,MATCH(1301+ROW(A10)-1,VLC!V:V,0))=\"x\",_xlfn.IFNA(INDEX(VLC!H:H,MATCH(1301+ROW(A10)-1,VLC!V:V,0)),\"\"),\"\"),\"\")","v":""},{"$f":"_xlfn.IFNA(IF(INDEX(VLC!H:H,MATCH(1341+ROW(A10)-1,VLC!V:V,0))=\"x\",_xlfn.IFNA(INDEX(VLC!H:H,MATCH(1341+ROW(A10)-1,VLC!V:V,0)),\"\"),\"\"),\"\")","v":""},{"$f":"_xlfn.IFNA(IF(INDEX(VLC!I:I,MATCH(1301+ROW(A10)-1,VLC!V:V,0))<>\"\",_xlfn.IFNA(INDEX(VLC!I:I,MATCH(1301+ROW(A10)-1,VLC!V:V,0)),\"\"),\"\"),\"\")","v":""},{"$f":"_xlfn.IFNA(IF(INDEX(VLC!I:I,MATCH(1341+ROW(A10)-1,VLC!V:V,0))<>\"\",_xlfn.IFNA(INDEX(VLC!I:I,MATCH(1341+ROW(A10)-1,VLC!V:V,0)),\"\"),\"\"),\"\")","v":""},{"$f":"_xlfn.IFNA(IF(INDEX(VLC!J:J,MATCH(1301+ROW(A10)-1,VLC!V:V,0))=\"x\",_xlfn.IFNA(INDEX(VLC!J:J,MATCH(1301+ROW(A10)-1,VLC!V:V,0)),\"\"),\"\"),\"\")","v":""},{"$f":"_xlfn.IFNA(IF(INDEX(VLC!J:J,MATCH(1341+ROW(A10)-1,VLC!V:V,0))=\"x\",_xlfn.IFNA(INDEX(VLC!J:J,MATCH(1341+ROW(A10)-1,VLC!V:V,0)),\"\"),\"\"),\"\")","v":""},13010,13050]
["SK Teilnehmer 11",{"$f":"_xlfn.IFNA(INDEX(VLC!A:A,MATCH(1311,VLC!V:V,0)),\"\")","v":""},{"$f":"_xlfn.IFNA(INDEX(VLC!A:A,MATCH(1351,VLC!V:V,0)),\"\")","v":""},{"$f":"_xlfn.IFNA(INDEX(VLC!B:B,MATCH(1301+ROW(A11)-1,VLC!V:V,0)),\"\")","v":""},{"$f":"_xlfn.IFNA(INDEX(VLC!C:C,MATCH(1301+ROW(A11)-1,VLC!V:V,0)),\"\")","v":""},{"$f":"_xlfn.IFNA(IF(INDEX(VLC!H:H,MATCH(1301+ROW(A11)-1,VLC!V:V,0))=\"x\",_xlfn.IFNA(INDEX(VLC!H:H,MATCH(1301+ROW(A11)-1,VLC!V:V,0)),\"\"),\"\"),\"\")","v":""},{"$f":"_xlfn.IFNA(IF(INDEX(VLC!H:H,MATCH(1341+ROW(A11)-1,VLC!V:V,0))=\"x\",_xlfn.IFNA(INDEX(VLC!H:H,MATCH(1341+ROW(A11)-1,VLC!V:V,0)),\"\"),\"\"),\"\")","v":""},{"$f":"_xlfn.IFNA(IF(INDEX(VLC!I:I,MATCH(1301+ROW(A11)-1,VLC!V:V,0))<>\"\",_xlfn.IFNA(INDEX(VLC!I:I,MATCH(1301+ROW(A11)-1,VLC!V:V,0)),\"\"),\"\"),\"\")","v":""},{"$f":"_xlfn.IFNA(IF(INDEX(VLC!I:I,MATCH(1341+ROW(A11)-1,VLC!V:V,0))<>\"\",_xlfn.IFNA(INDEX(VLC!I:I,MATCH(1341+ROW(A11)-1,VLC!V:V,0)),\"\"),\"\"),\"\")","v":""},{"$f":"_xlfn.IFNA(IF(INDEX(VLC!J:J,MATCH(1301+ROW(A11)-1,VLC!V:V,0))=\"x\",_xlfn.IFNA(INDEX(VLC!J:J,MATCH(1301+ROW(A11)-1,VLC!V:V,0)),\"\"),\"\"),\"\")","v":""},{"$f":"_xlfn.IFNA(IF(INDEX(VLC!J:J,MATCH(1341+ROW(A11)-1,VLC!V:V,0))=\"x\",_xlfn.IFNA(INDEX(VLC!J:J,MATCH(1341+ROW(A11)-1,VLC!V:V,0)),\"\"),\"\"),\"\")","v":""},13011,13051]
["SK Teilnehmer 12",{"$f":"_xlfn.IFNA(INDEX(VLC!A:A,MATCH(1312,VLC!V:V,0)),\"\")","v":""},{"$f":"_xlfn.IFNA(INDEX(VLC!A:A,MATCH(1352,VLC!V:V,0)),\"\")","v":""},{"$f":"_xlfn.IFNA(INDEX(VLC!B:B,MATCH(1301+ROW(A12)-1,VLC!V:V,0)),\"\")","v":""},{"$f":"_xlfn.IFNA(INDEX(VLC!C:C,MATCH(1301+ROW(A12)-1,VLC!V:V,0)),\"\")","v":""},{"$f":"_xlfn.IFNA(IF(INDEX(VLC!H:H,MATCH(1301+ROW(A12)-1,VLC!V:V,0))=\"x\",_xlfn.IFNA(INDEX(VLC!H:H,MATCH(1301+ROW(A12)-1,VLC!V:V,0)),\"\"),\"\"),\"\")","v":""},{"$f":"_xlfn.IFNA(IF(INDEX(VLC!H:H,MATCH(1341+ROW(A12)-1,VLC!V:V,0))=\"x\",_xlfn.IFNA(INDEX(VLC!H:H,MATCH(1341+ROW(A12)-1,VLC!V:V,0)),\"\"),\"\"),\"\")","v":""},{"$f":"_xlfn.IFNA(IF(INDEX(VLC!I:I,MATCH(1301+ROW(A12)-1,VLC!V:V,0))<>\"\",_xlfn.IFNA(INDEX(VLC!I:I,MATCH(1301+ROW(A12)-1,VLC!V:V,0)),\"\"),\"\"),\"\")","v":""},{"$f":"_xlfn.IFNA(IF(INDEX(VLC!I:I,MATCH(1341+ROW(A12)-1,VLC!V:V,0))<>\"\",_xlfn.IFNA(INDEX(VLC!I:I,MATCH(1341+ROW(A12)-1,VLC!V:V,0)),\"\"),\"\"),\"\")","v":""},{"$f":"_xlfn.IFNA(IF(INDEX(VLC!J:J,MATCH(1301+ROW(A12)-1,VLC!V:V,0))=\"x\",_xlfn.IFNA(INDEX(VLC!J:J,MATCH(1301+ROW(A12)-1,VLC!V:V,0)),\"\"),\"\"),\"\")","v":""},{"$f":"_xlfn.IFNA(IF(INDEX(VLC!J:J,MATCH(1341+ROW(A12)-1,VLC!V:V,0))=\"x\",_xlfn.IFNA(INDEX(VLC!J:J,MATCH(1341+ROW(A12)-1,VLC!V:V,0)),\"\"),\"\"),\"\")","v":""},13012,13052]
["SK Teilnehmer 13",{"$f":"_xlfn.IFNA(INDEX(VLC!A:A,MATCH(1313,VLC!V:V,0)),\"\")","v":""},{"$f":"_xlfn.IFNA(INDEX(VLC!A:A,MATCH(1353,VLC!V:V,0)),\"\")","v":""},{"$f":"_xlfn.IFNA(INDEX(VLC!B:B,MATCH(1301+ROW(A13)-1,VLC!V:V,0)),\"\")","v":""},{"$f":"_xlfn.IFNA(INDEX(VLC!C:C,MATCH(1301+ROW(A13)-1,VLC!V:V,0)),\"\")","v":""},{"$f":"_xlfn.IFNA(IF(INDEX(VLC!H:H,MATCH(1301+ROW(A13)-1,VLC!V:V,0))=\"x\",_xlfn.IFNA(INDEX(VLC!H:H,MATCH(1301+ROW(A13)-1,VLC!V:V,0)),\"\"),\"\"),\"\")","v":""},{"$f":"_xlfn.IFNA(IF(INDEX(VLC!H:H,MATCH(1341+ROW(A13)-1,VLC!V:V,0))=\"x\",_xlfn.IFNA(INDEX(VLC!H:H,MATCH(1341+ROW(A13)-1,VLC!V:V,0)),\"\"),\"\"),\"\")","v":""},{"$f":"_xlfn.IFNA(IF(INDEX(VLC!I:I,MATCH(1301+ROW(A13)-1,VLC!V:V,0))<>\"\",_xlfn.IFNA(INDEX(VLC!I:I,MATCH(1301+ROW(A13)-1,VLC!V:V,0)),\"\"),\"\"),\"\")","v":""},{"$f":"_xlfn.IFNA(IF(INDEX(VLC!I:I,MATCH(1341+ROW(A13)-1,VLC!V:V,0))<>\"\",_xlfn.IFNA(INDEX(VLC!I:I,MATCH(1341+ROW(A13)-1,VLC!V:V,0)),\"\"),\"\"),\"\")","v":""},{"$f":"_xlfn.IFNA(IF(INDEX(VLC!J:J,MATCH(1301+ROW(A13)-1,VLC!V:V,0))=\"x\",_xlfn.IFNA(INDEX(VLC!J:J,MATCH(1301+ROW(A13)-1,VLC!V:V,0)),\"\"),\"\"),\"\")","v":""},{"$f":"_xlfn.IFNA(IF(INDEX(VLC!J:J,MATCH(1341+ROW(A13)-1,VLC!V:V,0))=\"x\",_xlfn.IFNA(INDEX(VLC!J:J,MATCH(1341+ROW(A13)-1,VLC!V:V,0)),\"\"),\"\"),\"\")","v":""},13013,13053]
["SK Teilnehmer 14",{"$f":"_xlfn.IFNA(INDEX(VLC!A:A,MATCH(1314,VLC!V:V,0)),\"\")","v":""},{"$f":"_xlfn.IFNA(INDEX(VLC!A:A,MATCH(1354,VLC!V:V,0)),\"\")","v":""},{"$f":"_xlfn.IFNA(INDEX(VLC!B:B,MATCH(1301+ROW(A14)-1,VLC!V:V,0)),\"\")","v":""},{"$f":"_xlfn.IFNA(INDEX(VLC!C:C,MATCH(1301+ROW(A14)-1,VLC!V:V,0)),\"\")","v":""},{"$f":"_xlfn.IFNA(IF(INDEX(VLC!H:H,MATCH(1301+ROW(A14)-1,VLC!V:V,0))=\"x\",_xlfn.IFNA(INDEX(VLC!H:H,MATCH(1301+ROW(A14)-1,VLC!V:V,0)),\"\"),\"\"),\"\")","v":""},{"$f":"_xlfn.IFNA(IF(INDEX(VLC!H:H,MATCH(1341+ROW(A14)-1,VLC!V:V,0))=\"x\",_xlfn.IFNA(INDEX(VLC!H:H,MATCH(1341+ROW(A14)-1,VLC!V:V,0)),\"\"),\"\"),\"\")","v":""},{"$f":"_xlfn.IFNA(IF(INDEX(VLC!I:I,MATCH(1301+ROW(A14)-1,VLC!V:V,0))<>\"\",_xlfn.IFNA(INDEX(VLC!I:I,MATCH(1301+ROW(A14)-1,VLC!V:V,0)),\"\"),\"\"),\"\")","v":""},{"$f":"_xlfn.IFNA(IF(INDEX(VLC!I:I,MATCH(1341+ROW(A14)-1,VLC!V:V,0))<>\"\",_xlfn.IFNA(INDEX(VLC!I:I,MATCH(1341+ROW(A14)-1,VLC!V:V,0)),\"\"),\"\"),\"\")","v":""},{"$f":"_xlfn.IFNA(IF(INDEX(VLC!J:J,MATCH(1301+ROW(A14)-1,VLC!V:V,0))=\"x\",_xlfn.IFNA(INDEX(VLC!J:J,MATCH(1301+ROW(A14)-1,VLC!V:V,0)),\"\"),\"\"),\"\")","v":""},{"$f":"_xlfn.IFNA(IF(INDEX(VLC!J:J,MATCH(1341+ROW(A14)-1,VLC!V:V,0))=\"x\",_xlfn.IFNA(INDEX(VLC!J:J,MATCH(1341+ROW(A14)-1,VLC!V:V,0)),\"\"),\"\"),\"\")","v":""},13014,13054]
["SK Teilnehmer 15",{"$f":"_xlfn.IFNA(INDEX(VLC!A:A,MATCH(1315,VLC!V:V,0)),\"\")","v":""},{"$f":"_xlfn.IFNA(INDEX(VLC!A:A,MATCH(1355,VLC!V:V,0)),\"\")","v":""},{"$f":"_xlfn.IFNA(INDEX(VLC!B:B,MATCH(1301+ROW(A15)-1,VLC!V:V,0)),\"\")","v":""},{"$f":"_xlfn.IFNA(INDEX(VLC!C:C,MATCH(1301+ROW(A15)-1,VLC!V:V,0)),\"\")","v":""},{"$f":"_xlfn.IFNA(IF(INDEX(VLC!H:H,MATCH(1301+ROW(A15)-1,VLC!V:V,0))=\"x\",_xlfn.IFNA(INDEX(VLC!H:H,MATCH(1301+ROW(A15)-1,VLC!V:V,0)),\"\"),\"\"),\"\")","v":""},{"$f":"_xlfn.IFNA(IF(INDEX(VLC!H:H,MATCH(1341+ROW(A15)-1,VLC!V:V,0))=\"x\",_xlfn.IFNA(INDEX(VLC!H:H,MATCH(1341+ROW(A15)-1,VLC!V:V,0)),\"\"),\"\"),\"\")","v":""},{"$f":"_xlfn.IFNA(IF(INDEX(VLC!I:I,MATCH(1301+ROW(A15)-1,VLC!V:V,0))<>\"\",_xlfn.IFNA(INDEX(VLC!I:I,MATCH(1301+ROW(A15)-1,VLC!V:V,0)),\"\"),\"\"),\"\")","v":""},{"$f":"_xlfn.IFNA(IF(INDEX(VLC!I:I,MATCH(1341+ROW(A15)-1,VLC!V:V,0))<>\"\",_xlfn.IFNA(INDEX(VLC!I:I,MATCH(1341+ROW(A15)-1,VLC!V:V,0)),\"\"),\"\"),\"\")","v":""},{"$f":"_xlfn.IFNA(IF(INDEX(VLC!J:J,MATCH(1301+ROW(A15)-1,VLC!V:V,0))=\"x\",_xlfn.IFNA(INDEX(VLC!J:J,MATCH(1301+ROW(A15)-1,VLC!V:V,0)),\"\"),\"\"),\"\")","v":""},{"$f":"_xlfn.IFNA(IF(INDEX(VLC!J:J,MATCH(1341+ROW(A15)-1,VLC!V:V,0))=\"x\",_xlfn.IFNA(INDEX(VLC!J:J,MATCH(1341+ROW(A15)-1,VLC!V:V,0)),\"\"),\"\"),\"\")","v":""},13015,13055]
["SK Teilnehmer 16",{"$f":"_xlfn.IFNA(INDEX(VLC!A:A,MATCH(1316,VLC!V:V,0)),\"\")","v":""},{"$f":"_xlfn.IFNA(INDEX(VLC!A:A,MATCH(1356,VLC!V:V,0)),\"\")","v":""},{"$f":"_xlfn.IFNA(INDEX(VLC!B:B,MATCH(1301+ROW(A16)-1,VLC!V:V,0)),\"\")","v":""},{"$f":"_xlfn.IFNA(INDEX(VLC!C:C,MATCH(1301+ROW(A16)-1,VLC!V:V,0)),\"\")","v":""},{"$f":"_xlfn.IFNA(IF(INDEX(VLC!H:H,MATCH(1301+ROW(A16)-1,VLC!V:V,0))=\"x\",_xlfn.IFNA(INDEX(VLC!H:H,MATCH(1301+ROW(A16)-1,VLC!V:V,0)),\"\"),\"\"),\"\")","v":""},{"$f":"_xlfn.IFNA(IF(INDEX(VLC!H:H,MATCH(1341+ROW(A16)-1,VLC!V:V,0))=\"x\",_xlfn.IFNA(INDEX(VLC!H:H,MATCH(1341+ROW(A16)-1,VLC!V:V,0)),\"\"),\"\"),\"\")","v":""},{"$f":"_xlfn.IFNA(IF(INDEX(VLC!I:I,MATCH(1301+ROW(A16)-1,VLC!V:V,0))<>\"\",_xlfn.IFNA(INDEX(VLC!I:I,MATCH(1301+ROW(A16)-1,VLC!V:V,0)),\"\"),\"\"),\"\")","v":""},{"$f":"_xlfn.IFNA(IF(INDEX(VLC!I:I,MATCH(1341+ROW(A16)-1,VLC!V:V,0))<>\"\",_xlfn.IFNA(INDEX(VLC!I:I,MATCH(1341+ROW(A16)-1,VLC!V:V,0)),\"\"),\"\"),\"\")","v":""},{"$f":"_xlfn.IFNA(IF(INDEX(VLC!J:J,MATCH(1301+ROW(A16)-1,VLC!V:V,0))=\"x\",_xlfn.IFNA(INDEX(VLC!J:J,MATCH(1301+ROW(A16)-1,VLC!V:V,0)),\"\"),\"\"),\"\")","v":""},{"$f":"_xlfn.IFNA(IF(INDEX(VLC!J:J,MATCH(1341+ROW(A16)-1,VLC!V:V,0))=\"x\",_xlfn.IFNA(INDEX(VLC!J:J,MATCH(1341+ROW(A16)-1,VLC!V:V,0)),\"\"),\"\"),\"\")","v":""},13016,13056]
["SK Teilnehmer 17",{"$f":"_xlfn.IFNA(INDEX(VLC!A:A,MATCH(1317,VLC!V:V,0)),\"\")","v":""},{"$f":"_xlfn.IFNA(INDEX(VLC!A:A,MATCH(1357,VLC!V:V,0)),\"\")","v":""},{"$f":"_xlfn.IFNA(INDEX(VLC!B:B,MATCH(1301+ROW(A17)-1,VLC!V:V,0)),\"\")","v":""},{"$f":"_xlfn.IFNA(INDEX(VLC!C:C,MATCH(1301+ROW(A17)-1,VLC!V:V,0)),\"\")","v":""},{"$f":"_xlfn.IFNA(IF(INDEX(VLC!H:H,MATCH(1301+ROW(A17)-1,VLC!V:V,0))=\"x\",_xlfn.IFNA(INDEX(VLC!H:H,MATCH(1301+ROW(A17)-1,VLC!V:V,0)),\"\"),\"\"),\"\")","v":""},{"$f":"_xlfn.IFNA(IF(INDEX(VLC!H:H,MATCH(1341+ROW(A17)-1,VLC!V:V,0))=\"x\",_xlfn.IFNA(INDEX(VLC!H:H,MATCH(1341+ROW(A17)-1,VLC!V:V,0)),\"\"),\"\"),\"\")","v":""},{"$f":"_xlfn.IFNA(IF(INDEX(VLC!I:I,MATCH(1301+ROW(A17)-1,VLC!V:V,0))<>\"\",_xlfn.IFNA(INDEX(VLC!I:I,MATCH(1301+ROW(A17)-1,VLC!V:V,0)),\"\"),\"\"),\"\")","v":""},{"$f":"_xlfn.IFNA(IF(INDEX(VLC!I:I,MATCH(1341+ROW(A17)-1,VLC!V:V,0))<>\"\",_xlfn.IFNA(INDEX(VLC!I:I,MATCH(1341+ROW(A17)-1,VLC!V:V,0)),\"\"),\"\"),\"\")","v":""},{"$f":"_xlfn.IFNA(IF(INDEX(VLC!J:J,MATCH(1301+ROW(A17)-1,VLC!V:V,0))=\"x\",_xlfn.IFNA(INDEX(VLC!J:J,MATCH(1301+ROW(A17)-1,VLC!V:V,0)),\"\"),\"\"),\"\")","v":""},{"$f":"_xlfn.IFNA(IF(INDEX(VLC!J:J,MATCH(1341+ROW(A17)-1,VLC!V:V,0))=\"x\",_xlfn.IFNA(INDEX(VLC!J:J,MATCH(1341+ROW(A17)-1,VLC!V:V,0)),\"\"),\"\"),\"\")","v":""},13017,13057]
["SK Teilnehmer 18",{"$f":"_xlfn.IFNA(INDEX(VLC!A:A,MATCH(1318,VLC!V:V,0)),\"\")","v":""},{"$f":"_xlfn.IFNA(INDEX(VLC!A:A,MATCH(1358,VLC!V:V,0)),\"\")","v":""},{"$f":"_xlfn.IFNA(INDEX(VLC!B:B,MATCH(1301+ROW(A18)-1,VLC!V:V,0)),\"\")","v":""},{"$f":"_xlfn.IFNA(INDEX(VLC!C:C,MATCH(1301+ROW(A18)-1,VLC!V:V,0)),\"\")","v":""},{"$f":"_xlfn.IFNA(IF(INDEX(VLC!H:H,MATCH(1301+ROW(A18)-1,VLC!V:V,0))=\"x\",_xlfn.IFNA(INDEX(VLC!H:H,MATCH(1301+ROW(A18)-1,VLC!V:V,0)),\"\"),\"\"),\"\")","v":""},{"$f":"_xlfn.IFNA(IF(INDEX(VLC!H:H,MATCH(1341+ROW(A18)-1,VLC!V:V,0))=\"x\",_xlfn.IFNA(INDEX(VLC!H:H,MATCH(1341+ROW(A18)-1,VLC!V:V,0)),\"\"),\"\"),\"\")","v":""},{"$f":"_xlfn.IFNA(IF(INDEX(VLC!I:I,MATCH(1301+ROW(A18)-1,VLC!V:V,0))<>\"\",_xlfn.IFNA(INDEX(VLC!I:I,MATCH(1301+ROW(A18)-1,VLC!V:V,0)),\"\"),\"\"),\"\")","v":""},{"$f":"_xlfn.IFNA(IF(INDEX(VLC!I:I,MATCH(1341+ROW(A18)-1,VLC!V:V,0))<>\"\",_xlfn.IFNA(INDEX(VLC!I:I,MATCH(1341+ROW(A18)-1,VLC!V:V,0)),\"\"),\"\"),\"\")","v":""},{"$f":"_xlfn.IFNA(IF(INDEX(VLC!J:J,MATCH(1301+ROW(A18)-1,VLC!V:V,0))=\"x\",_xlfn.IFNA(INDEX(VLC!J:J,MATCH(1301+ROW(A18)-1,VLC!V:V,0)),\"\"),\"\"),\"\")","v":""},{"$f":"_xlfn.IFNA(IF(INDEX(VLC!J:J,MATCH(1341+ROW(A18)-1,VLC!V:V,0))=\"x\",_xlfn.IFNA(INDEX(VLC!J:J,MATCH(1341+ROW(A18)-1,VLC!V:V,0)),\"\"),\"\"),\"\")","v":""},13018,13058]
["SK Teilnehmer 19",{"$f":"_xlfn.IFNA(INDEX(VLC!A:A,MATCH(1319,VLC!V:V,0)),\"\")","v":""},{"$f":"_xlfn.IFNA(INDEX(VLC!A:A,MATCH(1359,VLC!V:V,0)),\"\")","v":""},{"$f":"_xlfn.IFNA(INDEX(VLC!B:B,MATCH(1301+ROW(A19)-1,VLC!V:V,0)),\"\")","v":""},{"$f":"_xlfn.IFNA(INDEX(VLC!C:C,MATCH(1301+ROW(A19)-1,VLC!V:V,0)),\"\")","v":""},{"$f":"_xlfn.IFNA(IF(INDEX(VLC!H:H,MATCH(1301+ROW(A19)-1,VLC!V:V,0))=\"x\",_xlfn.IFNA(INDEX(VLC!H:H,MATCH(1301+ROW(A19)-1,VLC!V:V,0)),\"\"),\"\"),\"\")","v":""},{"$f":"_xlfn.IFNA(IF(INDEX(VLC!H:H,MATCH(1341+ROW(A19)-1,VLC!V:V,0))=\"x\",_xlfn.IFNA(INDEX(VLC!H:H,MATCH(1341+ROW(A19)-1,VLC!V:V,0)),\"\"),\"\"),\"\")","v":""},{"$f":"_xlfn.IFNA(IF(INDEX(VLC!I:I,MATCH(1301+ROW(A19)-1,VLC!V:V,0))<>\"\",_xlfn.IFNA(INDEX(VLC!I:I,MATCH(1301+ROW(A19)-1,VLC!V:V,0)),\"\"),\"\"),\"\")","v":""},{"$f":"_xlfn.IFNA(IF(INDEX(VLC!I:I,MATCH(1341+ROW(A19)-1,VLC!V:V,0))<>\"\",_xlfn.IFNA(INDEX(VLC!I:I,MATCH(1341+ROW(A19)-1,VLC!V:V,0)),\"\"),\"\"),\"\")","v":""},{"$f":"_xlfn.IFNA(IF(INDEX(VLC!J:J,MATCH(1301+ROW(A19)-1,VLC!V:V,0))=\"x\",_xlfn.IFNA(INDEX(VLC!J:J,MATCH(1301+ROW(A19)-1,VLC!V:V,0)),\"\"),\"\"),\"\")","v":""},{"$f":"_xlfn.IFNA(IF(INDEX(VLC!J:J,MATCH(1341+ROW(A19)-1,VLC!V:V,0))=\"x\",_xlfn.IFNA(INDEX(VLC!J:J,MATCH(1341+ROW(A19)-1,VLC!V:V,0)),\"\"),\"\"),\"\")","v":""},13019,13059]
["SK Teilnehmer 20",{"$f":"_xlfn.IFNA(INDEX(VLC!A:A,MATCH(1320,VLC!V:V,0)),\"\")","v":""},{"$f":"_xlfn.IFNA(INDEX(VLC!A:A,MATCH(1360,VLC!V:V,0)),\"\")","v":""},{"$f":"_xlfn.IFNA(INDEX(VLC!B:B,MATCH(1301+ROW(A20)-1,VLC!V:V,0)),\"\")","v":""},{"$f":"_xlfn.IFNA(INDEX(VLC!C:C,MATCH(1301+ROW(A20)-1,VLC!V:V,0)),\"\")","v":""},{"$f":"_xlfn.IFNA(IF(INDEX(VLC!H:H,MATCH(1301+ROW(A20)-1,VLC!V:V,0))=\"x\",_xlfn.IFNA(INDEX(VLC!H:H,MATCH(1301+ROW(A20)-1,VLC!V:V,0)),\"\"),\"\"),\"\")","v":""},{"$f":"_xlfn.IFNA(IF(INDEX(VLC!H:H,MATCH(1341+ROW(A20)-1,VLC!V:V,0))=\"x\",_xlfn.IFNA(INDEX(VLC!H:H,MATCH(1341+ROW(A20)-1,VLC!V:V,0)),\"\"),\"\"),\"\")","v":""},{"$f":"_xlfn.IFNA(IF(INDEX(VLC!I:I,MATCH(1301+ROW(A20)-1,VLC!V:V,0))<>\"\",_xlfn.IFNA(INDEX(VLC!I:I,MATCH(1301+ROW(A20)-1,VLC!V:V,0)),\"\"),\"\"),\"\")","v":""},{"$f":"_xlfn.IFNA(IF(INDEX(VLC!I:I,MATCH(1341+ROW(A20)-1,VLC!V:V,0))<>\"\",_xlfn.IFNA(INDEX(VLC!I:I,MATCH(1341+ROW(A20)-1,VLC!V:V,0)),\"\"),\"\"),\"\")","v":""},{"$f":"_xlfn.IFNA(IF(INDEX(VLC!J:J,MATCH(1301+ROW(A20)-1,VLC!V:V,0))=\"x\",_xlfn.IFNA(INDEX(VLC!J:J,MATCH(1301+ROW(A20)-1,VLC!V:V,0)),\"\"),\"\"),\"\")","v":""},{"$f":"_xlfn.IFNA(IF(INDEX(VLC!J:J,MATCH(1341+ROW(A20)-1,VLC!V:V,0))=\"x\",_xlfn.IFNA(INDEX(VLC!J:J,MATCH(1341+ROW(A20)-1,VLC!V:V,0)),\"\"),\"\"),\"\")","v":""},13020,13060]
["Gerätename:",{"$f":"$B$6","v":0},null,null,"PLC24 Stromkreis-Nummer: 14"]
["Stromkreis-Bezeichnung:"]
["Stromkreisbelegung","ID 1","ID 2","Bezeichnung","Zusatzinfo","DL",null,"GL",null,"BL"]
[null,null,null,null,null,"ID1","ID2","ID1","ID2","ID1","ID2"]
["SK Teilnehmer 1",{"$f":"_xlfn.IFNA(INDEX(VLC!A:A,MATCH(1401,VLC!V:V,0)),\"\")","v":""},{"$f":"_xlfn.IFNA(INDEX(VLC!A:A,MATCH(1441,VLC!V:V,0)),\"\")","v":""},{"$f":"_xlfn.IFNA(INDEX(VLC!B:B,MATCH(1401+ROW(A1)-1,VLC!V:V,0)),\"\")","v":""},{"$f":"_xlfn.IFNA(INDEX(VLC!C:C,MATCH(1401+ROW(A1)-1,VLC!V:V,0)),\"\")","v":""},{"$f":"_xlfn.IFNA(IF(INDEX(VLC!H:H,MATCH(1401+ROW(A1)-1,VLC!V:V,0))=\"x\",_xlfn.IFNA(INDEX(VLC!H:H,MATCH(1401+ROW(A1)-1,VLC!V:V,0)),\"\"),\"\"),\"\")","v":""},{"$f":"_xlfn.IFNA(IF(INDEX(VLC!H:H,MATCH(1441+ROW(A1)-1,VLC!V:V,0))=\"x\",_xlfn.IFNA(INDEX(VLC!H:H,MATCH(1441+ROW(A1)-1,VLC!V:V,0)),\"\"),\"\"),\"\")","v":""},{"$f":"_xlfn.IFNA(IF(INDEX(VLC!I:I,MATCH(1401+ROW(A1)-1,VLC!V:V,0))<>\"\",_xlfn.IFNA(INDEX(VLC!I:I,MATCH(1401+ROW(A1)-1,VLC!V:V,0)),\"\"),\"\"),\"\")","v":""},{"$f":"_xlfn.IFNA(IF(INDEX(VLC!I:I,MATCH(1441+ROW(A1)-1,VLC!V:V,0))<>\"\",_xlfn.IFNA(INDEX(VLC!I:I,MATCH(1441+ROW(A1)-1,VLC!V:V,0)),\"\"),\"\"),\"\")","v":""},{"$f":"_xlfn.IFNA(IF(INDEX(VLC!J:J,MATCH(1401+ROW(A1)-1,VLC!V:V,0))=\"x\",_xlfn.IFNA(INDEX(VLC!J:J,MATCH(1401+ROW(A1)-1,VLC!V:V,0)),\"\"),\"\"),\"\")","v":""},{"$f":"_xlfn.IFNA(IF(INDEX(VLC!J:J,MATCH(1441+ROW(A1)-1,VLC!V:V,0))=\"x\",_xlfn.IFNA(INDEX(VLC!J:J,MATCH(1441+ROW(A1)-1,VLC!V:V,0)),\"\"),\"\"),\"\")","v":""},{"$f":"14000+ROW(A322)-321","v":14001},{"$f":"L322+40","v":14041}]
["SK Teilnehmer 2",{"$f":"_xlfn.IFNA(INDEX(VLC!A:A,MATCH(1402,VLC!V:V,0)),\"\")","v":""},{"$f":"_xlfn.IFNA(INDEX(VLC!A:A,MATCH(1442,VLC!V:V,0)),\"\")","v":""},{"$f":"_xlfn.IFNA(INDEX(VLC!B:B,MATCH(1401+ROW(A2)-1,VLC!V:V,0)),\"\")","v":""},{"$f":"_xlfn.IFNA(INDEX(VLC!C:C,MATCH(1401+ROW(A2)-1,VLC!V:V,0)),\"\")","v":""},{"$f":"_xlfn.IFNA(IF(INDEX(VLC!H:H,MATCH(1401+ROW(A2)-1,VLC!V:V,0))=\"x\",_xlfn.IFNA(INDEX(VLC!H:H,MATCH(1401+ROW(A2)-1,VLC!V:V,0)),\"\"),\"\"),\"\")","v":""},{"$f":"_xlfn.IFNA(IF(INDEX(VLC!H:H,MATCH(1441+ROW(A2)-1,VLC!V:V,0))=\"x\",_xlfn.IFNA(INDEX(VLC!H:H,MATCH(1441+ROW(A2)-1,VLC!V:V,0)),\"\"),\"\"),\"\")","v":""},{"$f":"_xlfn.IFNA(IF(INDEX(VLC!I:I,MATCH(1401+ROW(A2)-1,VLC!V:V,0))<>\"\",_xlfn.IFNA(INDEX(VLC!I:I,MATCH(1401+ROW(A2)-1,VLC!V:V,0)),\"\"),\"\"),\"\")","v":""},{"$f":"_xlfn.IFNA(IF(INDEX(VLC!I:I,MATCH(1441+ROW(A2)-1,VLC!V:V,0))<>\"\",_xlfn.IFNA(INDEX(VLC!I:I,MATCH(1441+ROW(A2)-1,VLC!V:V,0)),\"\"),\"\"),\"\")","v":""},{"$f":"_xlfn.IFNA(IF(INDEX(VLC!J:J,MATCH(1401+ROW(A2)-1,VLC!V:V,0))=\"x\",_xlfn.IFNA(INDEX(VLC!J:J,MATCH(1401+ROW(A2)-1,VLC!V:V,0)),\"\"),\"\"),\"\")","v":""},{"$f":"_xlfn.IFNA(IF(INDEX(VLC!J:J,MATCH(1441+ROW(A2)-1,VLC!V:V,0))=\"x\",_xlfn.IFNA(INDEX(VLC!J:J,MATCH(1441+ROW(A2)-1,VLC!V:V,0)),\"\"),\"\"),\"\")","v":""},{"$f":"14000+ROW(A323)-321","v":14002},{"$f":"L323+40","v":14042}]
["SK Teilnehmer 3",{"$f":"_xlfn.IFNA(INDEX(VLC!A:A,MATCH(1403,VLC!V:V,0)),\"\")","v":""},{"$f":"_xlfn.IFNA(INDEX(VLC!A:A,MATCH(1443,VLC!V:V,0)),\"\")","v":""},{"$f":"_xlfn.IFNA(INDEX(VLC!B:B,MATCH(1401+ROW(A3)-1,VLC!V:V,0)),\"\")","v":""},{"$f":"_xlfn.IFNA(INDEX(VLC!C:C,MATCH(1401+ROW(A3)-1,VLC!V:V,0)),\"\")","v":""},{"$f":"_xlfn.IFNA(IF(INDEX(VLC!H:H,MATCH(1401+ROW(A3)-1,VLC!V:V,0))=\"x\",_xlfn.IFNA(INDEX(VLC!H:H,MATCH(1401+ROW(A3)-1,VLC!V:V,0)),\"\"),\"\"),\"\")","v":""},{"$f":"_xlfn.IFNA(IF(INDEX(VLC!H:H,MATCH(1441+ROW(A3)-1,VLC!V:V,0))=\"x\",_xlfn.IFNA(INDEX(VLC!H:H,MATCH(1441+ROW(A3)-1,VLC!V:V,0)),\"\"),\"\"),\"\")","v":""},{"$f":"_xlfn.IFNA(IF(INDEX(VLC!I:I,MATCH(1401+ROW(A3)-1,VLC!V:V,0))<>\"\",_xlfn.IFNA(INDEX(VLC!I:I,MATCH(1401+ROW(A3)-1,VLC!V:V,0)),\"\"),\"\"),\"\")","v":""},{"$f":"_xlfn.IFNA(IF(INDEX(VLC!I:I,MATCH(1441+ROW(A3)-1,VLC!V:V,0))<>\"\",_xlfn.IFNA(INDEX(VLC!I:I,MATCH(1441+ROW(A3)-1,VLC!V:V,0)),\"\"),\"\"),\"\")","v":""},{"$f":"_xlfn.IFNA(IF(INDEX(VLC!J:J,MATCH(1401+ROW(A3)-1,VLC!V:V,0))=\"x\",_xlfn.IFNA(INDEX(VLC!J:J,MATCH(1401+ROW(A3)-1,VLC!V:V,0)),\"\"),\"\"),\"\")","v":""},{"$f":"_xlfn.IFNA(IF(INDEX(VLC!J:J,MATCH(1441+ROW(A3)-1,VLC!V:V,0))=\"x\",_xlfn.IFNA(INDEX(VLC!J:J,MATCH(1441+ROW(A3)-1,VLC!V:V,0)),\"\"),\"\"),\"\")","v":""},14003,14043]
["SK Teilnehmer 4",{"$f":"_xlfn.IFNA(INDEX(VLC!A:A,MATCH(1404,VLC!V:V,0)),\"\")","v":""},{"$f":"_xlfn.IFNA(INDEX(VLC!A:A,MATCH(1444,VLC!V:V,0)),\"\")","v":""},{"$f":"_xlfn.IFNA(INDEX(VLC!B:B,MATCH(1401+ROW(A4)-1,VLC!V:V,0)),\"\")","v":""},{"$f":"_xlfn.IFNA(INDEX(VLC!C:C,MATCH(1401+ROW(A4)-1,VLC!V:V,0)),\"\")","v":""},{"$f":"_xlfn.IFNA(IF(INDEX(VLC!H:H,MATCH(1401+ROW(A4)-1,VLC!V:V,0))=\"x\",_xlfn.IFNA(INDEX(VLC!H:H,MATCH(1401+ROW(A4)-1,VLC!V:V,0)),\"\"),\"\"),\"\")","v":""},{"$f":"_xlfn.IFNA(IF(INDEX(VLC!H:H,MATCH(1441+ROW(A4)-1,VLC!V:V,0))=\"x\",_xlfn.IFNA(INDEX(VLC!H:H,MATCH(1441+ROW(A4)-1,VLC!V:V,0)),\"\"),\"\"),\"\")","v":""},{"$f":"_xlfn.IFNA(IF(INDEX(VLC!I:I,MATCH(1401+ROW(A4)-1,VLC!V:V,0))<>\"\",_xlfn.IFNA(INDEX(VLC!I:I,MATCH(1401+ROW(A4)-1,VLC!V:V,0)),\"\"),\"\"),\"\")","v":""},{"$f":"_xlfn.IFNA(IF(INDEX(VLC!I:I,MATCH(1441+ROW(A4)-1,VLC!V:V,0))<>\"\",_xlfn.IFNA(INDEX(VLC!I:I,MATCH(1441+ROW(A4)-1,VLC!V:V,0)),\"\"),\"\"),\"\")","v":""},{"$f":"_xlfn.IFNA(IF(INDEX(VLC!J:J,MATCH(1401+ROW(A4)-1,VLC!V:V,0))=\"x\",_xlfn.IFNA(INDEX(VLC!J:J,MATCH(1401+ROW(A4)-1,VLC!V:V,0)),\"\"),\"\"),\"\")","v":""},{"$f":"_xlfn.IFNA(IF(INDEX(VLC!J:J,MATCH(1441+ROW(A4)-1,VLC!V:V,0))=\"x\",_xlfn.IFNA(INDEX(VLC!J:J,MATCH(1441+ROW(A4)-1,VLC!V:V,0)),\"\"),\"\"),\"\")","v":""},14004,14044]
["SK Teilnehmer 5",{"$f":"_xlfn.IFNA(INDEX(VLC!A:A,MATCH(1405,VLC!V:V,0)),\"\")","v":""},{"$f":"_xlfn.IFNA(INDEX(VLC!A:A,MATCH(1445,VLC!V:V,0)),\"\")","v":""},{"$f":"_xlfn.IFNA(INDEX(VLC!B:B,MATCH(1401+ROW(A5)-1,VLC!V:V,0)),\"\")","v":""},{"$f":"_xlfn.IFNA(INDEX(VLC!C:C,MATCH(1401+ROW(A5)-1,VLC!V:V,0)),\"\")","v":""},{"$f":"_xlfn.IFNA(IF(INDEX(VLC!H:H,MATCH(1401+ROW(A5)-1,VLC!V:V,0))=\"x\",_xlfn.IFNA(INDEX(VLC!H:H,MATCH(1401+ROW(A5)-1,VLC!V:V,0)),\"\"),\"\"),\"\")","v":""},{"$f":"_xlfn.IFNA(IF(INDEX(VLC!H:H,MATCH(1441+ROW(A5)-1,VLC!V:V,0))=\"x\",_xlfn.IFNA(INDEX(VLC!H:H,MATCH(1441+ROW(A5)-1,VLC!V:V,0)),\"\"),\"\"),\"\")","v":""},{"$f":"_xlfn.IFNA(IF(INDEX(VLC!I:I,MATCH(1401+ROW(A5)-1,VLC!V:V,0))<>\"\",_xlfn.IFNA(INDEX(VLC!I:I,MATCH(1401+ROW(A5)-1,VLC!V:V,0)),\"\"),\"\"),\"\")","v":""},{"$f":"_xlfn.IFNA(IF(INDEX(VLC!I:I,MATCH(1441+ROW(A5)-1,VLC!V:V,0))<>\"\",_xlfn.IFNA(INDEX(VLC!I:I,MATCH(1441+ROW(A5)-1,VLC!V:V,0)),\"\"),\"\"),\"\")","v":""},{"$f":"_xlfn.IFNA(IF(INDEX(VLC!J:J,MATCH(1401+ROW(A5)-1,VLC!V:V,0))=\"x\",_xlfn.IFNA(INDEX(VLC!J:J,MATCH(1401+ROW(A5)-1,VLC!V:V,0)),\"\"),\"\"),\"\")","v":""},{"$f":"_xlfn.IFNA(IF(INDEX(VLC!J:J,MATCH(1441+ROW(A5)-1,VLC!V:V,0))=\"x\",_xlfn.IFNA(INDEX(VLC!J:J,MATCH(1441+ROW(A5)-1,VLC!V:V,0)),\"\"),\"\"),\"\")","v":""},14005,14045]
["SK Teilnehmer 6",{"$f":"_xlfn.IFNA(INDEX(VLC!A:A,MATCH(1406,VLC!V:V,0)),\"\")","v":""},{"$f":"_xlfn.IFNA(INDEX(VLC!A:A,MATCH(1446,VLC!V:V,0)),\"\")","v":""},{"$f":"_xlfn.IFNA(INDEX(VLC!B:B,MATCH(1401+ROW(A6)-1,VLC!V:V,0)),\"\")","v":""},{"$f":"_xlfn.IFNA(INDEX(VLC!C:C,MATCH(1401+ROW(A6)-1,VLC!V:V,0)),\"\")","v":""},{"$f":"_xlfn.IFNA(IF(INDEX(VLC!H:H,MATCH(1401+ROW(A6)-1,VLC!V:V,0))=\"x\",_xlfn.IFNA(INDEX(VLC!H:H,MATCH(1401+ROW(A6)-1,VLC!V:V,0)),\"\"),\"\"),\"\")","v":""},{"$f":"_xlfn.IFNA(IF(INDEX(VLC!H:H,MATCH(1441+ROW(A6)-1,VLC!V:V,0))=\"x\",_xlfn.IFNA(INDEX(VLC!H:H,MATCH(1441+ROW(A6)-1,VLC!V:V,0)),\"\"),\"\"),\"\")","v":""},{"$f":"_xlfn.IFNA(IF(INDEX(VLC!I:I,MATCH(1401+ROW(A6)-1,VLC!V:V,0))<>\"\",_xlfn.IFNA(INDEX(VLC!I:I,MATCH(1401+ROW(A6)-1,VLC!V:V,0)),\"\"),\"\"),\"\")","v":""},{"$f":"_xlfn.IFNA(IF(INDEX(VLC!I:I,MATCH(1441+ROW(A6)-1,VLC!V:V,0))<>\"\",_xlfn.IFNA(INDEX(VLC!I:I,MATCH(1441+ROW(A6)-1,VLC!V:V,0)),\"\"),\"\"),\"\")","v":""},{"$f":"_xlfn.IFNA(IF(INDEX(VLC!J:J,MATCH(1401+ROW(A6)-1,VLC!V:V,0))=\"x\",_xlfn.IFNA(INDEX(VLC!J:J,MATCH(1401+ROW(A6)-1,VLC!V:V,0)),\"\"),\"\"),\"\")","v":""},{"$f":"_xlfn.IFNA(IF(INDEX(VLC!J:J,MATCH(1441+ROW(A6)-1,VLC!V:V,0))=\"x\",_xlfn.IFNA(INDEX(VLC!J:J,MATCH(1441+ROW(A6)-1,VLC!V:V,0)),\"\"),\"\"),\"\")","v":""},14006,14046]
["SK Teilnehmer 7",{"$f":"_xlfn.IFNA(INDEX(VLC!A:A,MATCH(1407,VLC!V:V,0)),\"\")","v":""},{"$f":"_xlfn.IFNA(INDEX(VLC!A:A,MATCH(1447,VLC!V:V,0)),\"\")","v":""},{"$f":"_xlfn.IFNA(INDEX(VLC!B:B,MATCH(1401+ROW(A7)-1,VLC!V:V,0)),\"\")","v":""},{"$f":"_xlfn.IFNA(INDEX(VLC!C:C,MATCH(1401+ROW(A7)-1,VLC!V:V,0)),\"\")","v":""},{"$f":"_xlfn.IFNA(IF(INDEX(VLC!H:H,MATCH(1401+ROW(A7)-1,VLC!V:V,0))=\"x\",_xlfn.IFNA(INDEX(VLC!H:H,MATCH(1401+ROW(A7)-1,VLC!V:V,0)),\"\"),\"\"),\"\")","v":""},{"$f":"_xlfn.IFNA(IF(INDEX(VLC!H:H,MATCH(1441+ROW(A7)-1,VLC!V:V,0))=\"x\",_xlfn.IFNA(INDEX(VLC!H:H,MATCH(1441+ROW(A7)-1,VLC!V:V,0)),\"\"),\"\"),\"\")","v":""},{"$f":"_xlfn.IFNA(IF(INDEX(VLC!I:I,MATCH(1401+ROW(A7)-1,VLC!V:V,0))<>\"\",_xlfn.IFNA(INDEX(VLC!I:I,MATCH(1401+ROW(A7)-1,VLC!V:V,0)),\"\"),\"\"),\"\")","v":""},{"$f":"_xlfn.IFNA(IF(INDEX(VLC!I:I,MATCH(1441+ROW(A7)-1,VLC!V:V,0))<>\"\",_xlfn.IFNA(INDEX(VLC!I:I,MATCH(1441+ROW(A7)-1,VLC!V:V,0)),\"\"),\"\"),\"\")","v":""},{"$f":"_xlfn.IFNA(IF(INDEX(VLC!J:J,MATCH(1401+ROW(A7)-1,VLC!V:V,0))=\"x\",_xlfn.IFNA(INDEX(VLC!J:J,MATCH(1401+ROW(A7)-1,VLC!V:V,0)),\"\"),\"\"),\"\")","v":""},{"$f":"_xlfn.IFNA(IF(INDEX(VLC!J:J,MATCH(1441+ROW(A7)-1,VLC!V:V,0))=\"x\",_xlfn.IFNA(INDEX(VLC!J:J,MATCH(1441+ROW(A7)-1,VLC!V:V,0)),\"\"),\"\"),\"\")","v":""},14007,14047]
["SK Teilnehmer 8",{"$f":"_xlfn.IFNA(INDEX(VLC!A:A,MATCH(1408,VLC!V:V,0)),\"\")","v":""},{"$f":"_xlfn.IFNA(INDEX(VLC!A:A,MATCH(1448,VLC!V:V,0)),\"\")","v":""},{"$f":"_xlfn.IFNA(INDEX(VLC!B:B,MATCH(1401+ROW(A8)-1,VLC!V:V,0)),\"\")","v":""},{"$f":"_xlfn.IFNA(INDEX(VLC!C:C,MATCH(1401+ROW(A8)-1,VLC!V:V,0)),\"\")","v":""},{"$f":"_xlfn.IFNA(IF(INDEX(VLC!H:H,MATCH(1401+ROW(A8)-1,VLC!V:V,0))=\"x\",_xlfn.IFNA(INDEX(VLC!H:H,MATCH(1401+ROW(A8)-1,VLC!V:V,0)),\"\"),\"\"),\"\")","v":""},{"$f":"_xlfn.IFNA(IF(INDEX(VLC!H:H,MATCH(1441+ROW(A8)-1,VLC!V:V,0))=\"x\",_xlfn.IFNA(INDEX(VLC!H:H,MATCH(1441+ROW(A8)-1,VLC!V:V,0)),\"\"),\"\"),\"\")","v":""},{"$f":"_xlfn.IFNA(IF(INDEX(VLC!I:I,MATCH(1401+ROW(A8)-1,VLC!V:V,0))<>\"\",_xlfn.IFNA(INDEX(VLC!I:I,MATCH(1401+ROW(A8)-1,VLC!V:V,0)),\"\"),\"\"),\"\")","v":""},{"$f":"_xlfn.IFNA(IF(INDEX(VLC!I:I,MATCH(1441+ROW(A8)-1,VLC!V:V,0))<>\"\",_xlfn.IFNA(INDEX(VLC!I:I,MATCH(1441+ROW(A8)-1,VLC!V:V,0)),\"\"),\"\"),\"\")","v":""},{"$f":"_xlfn.IFNA(IF(INDEX(VLC!J:J,MATCH(1401+ROW(A8)-1,VLC!V:V,0))=\"x\",_xlfn.IFNA(INDEX(VLC!J:J,MATCH(1401+ROW(A8)-1,VLC!V:V,0)),\"\"),\"\"),\"\")","v":""},{"$f":"_xlfn.IFNA(IF(INDEX(VLC!J:J,MATCH(1441+ROW(A8)-1,VLC!V:V,0))=\"x\",_xlfn.IFNA(INDEX(VLC!J:J,MATCH(1441+ROW(A8)-1,VLC!V:V,0)),\"\"),\"\"),\"\")","v":""},14008,14048]
["SK Teilnehmer 9",{"$f":"_xlfn.IFNA(INDEX(VLC!A:A,MATCH(1409,VLC!V:V,0)),\"\")","v":""},{"$f":"_xlfn.IFNA(INDEX(VLC!A:A,MATCH(1449,VLC!V:V,0)),\"\")","v":""},{"$f":"_xlfn.IFNA(INDEX(VLC!B:B,MATCH(1401+ROW(A9)-1,VLC!V:V,0)),\"\")","v":""},{"$f":"_xlfn.IFNA(INDEX(VLC!C:C,MATCH(1401+ROW(A9)-1,VLC!V:V,0)),\"\")","v":""},{"$f":"_xlfn.IFNA(IF(INDEX(VLC!H:H,MATCH(1401+ROW(A9)-1,VLC!V:V,0))=\"x\",_xlfn.IFNA(INDEX(VLC!H:H,MATCH(1401+ROW(A9)-1,VLC!V:V,0)),\"\"),\"\"),\"\")","v":""},{"$f":"_xlfn.IFNA(IF(INDEX(VLC!H:H,MATCH(1441+ROW(A9)-1,VLC!V:V,0))=\"x\",_xlfn.IFNA(INDEX(VLC!H:H,MATCH(1441+ROW(A9)-1,VLC!V:V,0)),\"\"),\"\"),\"\")","v":""},{"$f":"_xlfn.IFNA(IF(INDEX(VLC!I:I,MATCH(1401+ROW(A9)-1,VLC!V:V,0))<>\"\",_xlfn.IFNA(INDEX(VLC!I:I,MATCH(1401+ROW(A9)-1,VLC!V:V,0)),\"\"),\"\"),\"\")","v":""},{"$f":"_xlfn.IFNA(IF(INDEX(VLC!I:I,MATCH(1441+ROW(A9)-1,VLC!V:V,0))<>\"\",_xlfn.IFNA(INDEX(VLC!I:I,MATCH(1441+ROW(A9)-1,VLC!V:V,0)),\"\"),\"\"),\"\")","v":""},{"$f":"_xlfn.IFNA(IF(INDEX(VLC!J:J,MATCH(1401+ROW(A9)-1,VLC!V:V,0))=\"x\",_xlfn.IFNA(INDEX(VLC!J:J,MATCH(1401+ROW(A9)-1,VLC!V:V,0)),\"\"),\"\"),\"\")","v":""},{"$f":"_xlfn.IFNA(IF(INDEX(VLC!J:J,MATCH(1441+ROW(A9)-1,VLC!V:V,0))=\"x\",_xlfn.IFNA(INDEX(VLC!J:J,MATCH(1441+ROW(A9)-1,VLC!V:V,0)),\"\"),\"\"),\"\")","v":""},14009,14049]
["SK Teilnehmer 10",{"$f":"_xlfn.IFNA(INDEX(VLC!A:A,MATCH(1410,VLC!V:V,0)),\"\")","v":""},{"$f":"_xlfn.IFNA(INDEX(VLC!A:A,MATCH(1450,VLC!V:V,0)),\"\")","v":""},{"$f":"_xlfn.IFNA(INDEX(VLC!B:B,MATCH(1401+ROW(A10)-1,VLC!V:V,0)),\"\")","v":""},{"$f":"_xlfn.IFNA(INDEX(VLC!C:C,MATCH(1401+ROW(A10)-1,VLC!V:V,0)),\"\")","v":""},{"$f":"_xlfn.IFNA(IF(INDEX(VLC!H:H,MATCH(1401+ROW(A10)-1,VLC!V:V,0))=\"x\",_xlfn.IFNA(INDEX(VLC!H:H,MATCH(1401+ROW(A10)-1,VLC!V:V,0)),\"\"),\"\"),\"\")","v":""},{"$f":"_xlfn.IFNA(IF(INDEX(VLC!H:H,MATCH(1441+ROW(A10)-1,VLC!V:V,0))=\"x\",_xlfn.IFNA(INDEX(VLC!H:H,MATCH(1441+ROW(A10)-1,VLC!V:V,0)),\"\"),\"\"),\"\")","v":""},{"$f":"_xlfn.IFNA(IF(INDEX(VLC!I:I,MATCH(1401+ROW(A10)-1,VLC!V:V,0))<>\"\",_xlfn.IFNA(INDEX(VLC!I:I,MATCH(1401+ROW(A10)-1,VLC!V:V,0)),\"\"),\"\"),\"\")","v":""},{"$f":"_xlfn.IFNA(IF(INDEX(VLC!I:I,MATCH(1441+ROW(A10)-1,VLC!V:V,0))<>\"\",_xlfn.IFNA(INDEX(VLC!I:I,MATCH(1441+ROW(A10)-1,VLC!V:V,0)),\"\"),\"\"),\"\")","v":""},{"$f":"_xlfn.IFNA(IF(INDEX(VLC!J:J,MATCH(1401+ROW(A10)-1,VLC!V:V,0))=\"x\",_xlfn.IFNA(INDEX(VLC!J:J,MATCH(1401+ROW(A10)-1,VLC!V:V,0)),\"\"),\"\"),\"\")","v":""},{"$f":"_xlfn.IFNA(IF(INDEX(VLC!J:J,MATCH(1441+ROW(A10)-1,VLC!V:V,0))=\"x\",_xlfn.IFNA(INDEX(VLC!J:J,MATCH(1441+ROW(A10)-1,VLC!V:V,0)),\"\"),\"\"),\"\")","v":""},14010,14050]
["SK Teilnehmer 11",{"$f":"_xlfn.IFNA(INDEX(VLC!A:A,MATCH(1411,VLC!V:V,0)),\"\")","v":""},{"$f":"_xlfn.IFNA(INDEX(VLC!A:A,MATCH(1451,VLC!V:V,0)),\"\")","v":""},{"$f":"_xlfn.IFNA(INDEX(VLC!B:B,MATCH(1401+ROW(A11)-1,VLC!V:V,0)),\"\")","v":""},{"$f":"_xlfn.IFNA(INDEX(VLC!C:C,MATCH(1401+ROW(A11)-1,VLC!V:V,0)),\"\")","v":""},{"$f":"_xlfn.IFNA(IF(INDEX(VLC!H:H,MATCH(1401+ROW(A11)-1,VLC!V:V,0))=\"x\",_xlfn.IFNA(INDEX(VLC!H:H,MATCH(1401+ROW(A11)-1,VLC!V:V,0)),\"\"),\"\"),\"\")","v":""},{"$f":"_xlfn.IFNA(IF(INDEX(VLC!H:H,MATCH(1441+ROW(A11)-1,VLC!V:V,0))=\"x\",_xlfn.IFNA(INDEX(VLC!H:H,MATCH(1441+ROW(A11)-1,VLC!V:V,0)),\"\"),\"\"),\"\")","v":""},{"$f":"_xlfn.IFNA(IF(INDEX(VLC!I:I,MATCH(1401+ROW(A11)-1,VLC!V:V,0))<>\"\",_xlfn.IFNA(INDEX(VLC!I:I,MATCH(1401+ROW(A11)-1,VLC!V:V,0)),\"\"),\"\"),\"\")","v":""},{"$f":"_xlfn.IFNA(IF(INDEX(VLC!I:I,MATCH(1441+ROW(A11)-1,VLC!V:V,0))<>\"\",_xlfn.IFNA(INDEX(VLC!I:I,MATCH(1441+ROW(A11)-1,VLC!V:V,0)),\"\"),\"\"),\"\")","v":""},{"$f":"_xlfn.IFNA(IF(INDEX(VLC!J:J,MATCH(1401+ROW(A11)-1,VLC!V:V,0))=\"x\",_xlfn.IFNA(INDEX(VLC!J:J,MATCH(1401+ROW(A11)-1,VLC!V:V,0)),\"\"),\"\"),\"\")","v":""},{"$f":"_xlfn.IFNA(IF(INDEX(VLC!J:J,MATCH(1441+ROW(A11)-1,VLC!V:V,0))=\"x\",_xlfn.IFNA(INDEX(VLC!J:J,MATCH(1441+ROW(A11)-1,VLC!V:V,0)),\"\"),\"\"),\"\")","v":""},14011,14051]
["SK Teilnehmer 12",{"$f":"_xlfn.IFNA(INDEX(VLC!A:A,MATCH(1412,VLC!V:V,0)),\"\")","v":""},{"$f":"_xlfn.IFNA(INDEX(VLC!A:A,MATCH(1452,VLC!V:V,0)),\"\")","v":""},{"$f":"_xlfn.IFNA(INDEX(VLC!B:B,MATCH(1401+ROW(A12)-1,VLC!V:V,0)),\"\")","v":""},{"$f":"_xlfn.IFNA(INDEX(VLC!C:C,MATCH(1401+ROW(A12)-1,VLC!V:V,0)),\"\")","v":""},{"$f":"_xlfn.IFNA(IF(INDEX(VLC!H:H,MATCH(1401+ROW(A12)-1,VLC!V:V,0))=\"x\",_xlfn.IFNA(INDEX(VLC!H:H,MATCH(1401+ROW(A12)-1,VLC!V:V,0)),\"\"),\"\"),\"\")","v":""},{"$f":"_xlfn.IFNA(IF(INDEX(VLC!H:H,MATCH(1441+ROW(A12)-1,VLC!V:V,0))=\"x\",_xlfn.IFNA(INDEX(VLC!H:H,MATCH(1441+ROW(A12)-1,VLC!V:V,0)),\"\"),\"\"),\"\")","v":""},{"$f":"_xlfn.IFNA(IF(INDEX(VLC!I:I,MATCH(1401+ROW(A12)-1,VLC!V:V,0))<>\"\",_xlfn.IFNA(INDEX(VLC!I:I,MATCH(1401+ROW(A12)-1,VLC!V:V,0)),\"\"),\"\"),\"\")","v":""},{"$f":"_xlfn.IFNA(IF(INDEX(VLC!I:I,MATCH(1441+ROW(A12)-1,VLC!V:V,0))<>\"\",_xlfn.IFNA(INDEX(VLC!I:I,MATCH(1441+ROW(A12)-1,VLC!V:V,0)),\"\"),\"\"),\"\")","v":""},{"$f":"_xlfn.IFNA(IF(INDEX(VLC!J:J,MATCH(1401+ROW(A12)-1,VLC!V:V,0))=\"x\",_xlfn.IFNA(INDEX(VLC!J:J,MATCH(1401+ROW(A12)-1,VLC!V:V,0)),\"\"),\"\"),\"\")","v":""},{"$f":"_xlfn.IFNA(IF(INDEX(VLC!J:J,MATCH(1441+ROW(A12)-1,VLC!V:V,0))=\"x\",_xlfn.IFNA(INDEX(VLC!J:J,MATCH(1441+ROW(A12)-1,VLC!V:V,0)),\"\"),\"\"),\"\")","v":""},14012,14052]
["SK Teilnehmer 13",{"$f":"_xlfn.IFNA(INDEX(VLC!A:A,MATCH(1413,VLC!V:V,0)),\"\")","v":""},{"$f":"_xlfn.IFNA(INDEX(VLC!A:A,MATCH(1453,VLC!V:V,0)),\"\")","v":""},{"$f":"_xlfn.IFNA(INDEX(VLC!B:B,MATCH(1401+ROW(A13)-1,VLC!V:V,0)),\"\")","v":""},{"$f":"_xlfn.IFNA(INDEX(VLC!C:C,MATCH(1401+ROW(A13)-1,VLC!V:V,0)),\"\")","v":""},{"$f":"_xlfn.IFNA(IF(INDEX(VLC!H:H,MATCH(1401+ROW(A13)-1,VLC!V:V,0))=\"x\",_xlfn.IFNA(INDEX(VLC!H:H,MATCH(1401+ROW(A13)-1,VLC!V:V,0)),\"\"),\"\"),\"\")","v":""},{"$f":"_xlfn.IFNA(IF(INDEX(VLC!H:H,MATCH(1441+ROW(A13)-1,VLC!V:V,0))=\"x\",_xlfn.IFNA(INDEX(VLC!H:H,MATCH(1441+ROW(A13)-1,VLC!V:V,0)),\"\"),\"\"),\"\")","v":""},{"$f":"_xlfn.IFNA(IF(INDEX(VLC!I:I,MATCH(1401+ROW(A13)-1,VLC!V:V,0))<>\"\",_xlfn.IFNA(INDEX(VLC!I:I,MATCH(1401+ROW(A13)-1,VLC!V:V,0)),\"\"),\"\"),\"\")","v":""},{"$f":"_xlfn.IFNA(IF(INDEX(VLC!I:I,MATCH(1441+ROW(A13)-1,VLC!V:V,0))<>\"\",_xlfn.IFNA(INDEX(VLC!I:I,MATCH(1441+ROW(A13)-1,VLC!V:V,0)),\"\"),\"\"),\"\")","v":""},{"$f":"_xlfn.IFNA(IF(INDEX(VLC!J:J,MATCH(1401+ROW(A13)-1,VLC!V:V,0))=\"x\",_xlfn.IFNA(INDEX(VLC!J:J,MATCH(1401+ROW(A13)-1,VLC!V:V,0)),\"\"),\"\"),\"\")","v":""},{"$f":"_xlfn.IFNA(IF(INDEX(VLC!J:J,MATCH(1441+ROW(A13)-1,VLC!V:V,0))=\"x\",_xlfn.IFNA(INDEX(VLC!J:J,MATCH(1441+ROW(A13)-1,VLC!V:V,0)),\"\"),\"\"),\"\")","v":""},14013,14053]
["SK Teilnehmer 14",{"$f":"_xlfn.IFNA(INDEX(VLC!A:A,MATCH(1414,VLC!V:V,0)),\"\")","v":""},{"$f":"_xlfn.IFNA(INDEX(VLC!A:A,MATCH(1454,VLC!V:V,0)),\"\")","v":""},{"$f":"_xlfn.IFNA(INDEX(VLC!B:B,MATCH(1401+ROW(A14)-1,VLC!V:V,0)),\"\")","v":""},{"$f":"_xlfn.IFNA(INDEX(VLC!C:C,MATCH(1401+ROW(A14)-1,VLC!V:V,0)),\"\")","v":""},{"$f":"_xlfn.IFNA(IF(INDEX(VLC!H:H,MATCH(1401+ROW(A14)-1,VLC!V:V,0))=\"x\",_xlfn.IFNA(INDEX(VLC!H:H,MATCH(1401+ROW(A14)-1,VLC!V:V,0)),\"\"),\"\"),\"\")","v":""},{"$f":"_xlfn.IFNA(IF(INDEX(VLC!H:H,MATCH(1441+ROW(A14)-1,VLC!V:V,0))=\"x\",_xlfn.IFNA(INDEX(VLC!H:H,MATCH(1441+ROW(A14)-1,VLC!V:V,0)),\"\"),\"\"),\"\")","v":""},{"$f":"_xlfn.IFNA(IF(INDEX(VLC!I:I,MATCH(1401+ROW(A14)-1,VLC!V:V,0))<>\"\",_xlfn.IFNA(INDEX(VLC!I:I,MATCH(1401+ROW(A14)-1,VLC!V:V,0)),\"\"),\"\"),\"\")","v":""},{"$f":"_xlfn.IFNA(IF(INDEX(VLC!I:I,MATCH(1441+ROW(A14)-1,VLC!V:V,0))<>\"\",_xlfn.IFNA(INDEX(VLC!I:I,MATCH(1441+ROW(A14)-1,VLC!V:V,0)),\"\"),\"\"),\"\")","v":""},{"$f":"_xlfn.IFNA(IF(INDEX(VLC!J:J,MATCH(1401+ROW(A14)-1,VLC!V:V,0))=\"x\",_xlfn.IFNA(INDEX(VLC!J:J,MATCH(1401+ROW(A14)-1,VLC!V:V,0)),\"\"),\"\"),\"\")","v":""},{"$f":"_xlfn.IFNA(IF(INDEX(VLC!J:J,MATCH(1441+ROW(A14)-1,VLC!V:V,0))=\"x\",_xlfn.IFNA(INDEX(VLC!J:J,MATCH(1441+ROW(A14)-1,VLC!V:V,0)),\"\"),\"\"),\"\")","v":""},14014,14054]
["SK Teilnehmer 15",{"$f":"_xlfn.IFNA(INDEX(VLC!A:A,MATCH(1415,VLC!V:V,0)),\"\")","v":""},{"$f":"_xlfn.IFNA(INDEX(VLC!A:A,MATCH(1455,VLC!V:V,0)),\"\")","v":""},{"$f":"_xlfn.IFNA(INDEX(VLC!B:B,MATCH(1401+ROW(A15)-1,VLC!V:V,0)),\"\")","v":""},{"$f":"_xlfn.IFNA(INDEX(VLC!C:C,MATCH(1401+ROW(A15)-1,VLC!V:V,0)),\"\")","v":""},{"$f":"_xlfn.IFNA(IF(INDEX(VLC!H:H,MATCH(1401+ROW(A15)-1,VLC!V:V,0))=\"x\",_xlfn.IFNA(INDEX(VLC!H:H,MATCH(1401+ROW(A15)-1,VLC!V:V,0)),\"\"),\"\"),\"\")","v":""},{"$f":"_xlfn.IFNA(IF(INDEX(VLC!H:H,MATCH(1441+ROW(A15)-1,VLC!V:V,0))=\"x\",_xlfn.IFNA(INDEX(VLC!H:H,MATCH(1441+ROW(A15)-1,VLC!V:V,0)),\"\"),\"\"),\"\")","v":""},{"$f":"_xlfn.IFNA(IF(INDEX(VLC!I:I,MATCH(1401+ROW(A15)-1,VLC!V:V,0))<>\"\",_xlfn.IFNA(INDEX(VLC!I:I,MATCH(1401+ROW(A15)-1,VLC!V:V,0)),\"\"),\"\"),\"\")","v":""},{"$f":"_xlfn.IFNA(IF(INDEX(VLC!I:I,MATCH(1441+ROW(A15)-1,VLC!V:V,0))<>\"\",_xlfn.IFNA(INDEX(VLC!I:I,MATCH(1441+ROW(A15)-1,VLC!V:V,0)),\"\"),\"\"),\"\")","v":""},{"$f":"_xlfn.IFNA(IF(INDEX(VLC!J:J,MATCH(1401+ROW(A15)-1,VLC!V:V,0))=\"x\",_xlfn.IFNA(INDEX(VLC!J:J,MATCH(1401+ROW(A15)-1,VLC!V:V,0)),\"\"),\"\"),\"\")","v":""},{"$f":"_xlfn.IFNA(IF(INDEX(VLC!J:J,MATCH(1441+ROW(A15)-1,VLC!V:V,0))=\"x\",_xlfn.IFNA(INDEX(VLC!J:J,MATCH(1441+ROW(A15)-1,VLC!V:V,0)),\"\"),\"\"),\"\")","v":""},14015,14055]
["SK Teilnehmer 16",{"$f":"_xlfn.IFNA(INDEX(VLC!A:A,MATCH(1416,VLC!V:V,0)),\"\")","v":""},{"$f":"_xlfn.IFNA(INDEX(VLC!A:A,MATCH(1456,VLC!V:V,0)),\"\")","v":""},{"$f":"_xlfn.IFNA(INDEX(VLC!B:B,MATCH(1401+ROW(A16)-1,VLC!V:V,0)),\"\")","v":""},{"$f":"_xlfn.IFNA(INDEX(VLC!C:C,MATCH(1401+ROW(A16)-1,VLC!V:V,0)),\"\")","v":""},{"$f":"_xlfn.IFNA(IF(INDEX(VLC!H:H,MATCH(1401+ROW(A16)-1,VLC!V:V,0))=\"x\",_xlfn.IFNA(INDEX(VLC!H:H,MATCH(1401+ROW(A16)-1,VLC!V:V,0)),\"\"),\"\"),\"\")","v":""},{"$f":"_xlfn.IFNA(IF(INDEX(VLC!H:H,MATCH(1441+ROW(A16)-1,VLC!V:V,0))=\"x\",_xlfn.IFNA(INDEX(VLC!H:H,MATCH(1441+ROW(A16)-1,VLC!V:V,0)),\"\"),\"\"),\"\")","v":""},{"$f":"_xlfn.IFNA(IF(INDEX(VLC!I:I,MATCH(1401+ROW(A16)-1,VLC!V:V,0))<>\"\",_xlfn.IFNA(INDEX(VLC!I:I,MATCH(1401+ROW(A16)-1,VLC!V:V,0)),\"\"),\"\"),\"\")","v":""},{"$f":"_xlfn.IFNA(IF(INDEX(VLC!I:I,MATCH(1441+ROW(A16)-1,VLC!V:V,0))<>\"\",_xlfn.IFNA(INDEX(VLC!I:I,MATCH(1441+ROW(A16)-1,VLC!V:V,0)),\"\"),\"\"),\"\")","v":""},{"$f":"_xlfn.IFNA(IF(INDEX(VLC!J:J,MATCH(1401+ROW(A16)-1,VLC!V:V,0))=\"x\",_xlfn.IFNA(INDEX(VLC!J:J,MATCH(1401+ROW(A16)-1,VLC!V:V,0)),\"\"),\"\"),\"\")","v":""},{"$f":"_xlfn.IFNA(IF(INDEX(VLC!J:J,MATCH(1441+ROW(A16)-1,VLC!V:V,0))=\"x\",_xlfn.IFNA(INDEX(VLC!J:J,MATCH(1441+ROW(A16)-1,VLC!V:V,0)),\"\"),\"\"),\"\")","v":""},14016,14056]
["SK Teilnehmer 17",{"$f":"_xlfn.IFNA(INDEX(VLC!A:A,MATCH(1417,VLC!V:V,0)),\"\")","v":""},{"$f":"_xlfn.IFNA(INDEX(VLC!A:A,MATCH(1457,VLC!V:V,0)),\"\")","v":""},{"$f":"_xlfn.IFNA(INDEX(VLC!B:B,MATCH(1401+ROW(A17)-1,VLC!V:V,0)),\"\")","v":""},{"$f":"_xlfn.IFNA(INDEX(VLC!C:C,MATCH(1401+ROW(A17)-1,VLC!V:V,0)),\"\")","v":""},{"$f":"_xlfn.IFNA(IF(INDEX(VLC!H:H,MATCH(1401+ROW(A17)-1,VLC!V:V,0))=\"x\",_xlfn.IFNA(INDEX(VLC!H:H,MATCH(1401+ROW(A17)-1,VLC!V:V,0)),\"\"),\"\"),\"\")","v":""},{"$f":"_xlfn.IFNA(IF(INDEX(VLC!H:H,MATCH(1441+ROW(A17)-1,VLC!V:V,0))=\"x\",_xlfn.IFNA(INDEX(VLC!H:H,MATCH(1441+ROW(A17)-1,VLC!V:V,0)),\"\"),\"\"),\"\")","v":""},{"$f":"_xlfn.IFNA(IF(INDEX(VLC!I:I,MATCH(1401+ROW(A17)-1,VLC!V:V,0))<>\"\",_xlfn.IFNA(INDEX(VLC!I:I,MATCH(1401+ROW(A17)-1,VLC!V:V,0)),\"\"),\"\"),\"\")","v":""},{"$f":"_xlfn.IFNA(IF(INDEX(VLC!I:I,MATCH(1441+ROW(A17)-1,VLC!V:V,0))<>\"\",_xlfn.IFNA(INDEX(VLC!I:I,MATCH(1441+ROW(A17)-1,VLC!V:V,0)),\"\"),\"\"),\"\")","v":""},{"$f":"_xlfn.IFNA(IF(INDEX(VLC!J:J,MATCH(1401+ROW(A17)-1,VLC!V:V,0))=\"x\",_xlfn.IFNA(INDEX(VLC!J:J,MATCH(1401+ROW(A17)-1,VLC!V:V,0)),\"\"),\"\"),\"\")","v":""},{"$f":"_xlfn.IFNA(IF(INDEX(VLC!J:J,MATCH(1441+ROW(A17)-1,VLC!V:V,0))=\"x\",_xlfn.IFNA(INDEX(VLC!J:J,MATCH(1441+ROW(A17)-1,VLC!V:V,0)),\"\"),\"\"),\"\")","v":""},14017,14057]
["SK Teilnehmer 18",{"$f":"_xlfn.IFNA(INDEX(VLC!A:A,MATCH(1418,VLC!V:V,0)),\"\")","v":""},{"$f":"_xlfn.IFNA(INDEX(VLC!A:A,MATCH(1458,VLC!V:V,0)),\"\")","v":""},{"$f":"_xlfn.IFNA(INDEX(VLC!B:B,MATCH(1401+ROW(A18)-1,VLC!V:V,0)),\"\")","v":""},{"$f":"_xlfn.IFNA(INDEX(VLC!C:C,MATCH(1401+ROW(A18)-1,VLC!V:V,0)),\"\")","v":""},{"$f":"_xlfn.IFNA(IF(INDEX(VLC!H:H,MATCH(1401+ROW(A18)-1,VLC!V:V,0))=\"x\",_xlfn.IFNA(INDEX(VLC!H:H,MATCH(1401+ROW(A18)-1,VLC!V:V,0)),\"\"),\"\"),\"\")","v":""},{"$f":"_xlfn.IFNA(IF(INDEX(VLC!H:H,MATCH(1441+ROW(A18)-1,VLC!V:V,0))=\"x\",_xlfn.IFNA(INDEX(VLC!H:H,MATCH(1441+ROW(A18)-1,VLC!V:V,0)),\"\"),\"\"),\"\")","v":""},{"$f":"_xlfn.IFNA(IF(INDEX(VLC!I:I,MATCH(1401+ROW(A18)-1,VLC!V:V,0))<>\"\",_xlfn.IFNA(INDEX(VLC!I:I,MATCH(1401+ROW(A18)-1,VLC!V:V,0)),\"\"),\"\"),\"\")","v":""},{"$f":"_xlfn.IFNA(IF(INDEX(VLC!I:I,MATCH(1441+ROW(A18)-1,VLC!V:V,0))<>\"\",_xlfn.IFNA(INDEX(VLC!I:I,MATCH(1441+ROW(A18)-1,VLC!V:V,0)),\"\"),\"\"),\"\")","v":""},{"$f":"_xlfn.IFNA(IF(INDEX(VLC!J:J,MATCH(1401+ROW(A18)-1,VLC!V:V,0))=\"x\",_xlfn.IFNA(INDEX(VLC!J:J,MATCH(1401+ROW(A18)-1,VLC!V:V,0)),\"\"),\"\"),\"\")","v":""},{"$f":"_xlfn.IFNA(IF(INDEX(VLC!J:J,MATCH(1441+ROW(A18)-1,VLC!V:V,0))=\"x\",_xlfn.IFNA(INDEX(VLC!J:J,MATCH(1441+ROW(A18)-1,VLC!V:V,0)),\"\"),\"\"),\"\")","v":""},14018,14058]
["SK Teilnehmer 19",{"$f":"_xlfn.IFNA(INDEX(VLC!A:A,MATCH(1419,VLC!V:V,0)),\"\")","v":""},{"$f":"_xlfn.IFNA(INDEX(VLC!A:A,MATCH(1459,VLC!V:V,0)),\"\")","v":""},{"$f":"_xlfn.IFNA(INDEX(VLC!B:B,MATCH(1401+ROW(A19)-1,VLC!V:V,0)),\"\")","v":""},{"$f":"_xlfn.IFNA(INDEX(VLC!C:C,MATCH(1401+ROW(A19)-1,VLC!V:V,0)),\"\")","v":""},{"$f":"_xlfn.IFNA(IF(INDEX(VLC!H:H,MATCH(1401+ROW(A19)-1,VLC!V:V,0))=\"x\",_xlfn.IFNA(INDEX(VLC!H:H,MATCH(1401+ROW(A19)-1,VLC!V:V,0)),\"\"),\"\"),\"\")","v":""},{"$f":"_xlfn.IFNA(IF(INDEX(VLC!H:H,MATCH(1441+ROW(A19)-1,VLC!V:V,0))=\"x\",_xlfn.IFNA(INDEX(VLC!H:H,MATCH(1441+ROW(A19)-1,VLC!V:V,0)),\"\"),\"\"),\"\")","v":""},{"$f":"_xlfn.IFNA(IF(INDEX(VLC!I:I,MATCH(1401+ROW(A19)-1,VLC!V:V,0))<>\"\",_xlfn.IFNA(INDEX(VLC!I:I,MATCH(1401+ROW(A19)-1,VLC!V:V,0)),\"\"),\"\"),\"\")","v":""},{"$f":"_xlfn.IFNA(IF(INDEX(VLC!I:I,MATCH(1441+ROW(A19)-1,VLC!V:V,0))<>\"\",_xlfn.IFNA(INDEX(VLC!I:I,MATCH(1441+ROW(A19)-1,VLC!V:V,0)),\"\"),\"\"),\"\")","v":""},{"$f":"_xlfn.IFNA(IF(INDEX(VLC!J:J,MATCH(1401+ROW(A19)-1,VLC!V:V,0))=\"x\",_xlfn.IFNA(INDEX(VLC!J:J,MATCH(1401+ROW(A19)-1,VLC!V:V,0)),\"\"),\"\"),\"\")","v":""},{"$f":"_xlfn.IFNA(IF(INDEX(VLC!J:J,MATCH(1441+ROW(A19)-1,VLC!V:V,0))=\"x\",_xlfn.IFNA(INDEX(VLC!J:J,MATCH(1441+ROW(A19)-1,VLC!V:V,0)),\"\"),\"\"),\"\")","v":""},14019,14059]
["SK Teilnehmer 20",{"$f":"_xlfn.IFNA(INDEX(VLC!A:A,MATCH(1420,VLC!V:V,0)),\"\")","v":""},{"$f":"_xlfn.IFNA(INDEX(VLC!A:A,MATCH(1460,VLC!V:V,0)),\"\")","v":""},{"$f":"_xlfn.IFNA(INDEX(VLC!B:B,MATCH(1401+ROW(A20)-1,VLC!V:V,0)),\"\")","v":""},{"$f":"_xlfn.IFNA(INDEX(VLC!C:C,MATCH(1401+ROW(A20)-1,VLC!V:V,0)),\"\")","v":""},{"$f":"_xlfn.IFNA(IF(INDEX(VLC!H:H,MATCH(1401+ROW(A20)-1,VLC!V:V,0))=\"x\",_xlfn.IFNA(INDEX(VLC!H:H,MATCH(1401+ROW(A20)-1,VLC!V:V,0)),\"\"),\"\"),\"\")","v":""},{"$f":"_xlfn.IFNA(IF(INDEX(VLC!H:H,MATCH(1441+ROW(A20)-1,VLC!V:V,0))=\"x\",_xlfn.IFNA(INDEX(VLC!H:H,MATCH(1441+ROW(A20)-1,VLC!V:V,0)),\"\"),\"\"),\"\")","v":""},{"$f":"_xlfn.IFNA(IF(INDEX(VLC!I:I,MATCH(1401+ROW(A20)-1,VLC!V:V,0))<>\"\",_xlfn.IFNA(INDEX(VLC!I:I,MATCH(1401+ROW(A20)-1,VLC!V:V,0)),\"\"),\"\"),\"\")","v":""},{"$f":"_xlfn.IFNA(IF(INDEX(VLC!I:I,MATCH(1441+ROW(A20)-1,VLC!V:V,0))<>\"\",_xlfn.IFNA(INDEX(VLC!I:I,MATCH(1441+ROW(A20)-1,VLC!V:V,0)),\"\"),\"\"),\"\")","v":""},{"$f":"_xlfn.IFNA(IF(INDEX(VLC!J:J,MATCH(1401+ROW(A20)-1,VLC!V:V,0))=\"x\",_xlfn.IFNA(INDEX(VLC!J:J,MATCH(1401+ROW(A20)-1,VLC!V:V,0)),\"\"),\"\"),\"\")","v":""},{"$f":"_xlfn.IFNA(IF(INDEX(VLC!J:J,MATCH(1441+ROW(A20)-1,VLC!V:V,0))=\"x\",_xlfn.IFNA(INDEX(VLC!J:J,MATCH(1441+ROW(A20)-1,VLC!V:V,0)),\"\"),\"\"),\"\")","v":""},14020,14060]
["Gerätename:",{"$f":"$B$6","v":0},null,null,"PLC24 Stromkreis-Nummer: 15"]
["Stromkreis-Bezeichnung:"]
["Stromkreisbelegung","ID 1","ID 2","Bezeichnung","Zusatzinfo","DL",null,"GL",null,"BL"]
[null,null,null,null,null,"ID1","ID2","ID1","ID2","ID1","ID2"]
["SK Teilnehmer 1",{"$f":"_xlfn.IFNA(INDEX(VLC!A:A,MATCH(1501,VLC!V:V,0)),\"\")","v":""},{"$f":"_xlfn.IFNA(INDEX(VLC!A:A,MATCH(1541,VLC!V:V,0)),\"\")","v":""},{"$f":"_xlfn.IFNA(INDEX(VLC!B:B,MATCH(1501+ROW(A1)-1,VLC!V:V,0)),\"\")","v":""},{"$f":"_xlfn.IFNA(INDEX(VLC!C:C,MATCH(1501+ROW(A1)-1,VLC!V:V,0)),\"\")","v":""},{"$f":"_xlfn.IFNA(IF(INDEX(VLC!H:H,MATCH(1501+ROW(A1)-1,VLC!V:V,0))=\"x\",_xlfn.IFNA(INDEX(VLC!H:H,MATCH(1501+ROW(A1)-1,VLC!V:V,0)),\"\"),\"\"),\"\")","v":""},{"$f":"_xlfn.IFNA(IF(INDEX(VLC!H:H,MATCH(1541+ROW(A1)-1,VLC!V:V,0))=\"x\",_xlfn.IFNA(INDEX(VLC!H:H,MATCH(1541+ROW(A1)-1,VLC!V:V,0)),\"\"),\"\"),\"\")","v":""},{"$f":"_xlfn.IFNA(IF(INDEX(VLC!I:I,MATCH(1501+ROW(A1)-1,VLC!V:V,0))<>\"\",_xlfn.IFNA(INDEX(VLC!I:I,MATCH(1501+ROW(A1)-1,VLC!V:V,0)),\"\"),\"\"),\"\")","v":""},{"$f":"_xlfn.IFNA(IF(INDEX(VLC!I:I,MATCH(1541+ROW(A1)-1,VLC!V:V,0))<>\"\",_xlfn.IFNA(INDEX(VLC!I:I,MATCH(1541+ROW(A1)-1,VLC!V:V,0)),\"\"),\"\"),\"\")","v":""},{"$f":"_xlfn.IFNA(IF(INDEX(VLC!J:J,MATCH(1501+ROW(A1)-1,VLC!V:V,0))=\"x\",_xlfn.IFNA(INDEX(VLC!J:J,MATCH(1501+ROW(A1)-1,VLC!V:V,0)),\"\"),\"\"),\"\")","v":""},{"$f":"_xlfn.IFNA(IF(INDEX(VLC!J:J,MATCH(1541+ROW(A1)-1,VLC!V:V,0))=\"x\",_xlfn.IFNA(INDEX(VLC!J:J,MATCH(1541+ROW(A1)-1,VLC!V:V,0)),\"\"),\"\"),\"\")","v":""},{"$f":"15000+ROW(A346)-345","v":15001},{"$f":"L346+40","v":15041}]
["SK Teilnehmer 2",{"$f":"_xlfn.IFNA(INDEX(VLC!A:A,MATCH(1502,VLC!V:V,0)),\"\")","v":""},{"$f":"_xlfn.IFNA(INDEX(VLC!A:A,MATCH(1542,VLC!V:V,0)),\"\")","v":""},{"$f":"_xlfn.IFNA(INDEX(VLC!B:B,MATCH(1501+ROW(A2)-1,VLC!V:V,0)),\"\")","v":""},{"$f":"_xlfn.IFNA(INDEX(VLC!C:C,MATCH(1501+ROW(A2)-1,VLC!V:V,0)),\"\")","v":""},{"$f":"_xlfn.IFNA(IF(INDEX(VLC!H:H,MATCH(1501+ROW(A2)-1,VLC!V:V,0))=\"x\",_xlfn.IFNA(INDEX(VLC!H:H,MATCH(1501+ROW(A2)-1,VLC!V:V,0)),\"\"),\"\"),\"\")","v":""},{"$f":"_xlfn.IFNA(IF(INDEX(VLC!H:H,MATCH(1541+ROW(A2)-1,VLC!V:V,0))=\"x\",_xlfn.IFNA(INDEX(VLC!H:H,MATCH(1541+ROW(A2)-1,VLC!V:V,0)),\"\"),\"\"),\"\")","v":""},{"$f":"_xlfn.IFNA(IF(INDEX(VLC!I:I,MATCH(1501+ROW(A2)-1,VLC!V:V,0))<>\"\",_xlfn.IFNA(INDEX(VLC!I:I,MATCH(1501+ROW(A2)-1,VLC!V:V,0)),\"\"),\"\"),\"\")","v":""},{"$f":"_xlfn.IFNA(IF(INDEX(VLC!I:I,MATCH(1541+ROW(A2)-1,VLC!V:V,0))<>\"\",_xlfn.IFNA(INDEX(VLC!I:I,MATCH(1541+ROW(A2)-1,VLC!V:V,0)),\"\"),\"\"),\"\")","v":""},{"$f":"_xlfn.IFNA(IF(INDEX(VLC!J:J,MATCH(1501+ROW(A2)-1,VLC!V:V,0))=\"x\",_xlfn.IFNA(INDEX(VLC!J:J,MATCH(1501+ROW(A2)-1,VLC!V:V,0)),\"\"),\"\"),\"\")","v":""},{"$f":"_xlfn.IFNA(IF(INDEX(VLC!J:J,MATCH(1541+ROW(A2)-1,VLC!V:V,0))=\"x\",_xlfn.IFNA(INDEX(VLC!J:J,MATCH(1541+ROW(A2)-1,VLC!V:V,0)),\"\"),\"\"),\"\")","v":""},{"$f":"15000+ROW(A347)-345","v":15002},{"$f":"L347+40","v":15042}]
["SK Teilnehmer 3",{"$f":"_xlfn.IFNA(INDEX(VLC!A:A,MATCH(1503,VLC!V:V,0)),\"\")","v":""},{"$f":"_xlfn.IFNA(INDEX(VLC!A:A,MATCH(1543,VLC!V:V,0)),\"\")","v":""},{"$f":"_xlfn.IFNA(INDEX(VLC!B:B,MATCH(1501+ROW(A3)-1,VLC!V:V,0)),\"\")","v":""},{"$f":"_xlfn.IFNA(INDEX(VLC!C:C,MATCH(1501+ROW(A3)-1,VLC!V:V,0)),\"\")","v":""},{"$f":"_xlfn.IFNA(IF(INDEX(VLC!H:H,MATCH(1501+ROW(A3)-1,VLC!V:V,0))=\"x\",_xlfn.IFNA(INDEX(VLC!H:H,MATCH(1501+ROW(A3)-1,VLC!V:V,0)),\"\"),\"\"),\"\")","v":""},{"$f":"_xlfn.IFNA(IF(INDEX(VLC!H:H,MATCH(1541+ROW(A3)-1,VLC!V:V,0))=\"x\",_xlfn.IFNA(INDEX(VLC!H:H,MATCH(1541+ROW(A3)-1,VLC!V:V,0)),\"\"),\"\"),\"\")","v":""},{"$f":"_xlfn.IFNA(IF(INDEX(VLC!I:I,MATCH(1501+ROW(A3)-1,VLC!V:V,0))<>\"\",_xlfn.IFNA(INDEX(VLC!I:I,MATCH(1501+ROW(A3)-1,VLC!V:V,0)),\"\"),\"\"),\"\")","v":""},{"$f":"_xlfn.IFNA(IF(INDEX(VLC!I:I,MATCH(1541+ROW(A3)-1,VLC!V:V,0))<>\"\",_xlfn.IFNA(INDEX(VLC!I:I,MATCH(1541+ROW(A3)-1,VLC!V:V,0)),\"\"),\"\"),\"\")","v":""},{"$f":"_xlfn.IFNA(IF(INDEX(VLC!J:J,MATCH(1501+ROW(A3)-1,VLC!V:V,0))=\"x\",_xlfn.IFNA(INDEX(VLC!J:J,MATCH(1501+ROW(A3)-1,VLC!V:V,0)),\"\"),\"\"),\"\")","v":""},{"$f":"_xlfn.IFNA(IF(INDEX(VLC!J:J,MATCH(1541+ROW(A3)-1,VLC!V:V,0))=\"x\",_xlfn.IFNA(INDEX(VLC!J:J,MATCH(1541+ROW(A3)-1,VLC!V:V,0)),\"\"),\"\"),\"\")","v":""},15003,15043]
["SK Teilnehmer 4",{"$f":"_xlfn.IFNA(INDEX(VLC!A:A,MATCH(1504,VLC!V:V,0)),\"\")","v":""},{"$f":"_xlfn.IFNA(INDEX(VLC!A:A,MATCH(1544,VLC!V:V,0)),\"\")","v":""},{"$f":"_xlfn.IFNA(INDEX(VLC!B:B,MATCH(1501+ROW(A4)-1,VLC!V:V,0)),\"\")","v":""},{"$f":"_xlfn.IFNA(INDEX(VLC!C:C,MATCH(1501+ROW(A4)-1,VLC!V:V,0)),\"\")","v":""},{"$f":"_xlfn.IFNA(IF(INDEX(VLC!H:H,MATCH(1501+ROW(A4)-1,VLC!V:V,0))=\"x\",_xlfn.IFNA(INDEX(VLC!H:H,MATCH(1501+ROW(A4)-1,VLC!V:V,0)),\"\"),\"\"),\"\")","v":""},{"$f":"_xlfn.IFNA(IF(INDEX(VLC!H:H,MATCH(1541+ROW(A4)-1,VLC!V:V,0))=\"x\",_xlfn.IFNA(INDEX(VLC!H:H,MATCH(1541+ROW(A4)-1,VLC!V:V,0)),\"\"),\"\"),\"\")","v":""},{"$f":"_xlfn.IFNA(IF(INDEX(VLC!I:I,MATCH(1501+ROW(A4)-1,VLC!V:V,0))<>\"\",_xlfn.IFNA(INDEX(VLC!I:I,MATCH(1501+ROW(A4)-1,VLC!V:V,0)),\"\"),\"\"),\"\")","v":""},{"$f":"_xlfn.IFNA(IF(INDEX(VLC!I:I,MATCH(1541+ROW(A4)-1,VLC!V:V,0))<>\"\",_xlfn.IFNA(INDEX(VLC!I:I,MATCH(1541+ROW(A4)-1,VLC!V:V,0)),\"\"),\"\"),\"\")","v":""},{"$f":"_xlfn.IFNA(IF(INDEX(VLC!J:J,MATCH(1501+ROW(A4)-1,VLC!V:V,0))=\"x\",_xlfn.IFNA(INDEX(VLC!J:J,MATCH(1501+ROW(A4)-1,VLC!V:V,0)),\"\"),\"\"),\"\")","v":""},{"$f":"_xlfn.IFNA(IF(INDEX(VLC!J:J,MATCH(1541+ROW(A4)-1,VLC!V:V,0))=\"x\",_xlfn.IFNA(INDEX(VLC!J:J,MATCH(1541+ROW(A4)-1,VLC!V:V,0)),\"\"),\"\"),\"\")","v":""},15004,15044]
["SK Teilnehmer 5",{"$f":"_xlfn.IFNA(INDEX(VLC!A:A,MATCH(1505,VLC!V:V,0)),\"\")","v":""},{"$f":"_xlfn.IFNA(INDEX(VLC!A:A,MATCH(1545,VLC!V:V,0)),\"\")","v":""},{"$f":"_xlfn.IFNA(INDEX(VLC!B:B,MATCH(1501+ROW(A5)-1,VLC!V:V,0)),\"\")","v":""},{"$f":"_xlfn.IFNA(INDEX(VLC!C:C,MATCH(1501+ROW(A5)-1,VLC!V:V,0)),\"\")","v":""},{"$f":"_xlfn.IFNA(IF(INDEX(VLC!H:H,MATCH(1501+ROW(A5)-1,VLC!V:V,0))=\"x\",_xlfn.IFNA(INDEX(VLC!H:H,MATCH(1501+ROW(A5)-1,VLC!V:V,0)),\"\"),\"\"),\"\")","v":""},{"$f":"_xlfn.IFNA(IF(INDEX(VLC!H:H,MATCH(1541+ROW(A5)-1,VLC!V:V,0))=\"x\",_xlfn.IFNA(INDEX(VLC!H:H,MATCH(1541+ROW(A5)-1,VLC!V:V,0)),\"\"),\"\"),\"\")","v":""},{"$f":"_xlfn.IFNA(IF(INDEX(VLC!I:I,MATCH(1501+ROW(A5)-1,VLC!V:V,0))<>\"\",_xlfn.IFNA(INDEX(VLC!I:I,MATCH(1501+ROW(A5)-1,VLC!V:V,0)),\"\"),\"\"),\"\")","v":""},{"$f":"_xlfn.IFNA(IF(INDEX(VLC!I:I,MATCH(1541+ROW(A5)-1,VLC!V:V,0))<>\"\",_xlfn.IFNA(INDEX(VLC!I:I,MATCH(1541+ROW(A5)-1,VLC!V:V,0)),\"\"),\"\"),\"\")","v":""},{"$f":"_xlfn.IFNA(IF(INDEX(VLC!J:J,MATCH(1501+ROW(A5)-1,VLC!V:V,0))=\"x\",_xlfn.IFNA(INDEX(VLC!J:J,MATCH(1501+ROW(A5)-1,VLC!V:V,0)),\"\"),\"\"),\"\")","v":""},{"$f":"_xlfn.IFNA(IF(INDEX(VLC!J:J,MATCH(1541+ROW(A5)-1,VLC!V:V,0))=\"x\",_xlfn.IFNA(INDEX(VLC!J:J,MATCH(1541+ROW(A5)-1,VLC!V:V,0)),\"\"),\"\"),\"\")","v":""},15005,15045]
["SK Teilnehmer 6",{"$f":"_xlfn.IFNA(INDEX(VLC!A:A,MATCH(1506,VLC!V:V,0)),\"\")","v":""},{"$f":"_xlfn.IFNA(INDEX(VLC!A:A,MATCH(1546,VLC!V:V,0)),\"\")","v":""},{"$f":"_xlfn.IFNA(INDEX(VLC!B:B,MATCH(1501+ROW(A6)-1,VLC!V:V,0)),\"\")","v":""},{"$f":"_xlfn.IFNA(INDEX(VLC!C:C,MATCH(1501+ROW(A6)-1,VLC!V:V,0)),\"\")","v":""},{"$f":"_xlfn.IFNA(IF(INDEX(VLC!H:H,MATCH(1501+ROW(A6)-1,VLC!V:V,0))=\"x\",_xlfn.IFNA(INDEX(VLC!H:H,MATCH(1501+ROW(A6)-1,VLC!V:V,0)),\"\"),\"\"),\"\")","v":""},{"$f":"_xlfn.IFNA(IF(INDEX(VLC!H:H,MATCH(1541+ROW(A6)-1,VLC!V:V,0))=\"x\",_xlfn.IFNA(INDEX(VLC!H:H,MATCH(1541+ROW(A6)-1,VLC!V:V,0)),\"\"),\"\"),\"\")","v":""},{"$f":"_xlfn.IFNA(IF(INDEX(VLC!I:I,MATCH(1501+ROW(A6)-1,VLC!V:V,0))<>\"\",_xlfn.IFNA(INDEX(VLC!I:I,MATCH(1501+ROW(A6)-1,VLC!V:V,0)),\"\"),\"\"),\"\")","v":""},{"$f":"_xlfn.IFNA(IF(INDEX(VLC!I:I,MATCH(1541+ROW(A6)-1,VLC!V:V,0))<>\"\",_xlfn.IFNA(INDEX(VLC!I:I,MATCH(1541+ROW(A6)-1,VLC!V:V,0)),\"\"),\"\"),\"\")","v":""},{"$f":"_xlfn.IFNA(IF(INDEX(VLC!J:J,MATCH(1501+ROW(A6)-1,VLC!V:V,0))=\"x\",_xlfn.IFNA(INDEX(VLC!J:J,MATCH(1501+ROW(A6)-1,VLC!V:V,0)),\"\"),\"\"),\"\")","v":""},{"$f":"_xlfn.IFNA(IF(INDEX(VLC!J:J,MATCH(1541+ROW(A6)-1,VLC!V:V,0))=\"x\",_xlfn.IFNA(INDEX(VLC!J:J,MATCH(1541+ROW(A6)-1,VLC!V:V,0)),\"\"),\"\"),\"\")","v":""},15006,15046]
["SK Teilnehmer 7",{"$f":"_xlfn.IFNA(INDEX(VLC!A:A,MATCH(1507,VLC!V:V,0)),\"\")","v":""},{"$f":"_xlfn.IFNA(INDEX(VLC!A:A,MATCH(1547,VLC!V:V,0)),\"\")","v":""},{"$f":"_xlfn.IFNA(INDEX(VLC!B:B,MATCH(1501+ROW(A7)-1,VLC!V:V,0)),\"\")","v":""},{"$f":"_xlfn.IFNA(INDEX(VLC!C:C,MATCH(1501+ROW(A7)-1,VLC!V:V,0)),\"\")","v":""},{"$f":"_xlfn.IFNA(IF(INDEX(VLC!H:H,MATCH(1501+ROW(A7)-1,VLC!V:V,0))=\"x\",_xlfn.IFNA(INDEX(VLC!H:H,MATCH(1501+ROW(A7)-1,VLC!V:V,0)),\"\"),\"\"),\"\")","v":""},{"$f":"_xlfn.IFNA(IF(INDEX(VLC!H:H,MATCH(1541+ROW(A7)-1,VLC!V:V,0))=\"x\",_xlfn.IFNA(INDEX(VLC!H:H,MATCH(1541+ROW(A7)-1,VLC!V:V,0)),\"\"),\"\"),\"\")","v":""},{"$f":"_xlfn.IFNA(IF(INDEX(VLC!I:I,MATCH(1501+ROW(A7)-1,VLC!V:V,0))<>\"\",_xlfn.IFNA(INDEX(VLC!I:I,MATCH(1501+ROW(A7)-1,VLC!V:V,0)),\"\"),\"\"),\"\")","v":""},{"$f":"_xlfn.IFNA(IF(INDEX(VLC!I:I,MATCH(1541+ROW(A7)-1,VLC!V:V,0))<>\"\",_xlfn.IFNA(INDEX(VLC!I:I,MATCH(1541+ROW(A7)-1,VLC!V:V,0)),\"\"),\"\"),\"\")","v":""},{"$f":"_xlfn.IFNA(IF(INDEX(VLC!J:J,MATCH(1501+ROW(A7)-1,VLC!V:V,0))=\"x\",_xlfn.IFNA(INDEX(VLC!J:J,MATCH(1501+ROW(A7)-1,VLC!V:V,0)),\"\"),\"\"),\"\")","v":""},{"$f":"_xlfn.IFNA(IF(INDEX(VLC!J:J,MATCH(1541+ROW(A7)-1,VLC!V:V,0))=\"x\",_xlfn.IFNA(INDEX(VLC!J:J,MATCH(1541+ROW(A7)-1,VLC!V:V,0)),\"\"),\"\"),\"\")","v":""},15007,15047]
["SK Teilnehmer 8",{"$f":"_xlfn.IFNA(INDEX(VLC!A:A,MATCH(1508,VLC!V:V,0)),\"\")","v":""},{"$f":"_xlfn.IFNA(INDEX(VLC!A:A,MATCH(1548,VLC!V:V,0)),\"\")","v":""},{"$f":"_xlfn.IFNA(INDEX(VLC!B:B,MATCH(1501+ROW(A8)-1,VLC!V:V,0)),\"\")","v":""},{"$f":"_xlfn.IFNA(INDEX(VLC!C:C,MATCH(1501+ROW(A8)-1,VLC!V:V,0)),\"\")","v":""},{"$f":"_xlfn.IFNA(IF(INDEX(VLC!H:H,MATCH(1501+ROW(A8)-1,VLC!V:V,0))=\"x\",_xlfn.IFNA(INDEX(VLC!H:H,MATCH(1501+ROW(A8)-1,VLC!V:V,0)),\"\"),\"\"),\"\")","v":""},{"$f":"_xlfn.IFNA(IF(INDEX(VLC!H:H,MATCH(1541+ROW(A8)-1,VLC!V:V,0))=\"x\",_xlfn.IFNA(INDEX(VLC!H:H,MATCH(1541+ROW(A8)-1,VLC!V:V,0)),\"\"),\"\"),\"\")","v":""},{"$f":"_xlfn.IFNA(IF(INDEX(VLC!I:I,MATCH(1501+ROW(A8)-1,VLC!V:V,0))<>\"\",_xlfn.IFNA(INDEX(VLC!I:I,MATCH(1501+ROW(A8)-1,VLC!V:V,0)),\"\"),\"\"),\"\")","v":""},{"$f":"_xlfn.IFNA(IF(INDEX(VLC!I:I,MATCH(1541+ROW(A8)-1,VLC!V:V,0))<>\"\",_xlfn.IFNA(INDEX(VLC!I:I,MATCH(1541+ROW(A8)-1,VLC!V:V,0)),\"\"),\"\"),\"\")","v":""},{"$f":"_xlfn.IFNA(IF(INDEX(VLC!J:J,MATCH(1501+ROW(A8)-1,VLC!V:V,0))=\"x\",_xlfn.IFNA(INDEX(VLC!J:J,MATCH(1501+ROW(A8)-1,VLC!V:V,0)),\"\"),\"\"),\"\")","v":""},{"$f":"_xlfn.IFNA(IF(INDEX(VLC!J:J,MATCH(1541+ROW(A8)-1,VLC!V:V,0))=\"x\",_xlfn.IFNA(INDEX(VLC!J:J,MATCH(1541+ROW(A8)-1,VLC!V:V,0)),\"\"),\"\"),\"\")","v":""},15008,15048]
["SK Teilnehmer 9",{"$f":"_xlfn.IFNA(INDEX(VLC!A:A,MATCH(1509,VLC!V:V,0)),\"\")","v":""},{"$f":"_xlfn.IFNA(INDEX(VLC!A:A,MATCH(1549,VLC!V:V,0)),\"\")","v":""},{"$f":"_xlfn.IFNA(INDEX(VLC!B:B,MATCH(1501+ROW(A9)-1,VLC!V:V,0)),\"\")","v":""},{"$f":"_xlfn.IFNA(INDEX(VLC!C:C,MATCH(1501+ROW(A9)-1,VLC!V:V,0)),\"\")","v":""},{"$f":"_xlfn.IFNA(IF(INDEX(VLC!H:H,MATCH(1501+ROW(A9)-1,VLC!V:V,0))=\"x\",_xlfn.IFNA(INDEX(VLC!H:H,MATCH(1501+ROW(A9)-1,VLC!V:V,0)),\"\"),\"\"),\"\")","v":""},{"$f":"_xlfn.IFNA(IF(INDEX(VLC!H:H,MATCH(1541+ROW(A9)-1,VLC!V:V,0))=\"x\",_xlfn.IFNA(INDEX(VLC!H:H,MATCH(1541+ROW(A9)-1,VLC!V:V,0)),\"\"),\"\"),\"\")","v":""},{"$f":"_xlfn.IFNA(IF(INDEX(VLC!I:I,MATCH(1501+ROW(A9)-1,VLC!V:V,0))<>\"\",_xlfn.IFNA(INDEX(VLC!I:I,MATCH(1501+ROW(A9)-1,VLC!V:V,0)),\"\"),\"\"),\"\")","v":""},{"$f":"_xlfn.IFNA(IF(INDEX(VLC!I:I,MATCH(1541+ROW(A9)-1,VLC!V:V,0))<>\"\",_xlfn.IFNA(INDEX(VLC!I:I,MATCH(1541+ROW(A9)-1,VLC!V:V,0)),\"\"),\"\"),\"\")","v":""},{"$f":"_xlfn.IFNA(IF(INDEX(VLC!J:J,MATCH(1501+ROW(A9)-1,VLC!V:V,0))=\"x\",_xlfn.IFNA(INDEX(VLC!J:J,MATCH(1501+ROW(A9)-1,VLC!V:V,0)),\"\"),\"\"),\"\")","v":""},{"$f":"_xlfn.IFNA(IF(INDEX(VLC!J:J,MATCH(1541+ROW(A9)-1,VLC!V:V,0))=\"x\",_xlfn.IFNA(INDEX(VLC!J:J,MATCH(1541+ROW(A9)-1,VLC!V:V,0)),\"\"),\"\"),\"\")","v":""},15009,15049]
["SK Teilnehmer 10",{"$f":"_xlfn.IFNA(INDEX(VLC!A:A,MATCH(1510,VLC!V:V,0)),\"\")","v":""},{"$f":"_xlfn.IFNA(INDEX(VLC!A:A,MATCH(1550,VLC!V:V,0)),\"\")","v":""},{"$f":"_xlfn.IFNA(INDEX(VLC!B:B,MATCH(1501+ROW(A10)-1,VLC!V:V,0)),\"\")","v":""},{"$f":"_xlfn.IFNA(INDEX(VLC!C:C,MATCH(1501+ROW(A10)-1,VLC!V:V,0)),\"\")","v":""},{"$f":"_xlfn.IFNA(IF(INDEX(VLC!H:H,MATCH(1501+ROW(A10)-1,VLC!V:V,0))=\"x\",_xlfn.IFNA(INDEX(VLC!H:H,MATCH(1501+ROW(A10)-1,VLC!V:V,0)),\"\"),\"\"),\"\")","v":""},{"$f":"_xlfn.IFNA(IF(INDEX(VLC!H:H,MATCH(1541+ROW(A10)-1,VLC!V:V,0))=\"x\",_xlfn.IFNA(INDEX(VLC!H:H,MATCH(1541+ROW(A10)-1,VLC!V:V,0)),\"\"),\"\"),\"\")","v":""},{"$f":"_xlfn.IFNA(IF(INDEX(VLC!I:I,MATCH(1501+ROW(A10)-1,VLC!V:V,0))<>\"\",_xlfn.IFNA(INDEX(VLC!I:I,MATCH(1501+ROW(A10)-1,VLC!V:V,0)),\"\"),\"\"),\"\")","v":""},{"$f":"_xlfn.IFNA(IF(INDEX(VLC!I:I,MATCH(1541+ROW(A10)-1,VLC!V:V,0))<>\"\",_xlfn.IFNA(INDEX(VLC!I:I,MATCH(1541+ROW(A10)-1,VLC!V:V,0)),\"\"),\"\"),\"\")","v":""},{"$f":"_xlfn.IFNA(IF(INDEX(VLC!J:J,MATCH(1501+ROW(A10)-1,VLC!V:V,0))=\"x\",_xlfn.IFNA(INDEX(VLC!J:J,MATCH(1501+ROW(A10)-1,VLC!V:V,0)),\"\"),\"\"),\"\")","v":""},{"$f":"_xlfn.IFNA(IF(INDEX(VLC!J:J,MATCH(1541+ROW(A10)-1,VLC!V:V,0))=\"x\",_xlfn.IFNA(INDEX(VLC!J:J,MATCH(1541+ROW(A10)-1,VLC!V:V,0)),\"\"),\"\"),\"\")","v":""},15010,15050]
["SK Teilnehmer 11",{"$f":"_xlfn.IFNA(INDEX(VLC!A:A,MATCH(1511,VLC!V:V,0)),\"\")","v":""},{"$f":"_xlfn.IFNA(INDEX(VLC!A:A,MATCH(1551,VLC!V:V,0)),\"\")","v":""},{"$f":"_xlfn.IFNA(INDEX(VLC!B:B,MATCH(1501+ROW(A11)-1,VLC!V:V,0)),\"\")","v":""},{"$f":"_xlfn.IFNA(INDEX(VLC!C:C,MATCH(1501+ROW(A11)-1,VLC!V:V,0)),\"\")","v":""},{"$f":"_xlfn.IFNA(IF(INDEX(VLC!H:H,MATCH(1501+ROW(A11)-1,VLC!V:V,0))=\"x\",_xlfn.IFNA(INDEX(VLC!H:H,MATCH(1501+ROW(A11)-1,VLC!V:V,0)),\"\"),\"\"),\"\")","v":""},{"$f":"_xlfn.IFNA(IF(INDEX(VLC!H:H,MATCH(1541+ROW(A11)-1,VLC!V:V,0))=\"x\",_xlfn.IFNA(INDEX(VLC!H:H,MATCH(1541+ROW(A11)-1,VLC!V:V,0)),\"\"),\"\"),\"\")","v":""},{"$f":"_xlfn.IFNA(IF(INDEX(VLC!I:I,MATCH(1501+ROW(A11)-1,VLC!V:V,0))<>\"\",_xlfn.IFNA(INDEX(VLC!I:I,MATCH(1501+ROW(A11)-1,VLC!V:V,0)),\"\"),\"\"),\"\")","v":""},{"$f":"_xlfn.IFNA(IF(INDEX(VLC!I:I,MATCH(1541+ROW(A11)-1,VLC!V:V,0))<>\"\",_xlfn.IFNA(INDEX(VLC!I:I,MATCH(1541+ROW(A11)-1,VLC!V:V,0)),\"\"),\"\"),\"\")","v":""},{"$f":"_xlfn.IFNA(IF(INDEX(VLC!J:J,MATCH(1501+ROW(A11)-1,VLC!V:V,0))=\"x\",_xlfn.IFNA(INDEX(VLC!J:J,MATCH(1501+ROW(A11)-1,VLC!V:V,0)),\"\"),\"\"),\"\")","v":""},{"$f":"_xlfn.IFNA(IF(INDEX(VLC!J:J,MATCH(1541+ROW(A11)-1,VLC!V:V,0))=\"x\",_xlfn.IFNA(INDEX(VLC!J:J,MATCH(1541+ROW(A11)-1,VLC!V:V,0)),\"\"),\"\"),\"\")","v":""},15011,15051]
["SK Teilnehmer 12",{"$f":"_xlfn.IFNA(INDEX(VLC!A:A,MATCH(1512,VLC!V:V,0)),\"\")","v":""},{"$f":"_xlfn.IFNA(INDEX(VLC!A:A,MATCH(1552,VLC!V:V,0)),\"\")","v":""},{"$f":"_xlfn.IFNA(INDEX(VLC!B:B,MATCH(1501+ROW(A12)-1,VLC!V:V,0)),\"\")","v":""},{"$f":"_xlfn.IFNA(INDEX(VLC!C:C,MATCH(1501+ROW(A12)-1,VLC!V:V,0)),\"\")","v":""},{"$f":"_xlfn.IFNA(IF(INDEX(VLC!H:H,MATCH(1501+ROW(A12)-1,VLC!V:V,0))=\"x\",_xlfn.IFNA(INDEX(VLC!H:H,MATCH(1501+ROW(A12)-1,VLC!V:V,0)),\"\"),\"\"),\"\")","v":""},{"$f":"_xlfn.IFNA(IF(INDEX(VLC!H:H,MATCH(1541+ROW(A12)-1,VLC!V:V,0))=\"x\",_xlfn.IFNA(INDEX(VLC!H:H,MATCH(1541+ROW(A12)-1,VLC!V:V,0)),\"\"),\"\"),\"\")","v":""},{"$f":"_xlfn.IFNA(IF(INDEX(VLC!I:I,MATCH(1501+ROW(A12)-1,VLC!V:V,0))<>\"\",_xlfn.IFNA(INDEX(VLC!I:I,MATCH(1501+ROW(A12)-1,VLC!V:V,0)),\"\"),\"\"),\"\")","v":""},{"$f":"_xlfn.IFNA(IF(INDEX(VLC!I:I,MATCH(1541+ROW(A12)-1,VLC!V:V,0))<>\"\",_xlfn.IFNA(INDEX(VLC!I:I,MATCH(1541+ROW(A12)-1,VLC!V:V,0)),\"\"),\"\"),\"\")","v":""},{"$f":"_xlfn.IFNA(IF(INDEX(VLC!J:J,MATCH(1501+ROW(A12)-1,VLC!V:V,0))=\"x\",_xlfn.IFNA(INDEX(VLC!J:J,MATCH(1501+ROW(A12)-1,VLC!V:V,0)),\"\"),\"\"),\"\")","v":""},{"$f":"_xlfn.IFNA(IF(INDEX(VLC!J:J,MATCH(1541+ROW(A12)-1,VLC!V:V,0))=\"x\",_xlfn.IFNA(INDEX(VLC!J:J,MATCH(1541+ROW(A12)-1,VLC!V:V,0)),\"\"),\"\"),\"\")","v":""},15012,15052]
["SK Teilnehmer 13",{"$f":"_xlfn.IFNA(INDEX(VLC!A:A,MATCH(1513,VLC!V:V,0)),\"\")","v":""},{"$f":"_xlfn.IFNA(INDEX(VLC!A:A,MATCH(1553,VLC!V:V,0)),\"\")","v":""},{"$f":"_xlfn.IFNA(INDEX(VLC!B:B,MATCH(1501+ROW(A13)-1,VLC!V:V,0)),\"\")","v":""},{"$f":"_xlfn.IFNA(INDEX(VLC!C:C,MATCH(1501+ROW(A13)-1,VLC!V:V,0)),\"\")","v":""},{"$f":"_xlfn.IFNA(IF(INDEX(VLC!H:H,MATCH(1501+ROW(A13)-1,VLC!V:V,0))=\"x\",_xlfn.IFNA(INDEX(VLC!H:H,MATCH(1501+ROW(A13)-1,VLC!V:V,0)),\"\"),\"\"),\"\")","v":""},{"$f":"_xlfn.IFNA(IF(INDEX(VLC!H:H,MATCH(1541+ROW(A13)-1,VLC!V:V,0))=\"x\",_xlfn.IFNA(INDEX(VLC!H:H,MATCH(1541+ROW(A13)-1,VLC!V:V,0)),\"\"),\"\"),\"\")","v":""},{"$f":"_xlfn.IFNA(IF(INDEX(VLC!I:I,MATCH(1501+ROW(A13)-1,VLC!V:V,0))<>\"\",_xlfn.IFNA(INDEX(VLC!I:I,MATCH(1501+ROW(A13)-1,VLC!V:V,0)),\"\"),\"\"),\"\")","v":""},{"$f":"_xlfn.IFNA(IF(INDEX(VLC!I:I,MATCH(1541+ROW(A13)-1,VLC!V:V,0))<>\"\",_xlfn.IFNA(INDEX(VLC!I:I,MATCH(1541+ROW(A13)-1,VLC!V:V,0)),\"\"),\"\"),\"\")","v":""},{"$f":"_xlfn.IFNA(IF(INDEX(VLC!J:J,MATCH(1501+ROW(A13)-1,VLC!V:V,0))=\"x\",_xlfn.IFNA(INDEX(VLC!J:J,MATCH(1501+ROW(A13)-1,VLC!V:V,0)),\"\"),\"\"),\"\")","v":""},{"$f":"_xlfn.IFNA(IF(INDEX(VLC!J:J,MATCH(1541+ROW(A13)-1,VLC!V:V,0))=\"x\",_xlfn.IFNA(INDEX(VLC!J:J,MATCH(1541+ROW(A13)-1,VLC!V:V,0)),\"\"),\"\"),\"\")","v":""},15013,15053]
["SK Teilnehmer 14",{"$f":"_xlfn.IFNA(INDEX(VLC!A:A,MATCH(1514,VLC!V:V,0)),\"\")","v":""},{"$f":"_xlfn.IFNA(INDEX(VLC!A:A,MATCH(1554,VLC!V:V,0)),\"\")","v":""},{"$f":"_xlfn.IFNA(INDEX(VLC!B:B,MATCH(1501+ROW(A14)-1,VLC!V:V,0)),\"\")","v":""},{"$f":"_xlfn.IFNA(INDEX(VLC!C:C,MATCH(1501+ROW(A14)-1,VLC!V:V,0)),\"\")","v":""},{"$f":"_xlfn.IFNA(IF(INDEX(VLC!H:H,MATCH(1501+ROW(A14)-1,VLC!V:V,0))=\"x\",_xlfn.IFNA(INDEX(VLC!H:H,MATCH(1501+ROW(A14)-1,VLC!V:V,0)),\"\"),\"\"),\"\")","v":""},{"$f":"_xlfn.IFNA(IF(INDEX(VLC!H:H,MATCH(1541+ROW(A14)-1,VLC!V:V,0))=\"x\",_xlfn.IFNA(INDEX(VLC!H:H,MATCH(1541+ROW(A14)-1,VLC!V:V,0)),\"\"),\"\"),\"\")","v":""},{"$f":"_xlfn.IFNA(IF(INDEX(VLC!I:I,MATCH(1501+ROW(A14)-1,VLC!V:V,0))<>\"\",_xlfn.IFNA(INDEX(VLC!I:I,MATCH(1501+ROW(A14)-1,VLC!V:V,0)),\"\"),\"\"),\"\")","v":""},{"$f":"_xlfn.IFNA(IF(INDEX(VLC!I:I,MATCH(1541+ROW(A14)-1,VLC!V:V,0))<>\"\",_xlfn.IFNA(INDEX(VLC!I:I,MATCH(1541+ROW(A14)-1,VLC!V:V,0)),\"\"),\"\"),\"\")","v":""},{"$f":"_xlfn.IFNA(IF(INDEX(VLC!J:J,MATCH(1501+ROW(A14)-1,VLC!V:V,0))=\"x\",_xlfn.IFNA(INDEX(VLC!J:J,MATCH(1501+ROW(A14)-1,VLC!V:V,0)),\"\"),\"\"),\"\")","v":""},{"$f":"_xlfn.IFNA(IF(INDEX(VLC!J:J,MATCH(1541+ROW(A14)-1,VLC!V:V,0))=\"x\",_xlfn.IFNA(INDEX(VLC!J:J,MATCH(1541+ROW(A14)-1,VLC!V:V,0)),\"\"),\"\"),\"\")","v":""},15014,15054]
["SK Teilnehmer 15",{"$f":"_xlfn.IFNA(INDEX(VLC!A:A,MATCH(1515,VLC!V:V,0)),\"\")","v":""},{"$f":"_xlfn.IFNA(INDEX(VLC!A:A,MATCH(1555,VLC!V:V,0)),\"\")","v":""},{"$f":"_xlfn.IFNA(INDEX(VLC!B:B,MATCH(1501+ROW(A15)-1,VLC!V:V,0)),\"\")","v":""},{"$f":"_xlfn.IFNA(INDEX(VLC!C:C,MATCH(1501+ROW(A15)-1,VLC!V:V,0)),\"\")","v":""},{"$f":"_xlfn.IFNA(IF(INDEX(VLC!H:H,MATCH(1501+ROW(A15)-1,VLC!V:V,0))=\"x\",_xlfn.IFNA(INDEX(VLC!H:H,MATCH(1501+ROW(A15)-1,VLC!V:V,0)),\"\"),\"\"),\"\")","v":""},{"$f":"_xlfn.IFNA(IF(INDEX(VLC!H:H,MATCH(1541+ROW(A15)-1,VLC!V:V,0))=\"x\",_xlfn.IFNA(INDEX(VLC!H:H,MATCH(1541+ROW(A15)-1,VLC!V:V,0)),\"\"),\"\"),\"\")","v":""},{"$f":"_xlfn.IFNA(IF(INDEX(VLC!I:I,MATCH(1501+ROW(A15)-1,VLC!V:V,0))<>\"\",_xlfn.IFNA(INDEX(VLC!I:I,MATCH(1501+ROW(A15)-1,VLC!V:V,0)),\"\"),\"\"),\"\")","v":""},{"$f":"_xlfn.IFNA(IF(INDEX(VLC!I:I,MATCH(1541+ROW(A15)-1,VLC!V:V,0))<>\"\",_xlfn.IFNA(INDEX(VLC!I:I,MATCH(1541+ROW(A15)-1,VLC!V:V,0)),\"\"),\"\"),\"\")","v":""},{"$f":"_xlfn.IFNA(IF(INDEX(VLC!J:J,MATCH(1501+ROW(A15)-1,VLC!V:V,0))=\"x\",_xlfn.IFNA(INDEX(VLC!J:J,MATCH(1501+ROW(A15)-1,VLC!V:V,0)),\"\"),\"\"),\"\")","v":""},{"$f":"_xlfn.IFNA(IF(INDEX(VLC!J:J,MATCH(1541+ROW(A15)-1,VLC!V:V,0))=\"x\",_xlfn.IFNA(INDEX(VLC!J:J,MATCH(1541+ROW(A15)-1,VLC!V:V,0)),\"\"),\"\"),\"\")","v":""},15015,15055]
["SK Teilnehmer 16",{"$f":"_xlfn.IFNA(INDEX(VLC!A:A,MATCH(1516,VLC!V:V,0)),\"\")","v":""},{"$f":"_xlfn.IFNA(INDEX(VLC!A:A,MATCH(1556,VLC!V:V,0)),\"\")","v":""},{"$f":"_xlfn.IFNA(INDEX(VLC!B:B,MATCH(1501+ROW(A16)-1,VLC!V:V,0)),\"\")","v":""},{"$f":"_xlfn.IFNA(INDEX(VLC!C:C,MATCH(1501+ROW(A16)-1,VLC!V:V,0)),\"\")","v":""},{"$f":"_xlfn.IFNA(IF(INDEX(VLC!H:H,MATCH(1501+ROW(A16)-1,VLC!V:V,0))=\"x\",_xlfn.IFNA(INDEX(VLC!H:H,MATCH(1501+ROW(A16)-1,VLC!V:V,0)),\"\"),\"\"),\"\")","v":""},{"$f":"_xlfn.IFNA(IF(INDEX(VLC!H:H,MATCH(1541+ROW(A16)-1,VLC!V:V,0))=\"x\",_xlfn.IFNA(INDEX(VLC!H:H,MATCH(1541+ROW(A16)-1,VLC!V:V,0)),\"\"),\"\"),\"\")","v":""},{"$f":"_xlfn.IFNA(IF(INDEX(VLC!I:I,MATCH(1501+ROW(A16)-1,VLC!V:V,0))<>\"\",_xlfn.IFNA(INDEX(VLC!I:I,MATCH(1501+ROW(A16)-1,VLC!V:V,0)),\"\"),\"\"),\"\")","v":""},{"$f":"_xlfn.IFNA(IF(INDEX(VLC!I:I,MATCH(1541+ROW(A16)-1,VLC!V:V,0))<>\"\",_xlfn.IFNA(INDEX(VLC!I:I,MATCH(1541+ROW(A16)-1,VLC!V:V,0)),\"\"),\"\"),\"\")","v":""},{"$f":"_xlfn.IFNA(IF(INDEX(VLC!J:J,MATCH(1501+ROW(A16)-1,VLC!V:V,0))=\"x\",_xlfn.IFNA(INDEX(VLC!J:J,MATCH(1501+ROW(A16)-1,VLC!V:V,0)),\"\"),\"\"),\"\")","v":""},{"$f":"_xlfn.IFNA(IF(INDEX(VLC!J:J,MATCH(1541+ROW(A16)-1,VLC!V:V,0))=\"x\",_xlfn.IFNA(INDEX(VLC!J:J,MATCH(1541+ROW(A16)-1,VLC!V:V,0)),\"\"),\"\"),\"\")","v":""},15016,15056]
["SK Teilnehmer 17",{"$f":"_xlfn.IFNA(INDEX(VLC!A:A,MATCH(1517,VLC!V:V,0)),\"\")","v":""},{"$f":"_xlfn.IFNA(INDEX(VLC!A:A,MATCH(1557,VLC!V:V,0)),\"\")","v":""},{"$f":"_xlfn.IFNA(INDEX(VLC!B:B,MATCH(1501+ROW(A17)-1,VLC!V:V,0)),\"\")","v":""},{"$f":"_xlfn.IFNA(INDEX(VLC!C:C,MATCH(1501+ROW(A17)-1,VLC!V:V,0)),\"\")","v":""},{"$f":"_xlfn.IFNA(IF(INDEX(VLC!H:H,MATCH(1501+ROW(A17)-1,VLC!V:V,0))=\"x\",_xlfn.IFNA(INDEX(VLC!H:H,MATCH(1501+ROW(A17)-1,VLC!V:V,0)),\"\"),\"\"),\"\")","v":""},{"$f":"_xlfn.IFNA(IF(INDEX(VLC!H:H,MATCH(1541+ROW(A17)-1,VLC!V:V,0))=\"x\",_xlfn.IFNA(INDEX(VLC!H:H,MATCH(1541+ROW(A17)-1,VLC!V:V,0)),\"\"),\"\"),\"\")","v":""},{"$f":"_xlfn.IFNA(IF(INDEX(VLC!I:I,MATCH(1501+ROW(A17)-1,VLC!V:V,0))<>\"\",_xlfn.IFNA(INDEX(VLC!I:I,MATCH(1501+ROW(A17)-1,VLC!V:V,0)),\"\"),\"\"),\"\")","v":""},{"$f":"_xlfn.IFNA(IF(INDEX(VLC!I:I,MATCH(1541+ROW(A17)-1,VLC!V:V,0))<>\"\",_xlfn.IFNA(INDEX(VLC!I:I,MATCH(1541+ROW(A17)-1,VLC!V:V,0)),\"\"),\"\"),\"\")","v":""},{"$f":"_xlfn.IFNA(IF(INDEX(VLC!J:J,MATCH(1501+ROW(A17)-1,VLC!V:V,0))=\"x\",_xlfn.IFNA(INDEX(VLC!J:J,MATCH(1501+ROW(A17)-1,VLC!V:V,0)),\"\"),\"\"),\"\")","v":""},{"$f":"_xlfn.IFNA(IF(INDEX(VLC!J:J,MATCH(1541+ROW(A17)-1,VLC!V:V,0))=\"x\",_xlfn.IFNA(INDEX(VLC!J:J,MATCH(1541+ROW(A17)-1,VLC!V:V,0)),\"\"),\"\"),\"\")","v":""},15017,15057]
["SK Teilnehmer 18",{"$f":"_xlfn.IFNA(INDEX(VLC!A:A,MATCH(1518,VLC!V:V,0)),\"\")","v":""},{"$f":"_xlfn.IFNA(INDEX(VLC!A:A,MATCH(1558,VLC!V:V,0)),\"\")","v":""},{"$f":"_xlfn.IFNA(INDEX(VLC!B:B,MATCH(1501+ROW(A18)-1,VLC!V:V,0)),\"\")","v":""},{"$f":"_xlfn.IFNA(INDEX(VLC!C:C,MATCH(1501+ROW(A18)-1,VLC!V:V,0)),\"\")","v":""},{"$f":"_xlfn.IFNA(IF(INDEX(VLC!H:H,MATCH(1501+ROW(A18)-1,VLC!V:V,0))=\"x\",_xlfn.IFNA(INDEX(VLC!H:H,MATCH(1501+ROW(A18)-1,VLC!V:V,0)),\"\"),\"\"),\"\")","v":""},{"$f":"_xlfn.IFNA(IF(INDEX(VLC!H:H,MATCH(1541+ROW(A18)-1,VLC!V:V,0))=\"x\",_xlfn.IFNA(INDEX(VLC!H:H,MATCH(1541+ROW(A18)-1,VLC!V:V,0)),\"\"),\"\"),\"\")","v":""},{"$f":"_xlfn.IFNA(IF(INDEX(VLC!I:I,MATCH(1501+ROW(A18)-1,VLC!V:V,0))<>\"\",_xlfn.IFNA(INDEX(VLC!I:I,MATCH(1501+ROW(A18)-1,VLC!V:V,0)),\"\"),\"\"),\"\")","v":""},{"$f":"_xlfn.IFNA(IF(INDEX(VLC!I:I,MATCH(1541+ROW(A18)-1,VLC!V:V,0))<>\"\",_xlfn.IFNA(INDEX(VLC!I:I,MATCH(1541+ROW(A18)-1,VLC!V:V,0)),\"\"),\"\"),\"\")","v":""},{"$f":"_xlfn.IFNA(IF(INDEX(VLC!J:J,MATCH(1501+ROW(A18)-1,VLC!V:V,0))=\"x\",_xlfn.IFNA(INDEX(VLC!J:J,MATCH(1501+ROW(A18)-1,VLC!V:V,0)),\"\"),\"\"),\"\")","v":""},{"$f":"_xlfn.IFNA(IF(INDEX(VLC!J:J,MATCH(1541+ROW(A18)-1,VLC!V:V,0))=\"x\",_xlfn.IFNA(INDEX(VLC!J:J,MATCH(1541+ROW(A18)-1,VLC!V:V,0)),\"\"),\"\"),\"\")","v":""},15018,15058]
["SK Teilnehmer 19",{"$f":"_xlfn.IFNA(INDEX(VLC!A:A,MATCH(1519,VLC!V:V,0)),\"\")","v":""},{"$f":"_xlfn.IFNA(INDEX(VLC!A:A,MATCH(1559,VLC!V:V,0)),\"\")","v":""},{"$f":"_xlfn.IFNA(INDEX(VLC!B:B,MATCH(1501+ROW(A19)-1,VLC!V:V,0)),\"\")","v":""},{"$f":"_xlfn.IFNA(INDEX(VLC!C:C,MATCH(1501+ROW(A19)-1,VLC!V:V,0)),\"\")","v":""},{"$f":"_xlfn.IFNA(IF(INDEX(VLC!H:H,MATCH(1501+ROW(A19)-1,VLC!V:V,0))=\"x\",_xlfn.IFNA(INDEX(VLC!H:H,MATCH(1501+ROW(A19)-1,VLC!V:V,0)),\"\"),\"\"),\"\")","v":""},{"$f":"_xlfn.IFNA(IF(INDEX(VLC!H:H,MATCH(1541+ROW(A19)-1,VLC!V:V,0))=\"x\",_xlfn.IFNA(INDEX(VLC!H:H,MATCH(1541+ROW(A19)-1,VLC!V:V,0)),\"\"),\"\"),\"\")","v":""},{"$f":"_xlfn.IFNA(IF(INDEX(VLC!I:I,MATCH(1501+ROW(A19)-1,VLC!V:V,0))<>\"\",_xlfn.IFNA(INDEX(VLC!I:I,MATCH(1501+ROW(A19)-1,VLC!V:V,0)),\"\"),\"\"),\"\")","v":""},{"$f":"_xlfn.IFNA(IF(INDEX(VLC!I:I,MATCH(1541+ROW(A19)-1,VLC!V:V,0))<>\"\",_xlfn.IFNA(INDEX(VLC!I:I,MATCH(1541+ROW(A19)-1,VLC!V:V,0)),\"\"),\"\"),\"\")","v":""},{"$f":"_xlfn.IFNA(IF(INDEX(VLC!J:J,MATCH(1501+ROW(A19)-1,VLC!V:V,0))=\"x\",_xlfn.IFNA(INDEX(VLC!J:J,MATCH(1501+ROW(A19)-1,VLC!V:V,0)),\"\"),\"\"),\"\")","v":""},{"$f":"_xlfn.IFNA(IF(INDEX(VLC!J:J,MATCH(1541+ROW(A19)-1,VLC!V:V,0))=\"x\",_xlfn.IFNA(INDEX(VLC!J:J,MATCH(1541+ROW(A19)-1,VLC!V:V,0)),\"\"),\"\"),\"\")","v":""},15019,15059]
["SK Teilnehmer 20",{"$f":"_xlfn.IFNA(INDEX(VLC!A:A,MATCH(1520,VLC!V:V,0)),\"\")","v":""},{"$f":"_xlfn.IFNA(INDEX(VLC!A:A,MATCH(1560,VLC!V:V,0)),\"\")","v":""},{"$f":"_xlfn.IFNA(INDEX(VLC!B:B,MATCH(1501+ROW(A20)-1,VLC!V:V,0)),\"\")","v":""},{"$f":"_xlfn.IFNA(INDEX(VLC!C:C,MATCH(1501+ROW(A20)-1,VLC!V:V,0)),\"\")","v":""},{"$f":"_xlfn.IFNA(IF(INDEX(VLC!H:H,MATCH(1501+ROW(A20)-1,VLC!V:V,0))=\"x\",_xlfn.IFNA(INDEX(VLC!H:H,MATCH(1501+ROW(A20)-1,VLC!V:V,0)),\"\"),\"\"),\"\")","v":""},{"$f":"_xlfn.IFNA(IF(INDEX(VLC!H:H,MATCH(1541+ROW(A20)-1,VLC!V:V,0))=\"x\",_xlfn.IFNA(INDEX(VLC!H:H,MATCH(1541+ROW(A20)-1,VLC!V:V,0)),\"\"),\"\"),\"\")","v":""},{"$f":"_xlfn.IFNA(IF(INDEX(VLC!I:I,MATCH(1501+ROW(A20)-1,VLC!V:V,0))<>\"\",_xlfn.IFNA(INDEX(VLC!I:I,MATCH(1501+ROW(A20)-1,VLC!V:V,0)),\"\"),\"\"),\"\")","v":""},{"$f":"_xlfn.IFNA(IF(INDEX(VLC!I:I,MATCH(1541+ROW(A20)-1,VLC!V:V,0))<>\"\",_xlfn.IFNA(INDEX(VLC!I:I,MATCH(1541+ROW(A20)-1,VLC!V:V,0)),\"\"),\"\"),\"\")","v":""},{"$f":"_xlfn.IFNA(IF(INDEX(VLC!J:J,MATCH(1501+ROW(A20)-1,VLC!V:V,0))=\"x\",_xlfn.IFNA(INDEX(VLC!J:J,MATCH(1501+ROW(A20)-1,VLC!V:V,0)),\"\"),\"\"),\"\")","v":""},{"$f":"_xlfn.IFNA(IF(INDEX(VLC!J:J,MATCH(1541+ROW(A20)-1,VLC!V:V,0))=\"x\",_xlfn.IFNA(INDEX(VLC!J:J,MATCH(1541+ROW(A20)-1,VLC!V:V,0)),\"\"),\"\"),\"\")","v":""},15020,15060]
["Gerätename:",{"$f":"$B$6","v":0},null,null,"PLC24 Stromkreis-Nummer: 16"]
["Stromkreis-Bezeichnung:"]
["Stromkreisbelegung","ID 1","ID 2","Bezeichnung","Zusatzinfo","DL",null,"GL",null,"BL"]
[null,null,null,null,null,"ID1","ID2","ID1","ID2","ID1","ID2"]
["SK Teilnehmer 1",{"$f":"_xlfn.IFNA(INDEX(VLC!A:A,MATCH(1601,VLC!V:V,0)),\"\")","v":""},{"$f":"_xlfn.IFNA(INDEX(VLC!A:A,MATCH(1641,VLC!V:V,0)),\"\")","v":""},{"$f":"_xlfn.IFNA(INDEX(VLC!B:B,MATCH(1601+ROW(A1)-1,VLC!V:V,0)),\"\")","v":""},{"$f":"_xlfn.IFNA(INDEX(VLC!C:C,MATCH(1601+ROW(A1)-1,VLC!V:V,0)),\"\")","v":""},{"$f":"_xlfn.IFNA(IF(INDEX(VLC!H:H,MATCH(1601+ROW(A1)-1,VLC!V:V,0))=\"x\",_xlfn.IFNA(INDEX(VLC!H:H,MATCH(1601+ROW(A1)-1,VLC!V:V,0)),\"\"),\"\"),\"\")","v":""},{"$f":"_xlfn.IFNA(IF(INDEX(VLC!H:H,MATCH(1641+ROW(A1)-1,VLC!V:V,0))=\"x\",_xlfn.IFNA(INDEX(VLC!H:H,MATCH(1641+ROW(A1)-1,VLC!V:V,0)),\"\"),\"\"),\"\")","v":""},{"$f":"_xlfn.IFNA(IF(INDEX(VLC!I:I,MATCH(1601+ROW(A1)-1,VLC!V:V,0))<>\"\",_xlfn.IFNA(INDEX(VLC!I:I,MATCH(1601+ROW(A1)-1,VLC!V:V,0)),\"\"),\"\"),\"\")","v":""},{"$f":"_xlfn.IFNA(IF(INDEX(VLC!I:I,MATCH(1641+ROW(A1)-1,VLC!V:V,0))<>\"\",_xlfn.IFNA(INDEX(VLC!I:I,MATCH(1641+ROW(A1)-1,VLC!V:V,0)),\"\"),\"\"),\"\")","v":""},{"$f":"_xlfn.IFNA(IF(INDEX(VLC!J:J,MATCH(1601+ROW(A1)-1,VLC!V:V,0))=\"x\",_xlfn.IFNA(INDEX(VLC!J:J,MATCH(1601+ROW(A1)-1,VLC!V:V,0)),\"\"),\"\"),\"\")","v":""},{"$f":"_xlfn.IFNA(IF(INDEX(VLC!J:J,MATCH(1641+ROW(A1)-1,VLC!V:V,0))=\"x\",_xlfn.IFNA(INDEX(VLC!J:J,MATCH(1641+ROW(A1)-1,VLC!V:V,0)),\"\"),\"\"),\"\")","v":""},{"$f":"16000+ROW(A370)-369","v":16001},{"$f":"L370+40","v":16041}]
["SK Teilnehmer 2",{"$f":"_xlfn.IFNA(INDEX(VLC!A:A,MATCH(1602,VLC!V:V,0)),\"\")","v":""},{"$f":"_xlfn.IFNA(INDEX(VLC!A:A,MATCH(1642,VLC!V:V,0)),\"\")","v":""},{"$f":"_xlfn.IFNA(INDEX(VLC!B:B,MATCH(1601+ROW(A2)-1,VLC!V:V,0)),\"\")","v":""},{"$f":"_xlfn.IFNA(INDEX(VLC!C:C,MATCH(1601+ROW(A2)-1,VLC!V:V,0)),\"\")","v":""},{"$f":"_xlfn.IFNA(IF(INDEX(VLC!H:H,MATCH(1601+ROW(A2)-1,VLC!V:V,0))=\"x\",_xlfn.IFNA(INDEX(VLC!H:H,MATCH(1601+ROW(A2)-1,VLC!V:V,0)),\"\"),\"\"),\"\")","v":""},{"$f":"_xlfn.IFNA(IF(INDEX(VLC!H:H,MATCH(1641+ROW(A2)-1,VLC!V:V,0))=\"x\",_xlfn.IFNA(INDEX(VLC!H:H,MATCH(1641+ROW(A2)-1,VLC!V:V,0)),\"\"),\"\"),\"\")","v":""},{"$f":"_xlfn.IFNA(IF(INDEX(VLC!I:I,MATCH(1601+ROW(A2)-1,VLC!V:V,0))<>\"\",_xlfn.IFNA(INDEX(VLC!I:I,MATCH(1601+ROW(A2)-1,VLC!V:V,0)),\"\"),\"\"),\"\")","v":""},{"$f":"_xlfn.IFNA(IF(INDEX(VLC!I:I,MATCH(1641+ROW(A2)-1,VLC!V:V,0))<>\"\",_xlfn.IFNA(INDEX(VLC!I:I,MATCH(1641+ROW(A2)-1,VLC!V:V,0)),\"\"),\"\"),\"\")","v":""},{"$f":"_xlfn.IFNA(IF(INDEX(VLC!J:J,MATCH(1601+ROW(A2)-1,VLC!V:V,0))=\"x\",_xlfn.IFNA(INDEX(VLC!J:J,MATCH(1601+ROW(A2)-1,VLC!V:V,0)),\"\"),\"\"),\"\")","v":""},{"$f":"_xlfn.IFNA(IF(INDEX(VLC!J:J,MATCH(1641+ROW(A2)-1,VLC!V:V,0))=\"x\",_xlfn.IFNA(INDEX(VLC!J:J,MATCH(1641+ROW(A2)-1,VLC!V:V,0)),\"\"),\"\"),\"\")","v":""},{"$f":"16000+ROW(A371)-369","v":16002},{"$f":"L371+40","v":16042}]
["SK Teilnehmer 3",{"$f":"_xlfn.IFNA(INDEX(VLC!A:A,MATCH(1603,VLC!V:V,0)),\"\")","v":""},{"$f":"_xlfn.IFNA(INDEX(VLC!A:A,MATCH(1643,VLC!V:V,0)),\"\")","v":""},{"$f":"_xlfn.IFNA(INDEX(VLC!B:B,MATCH(1601+ROW(A3)-1,VLC!V:V,0)),\"\")","v":""},{"$f":"_xlfn.IFNA(INDEX(VLC!C:C,MATCH(1601+ROW(A3)-1,VLC!V:V,0)),\"\")","v":""},{"$f":"_xlfn.IFNA(IF(INDEX(VLC!H:H,MATCH(1601+ROW(A3)-1,VLC!V:V,0))=\"x\",_xlfn.IFNA(INDEX(VLC!H:H,MATCH(1601+ROW(A3)-1,VLC!V:V,0)),\"\"),\"\"),\"\")","v":""},{"$f":"_xlfn.IFNA(IF(INDEX(VLC!H:H,MATCH(1641+ROW(A3)-1,VLC!V:V,0))=\"x\",_xlfn.IFNA(INDEX(VLC!H:H,MATCH(1641+ROW(A3)-1,VLC!V:V,0)),\"\"),\"\"),\"\")","v":""},{"$f":"_xlfn.IFNA(IF(INDEX(VLC!I:I,MATCH(1601+ROW(A3)-1,VLC!V:V,0))<>\"\",_xlfn.IFNA(INDEX(VLC!I:I,MATCH(1601+ROW(A3)-1,VLC!V:V,0)),\"\"),\"\"),\"\")","v":""},{"$f":"_xlfn.IFNA(IF(INDEX(VLC!I:I,MATCH(1641+ROW(A3)-1,VLC!V:V,0))<>\"\",_xlfn.IFNA(INDEX(VLC!I:I,MATCH(1641+ROW(A3)-1,VLC!V:V,0)),\"\"),\"\"),\"\")","v":""},{"$f":"_xlfn.IFNA(IF(INDEX(VLC!J:J,MATCH(1601+ROW(A3)-1,VLC!V:V,0))=\"x\",_xlfn.IFNA(INDEX(VLC!J:J,MATCH(1601+ROW(A3)-1,VLC!V:V,0)),\"\"),\"\"),\"\")","v":""},{"$f":"_xlfn.IFNA(IF(INDEX(VLC!J:J,MATCH(1641+ROW(A3)-1,VLC!V:V,0))=\"x\",_xlfn.IFNA(INDEX(VLC!J:J,MATCH(1641+ROW(A3)-1,VLC!V:V,0)),\"\"),\"\"),\"\")","v":""},16003,16043]
["SK Teilnehmer 4",{"$f":"_xlfn.IFNA(INDEX(VLC!A:A,MATCH(1604,VLC!V:V,0)),\"\")","v":""},{"$f":"_xlfn.IFNA(INDEX(VLC!A:A,MATCH(1644,VLC!V:V,0)),\"\")","v":""},{"$f":"_xlfn.IFNA(INDEX(VLC!B:B,MATCH(1601+ROW(A4)-1,VLC!V:V,0)),\"\")","v":""},{"$f":"_xlfn.IFNA(INDEX(VLC!C:C,MATCH(1601+ROW(A4)-1,VLC!V:V,0)),\"\")","v":""},{"$f":"_xlfn.IFNA(IF(INDEX(VLC!H:H,MATCH(1601+ROW(A4)-1,VLC!V:V,0))=\"x\",_xlfn.IFNA(INDEX(VLC!H:H,MATCH(1601+ROW(A4)-1,VLC!V:V,0)),\"\"),\"\"),\"\")","v":""},{"$f":"_xlfn.IFNA(IF(INDEX(VLC!H:H,MATCH(1641+ROW(A4)-1,VLC!V:V,0))=\"x\",_xlfn.IFNA(INDEX(VLC!H:H,MATCH(1641+ROW(A4)-1,VLC!V:V,0)),\"\"),\"\"),\"\")","v":""},{"$f":"_xlfn.IFNA(IF(INDEX(VLC!I:I,MATCH(1601+ROW(A4)-1,VLC!V:V,0))<>\"\",_xlfn.IFNA(INDEX(VLC!I:I,MATCH(1601+ROW(A4)-1,VLC!V:V,0)),\"\"),\"\"),\"\")","v":""},{"$f":"_xlfn.IFNA(IF(INDEX(VLC!I:I,MATCH(1641+ROW(A4)-1,VLC!V:V,0))<>\"\",_xlfn.IFNA(INDEX(VLC!I:I,MATCH(1641+ROW(A4)-1,VLC!V:V,0)),\"\"),\"\"),\"\")","v":""},{"$f":"_xlfn.IFNA(IF(INDEX(VLC!J:J,MATCH(1601+ROW(A4)-1,VLC!V:V,0))=\"x\",_xlfn.IFNA(INDEX(VLC!J:J,MATCH(1601+ROW(A4)-1,VLC!V:V,0)),\"\"),\"\"),\"\")","v":""},{"$f":"_xlfn.IFNA(IF(INDEX(VLC!J:J,MATCH(1641+ROW(A4)-1,VLC!V:V,0))=\"x\",_xlfn.IFNA(INDEX(VLC!J:J,MATCH(1641+ROW(A4)-1,VLC!V:V,0)),\"\"),\"\"),\"\")","v":""},16004,16044]
["SK Teilnehmer 5",{"$f":"_xlfn.IFNA(INDEX(VLC!A:A,MATCH(1605,VLC!V:V,0)),\"\")","v":""},{"$f":"_xlfn.IFNA(INDEX(VLC!A:A,MATCH(1645,VLC!V:V,0)),\"\")","v":""},{"$f":"_xlfn.IFNA(INDEX(VLC!B:B,MATCH(1601+ROW(A5)-1,VLC!V:V,0)),\"\")","v":""},{"$f":"_xlfn.IFNA(INDEX(VLC!C:C,MATCH(1601+ROW(A5)-1,VLC!V:V,0)),\"\")","v":""},{"$f":"_xlfn.IFNA(IF(INDEX(VLC!H:H,MATCH(1601+ROW(A5)-1,VLC!V:V,0))=\"x\",_xlfn.IFNA(INDEX(VLC!H:H,MATCH(1601+ROW(A5)-1,VLC!V:V,0)),\"\"),\"\"),\"\")","v":""},{"$f":"_xlfn.IFNA(IF(INDEX(VLC!H:H,MATCH(1641+ROW(A5)-1,VLC!V:V,0))=\"x\",_xlfn.IFNA(INDEX(VLC!H:H,MATCH(1641+ROW(A5)-1,VLC!V:V,0)),\"\"),\"\"),\"\")","v":""},{"$f":"_xlfn.IFNA(IF(INDEX(VLC!I:I,MATCH(1601+ROW(A5)-1,VLC!V:V,0))<>\"\",_xlfn.IFNA(INDEX(VLC!I:I,MATCH(1601+ROW(A5)-1,VLC!V:V,0)),\"\"),\"\"),\"\")","v":""},{"$f":"_xlfn.IFNA(IF(INDEX(VLC!I:I,MATCH(1641+ROW(A5)-1,VLC!V:V,0))<>\"\",_xlfn.IFNA(INDEX(VLC!I:I,MATCH(1641+ROW(A5)-1,VLC!V:V,0)),\"\"),\"\"),\"\")","v":""},{"$f":"_xlfn.IFNA(IF(INDEX(VLC!J:J,MATCH(1601+ROW(A5)-1,VLC!V:V,0))=\"x\",_xlfn.IFNA(INDEX(VLC!J:J,MATCH(1601+ROW(A5)-1,VLC!V:V,0)),\"\"),\"\"),\"\")","v":""},{"$f":"_xlfn.IFNA(IF(INDEX(VLC!J:J,MATCH(1641+ROW(A5)-1,VLC!V:V,0))=\"x\",_xlfn.IFNA(INDEX(VLC!J:J,MATCH(1641+ROW(A5)-1,VLC!V:V,0)),\"\"),\"\"),\"\")","v":""},16005,16045]
["SK Teilnehmer 6",{"$f":"_xlfn.IFNA(INDEX(VLC!A:A,MATCH(1606,VLC!V:V,0)),\"\")","v":""},{"$f":"_xlfn.IFNA(INDEX(VLC!A:A,MATCH(1646,VLC!V:V,0)),\"\")","v":""},{"$f":"_xlfn.IFNA(INDEX(VLC!B:B,MATCH(1601+ROW(A6)-1,VLC!V:V,0)),\"\")","v":""},{"$f":"_xlfn.IFNA(INDEX(VLC!C:C,MATCH(1601+ROW(A6)-1,VLC!V:V,0)),\"\")","v":""},{"$f":"_xlfn.IFNA(IF(INDEX(VLC!H:H,MATCH(1601+ROW(A6)-1,VLC!V:V,0))=\"x\",_xlfn.IFNA(INDEX(VLC!H:H,MATCH(1601+ROW(A6)-1,VLC!V:V,0)),\"\"),\"\"),\"\")","v":""},{"$f":"_xlfn.IFNA(IF(INDEX(VLC!H:H,MATCH(1641+ROW(A6)-1,VLC!V:V,0))=\"x\",_xlfn.IFNA(INDEX(VLC!H:H,MATCH(1641+ROW(A6)-1,VLC!V:V,0)),\"\"),\"\"),\"\")","v":""},{"$f":"_xlfn.IFNA(IF(INDEX(VLC!I:I,MATCH(1601+ROW(A6)-1,VLC!V:V,0))<>\"\",_xlfn.IFNA(INDEX(VLC!I:I,MATCH(1601+ROW(A6)-1,VLC!V:V,0)),\"\"),\"\"),\"\")","v":""},{"$f":"_xlfn.IFNA(IF(INDEX(VLC!I:I,MATCH(1641+ROW(A6)-1,VLC!V:V,0))<>\"\",_xlfn.IFNA(INDEX(VLC!I:I,MATCH(1641+ROW(A6)-1,VLC!V:V,0)),\"\"),\"\"),\"\")","v":""},{"$f":"_xlfn.IFNA(IF(INDEX(VLC!J:J,MATCH(1601+ROW(A6)-1,VLC!V:V,0))=\"x\",_xlfn.IFNA(INDEX(VLC!J:J,MATCH(1601+ROW(A6)-1,VLC!V:V,0)),\"\"),\"\"),\"\")","v":""},{"$f":"_xlfn.IFNA(IF(INDEX(VLC!J:J,MATCH(1641+ROW(A6)-1,VLC!V:V,0))=\"x\",_xlfn.IFNA(INDEX(VLC!J:J,MATCH(1641+ROW(A6)-1,VLC!V:V,0)),\"\"),\"\"),\"\")","v":""},16006,16046]
["SK Teilnehmer 7",{"$f":"_xlfn.IFNA(INDEX(VLC!A:A,MATCH(1607,VLC!V:V,0)),\"\")","v":""},{"$f":"_xlfn.IFNA(INDEX(VLC!A:A,MATCH(1647,VLC!V:V,0)),\"\")","v":""},{"$f":"_xlfn.IFNA(INDEX(VLC!B:B,MATCH(1601+ROW(A7)-1,VLC!V:V,0)),\"\")","v":""},{"$f":"_xlfn.IFNA(INDEX(VLC!C:C,MATCH(1601+ROW(A7)-1,VLC!V:V,0)),\"\")","v":""},{"$f":"_xlfn.IFNA(IF(INDEX(VLC!H:H,MATCH(1601+ROW(A7)-1,VLC!V:V,0))=\"x\",_xlfn.IFNA(INDEX(VLC!H:H,MATCH(1601+ROW(A7)-1,VLC!V:V,0)),\"\"),\"\"),\"\")","v":""},{"$f":"_xlfn.IFNA(IF(INDEX(VLC!H:H,MATCH(1641+ROW(A7)-1,VLC!V:V,0))=\"x\",_xlfn.IFNA(INDEX(VLC!H:H,MATCH(1641+ROW(A7)-1,VLC!V:V,0)),\"\"),\"\"),\"\")","v":""},{"$f":"_xlfn.IFNA(IF(INDEX(VLC!I:I,MATCH(1601+ROW(A7)-1,VLC!V:V,0))<>\"\",_xlfn.IFNA(INDEX(VLC!I:I,MATCH(1601+ROW(A7)-1,VLC!V:V,0)),\"\"),\"\"),\"\")","v":""},{"$f":"_xlfn.IFNA(IF(INDEX(VLC!I:I,MATCH(1641+ROW(A7)-1,VLC!V:V,0))<>\"\",_xlfn.IFNA(INDEX(VLC!I:I,MATCH(1641+ROW(A7)-1,VLC!V:V,0)),\"\"),\"\"),\"\")","v":""},{"$f":"_xlfn.IFNA(IF(INDEX(VLC!J:J,MATCH(1601+ROW(A7)-1,VLC!V:V,0))=\"x\",_xlfn.IFNA(INDEX(VLC!J:J,MATCH(1601+ROW(A7)-1,VLC!V:V,0)),\"\"),\"\"),\"\")","v":""},{"$f":"_xlfn.IFNA(IF(INDEX(VLC!J:J,MATCH(1641+ROW(A7)-1,VLC!V:V,0))=\"x\",_xlfn.IFNA(INDEX(VLC!J:J,MATCH(1641+ROW(A7)-1,VLC!V:V,0)),\"\"),\"\"),\"\")","v":""},16007,16047]
["SK Teilnehmer 8",{"$f":"_xlfn.IFNA(INDEX(VLC!A:A,MATCH(1608,VLC!V:V,0)),\"\")","v":""},{"$f":"_xlfn.IFNA(INDEX(VLC!A:A,MATCH(1648,VLC!V:V,0)),\"\")","v":""},{"$f":"_xlfn.IFNA(INDEX(VLC!B:B,MATCH(1601+ROW(A8)-1,VLC!V:V,0)),\"\")","v":""},{"$f":"_xlfn.IFNA(INDEX(VLC!C:C,MATCH(1601+ROW(A8)-1,VLC!V:V,0)),\"\")","v":""},{"$f":"_xlfn.IFNA(IF(INDEX(VLC!H:H,MATCH(1601+ROW(A8)-1,VLC!V:V,0))=\"x\",_xlfn.IFNA(INDEX(VLC!H:H,MATCH(1601+ROW(A8)-1,VLC!V:V,0)),\"\"),\"\"),\"\")","v":""},{"$f":"_xlfn.IFNA(IF(INDEX(VLC!H:H,MATCH(1641+ROW(A8)-1,VLC!V:V,0))=\"x\",_xlfn.IFNA(INDEX(VLC!H:H,MATCH(1641+ROW(A8)-1,VLC!V:V,0)),\"\"),\"\"),\"\")","v":""},{"$f":"_xlfn.IFNA(IF(INDEX(VLC!I:I,MATCH(1601+ROW(A8)-1,VLC!V:V,0))<>\"\",_xlfn.IFNA(INDEX(VLC!I:I,MATCH(1601+ROW(A8)-1,VLC!V:V,0)),\"\"),\"\"),\"\")","v":""},{"$f":"_xlfn.IFNA(IF(INDEX(VLC!I:I,MATCH(1641+ROW(A8)-1,VLC!V:V,0))<>\"\",_xlfn.IFNA(INDEX(VLC!I:I,MATCH(1641+ROW(A8)-1,VLC!V:V,0)),\"\"),\"\"),\"\")","v":""},{"$f":"_xlfn.IFNA(IF(INDEX(VLC!J:J,MATCH(1601+ROW(A8)-1,VLC!V:V,0))=\"x\",_xlfn.IFNA(INDEX(VLC!J:J,MATCH(1601+ROW(A8)-1,VLC!V:V,0)),\"\"),\"\"),\"\")","v":""},{"$f":"_xlfn.IFNA(IF(INDEX(VLC!J:J,MATCH(1641+ROW(A8)-1,VLC!V:V,0))=\"x\",_xlfn.IFNA(INDEX(VLC!J:J,MATCH(1641+ROW(A8)-1,VLC!V:V,0)),\"\"),\"\"),\"\")","v":""},16008,16048]
["SK Teilnehmer 9",{"$f":"_xlfn.IFNA(INDEX(VLC!A:A,MATCH(1609,VLC!V:V,0)),\"\")","v":""},{"$f":"_xlfn.IFNA(INDEX(VLC!A:A,MATCH(1649,VLC!V:V,0)),\"\")","v":""},{"$f":"_xlfn.IFNA(INDEX(VLC!B:B,MATCH(1601+ROW(A9)-1,VLC!V:V,0)),\"\")","v":""},{"$f":"_xlfn.IFNA(INDEX(VLC!C:C,MATCH(1601+ROW(A9)-1,VLC!V:V,0)),\"\")","v":""},{"$f":"_xlfn.IFNA(IF(INDEX(VLC!H:H,MATCH(1601+ROW(A9)-1,VLC!V:V,0))=\"x\",_xlfn.IFNA(INDEX(VLC!H:H,MATCH(1601+ROW(A9)-1,VLC!V:V,0)),\"\"),\"\"),\"\")","v":""},{"$f":"_xlfn.IFNA(IF(INDEX(VLC!H:H,MATCH(1641+ROW(A9)-1,VLC!V:V,0))=\"x\",_xlfn.IFNA(INDEX(VLC!H:H,MATCH(1641+ROW(A9)-1,VLC!V:V,0)),\"\"),\"\"),\"\")","v":""},{"$f":"_xlfn.IFNA(IF(INDEX(VLC!I:I,MATCH(1601+ROW(A9)-1,VLC!V:V,0))<>\"\",_xlfn.IFNA(INDEX(VLC!I:I,MATCH(1601+ROW(A9)-1,VLC!V:V,0)),\"\"),\"\"),\"\")","v":""},{"$f":"_xlfn.IFNA(IF(INDEX(VLC!I:I,MATCH(1641+ROW(A9)-1,VLC!V:V,0))<>\"\",_xlfn.IFNA(INDEX(VLC!I:I,MATCH(1641+ROW(A9)-1,VLC!V:V,0)),\"\"),\"\"),\"\")","v":""},{"$f":"_xlfn.IFNA(IF(INDEX(VLC!J:J,MATCH(1601+ROW(A9)-1,VLC!V:V,0))=\"x\",_xlfn.IFNA(INDEX(VLC!J:J,MATCH(1601+ROW(A9)-1,VLC!V:V,0)),\"\"),\"\"),\"\")","v":""},{"$f":"_xlfn.IFNA(IF(INDEX(VLC!J:J,MATCH(1641+ROW(A9)-1,VLC!V:V,0))=\"x\",_xlfn.IFNA(INDEX(VLC!J:J,MATCH(1641+ROW(A9)-1,VLC!V:V,0)),\"\"),\"\"),\"\")","v":""},16009,16049]
["SK Teilnehmer 10",{"$f":"_xlfn.IFNA(INDEX(VLC!A:A,MATCH(1610,VLC!V:V,0)),\"\")","v":""},{"$f":"_xlfn.IFNA(INDEX(VLC!A:A,MATCH(1650,VLC!V:V,0)),\"\")","v":""},{"$f":"_xlfn.IFNA(INDEX(VLC!B:B,MATCH(1601+ROW(A10)-1,VLC!V:V,0)),\"\")","v":""},{"$f":"_xlfn.IFNA(INDEX(VLC!C:C,MATCH(1601+ROW(A10)-1,VLC!V:V,0)),\"\")","v":""},{"$f":"_xlfn.IFNA(IF(INDEX(VLC!H:H,MATCH(1601+ROW(A10)-1,VLC!V:V,0))=\"x\",_xlfn.IFNA(INDEX(VLC!H:H,MATCH(1601+ROW(A10)-1,VLC!V:V,0)),\"\"),\"\"),\"\")","v":""},{"$f":"_xlfn.IFNA(IF(INDEX(VLC!H:H,MATCH(1641+ROW(A10)-1,VLC!V:V,0))=\"x\",_xlfn.IFNA(INDEX(VLC!H:H,MATCH(1641+ROW(A10)-1,VLC!V:V,0)),\"\"),\"\"),\"\")","v":""},{"$f":"_xlfn.IFNA(IF(INDEX(VLC!I:I,MATCH(1601+ROW(A10)-1,VLC!V:V,0))<>\"\",_xlfn.IFNA(INDEX(VLC!I:I,MATCH(1601+ROW(A10)-1,VLC!V:V,0)),\"\"),\"\"),\"\")","v":""},{"$f":"_xlfn.IFNA(IF(INDEX(VLC!I:I,MATCH(1641+ROW(A10)-1,VLC!V:V,0))<>\"\",_xlfn.IFNA(INDEX(VLC!I:I,MATCH(1641+ROW(A10)-1,VLC!V:V,0)),\"\"),\"\"),\"\")","v":""},{"$f":"_xlfn.IFNA(IF(INDEX(VLC!J:J,MATCH(1601+ROW(A10)-1,VLC!V:V,0))=\"x\",_xlfn.IFNA(INDEX(VLC!J:J,MATCH(1601+ROW(A10)-1,VLC!V:V,0)),\"\"),\"\"),\"\")","v":""},{"$f":"_xlfn.IFNA(IF(INDEX(VLC!J:J,MATCH(1641+ROW(A10)-1,VLC!V:V,0))=\"x\",_xlfn.IFNA(INDEX(VLC!J:J,MATCH(1641+ROW(A10)-1,VLC!V:V,0)),\"\"),\"\"),\"\")","v":""},16010,16050]
["SK Teilnehmer 11",{"$f":"_xlfn.IFNA(INDEX(VLC!A:A,MATCH(1611,VLC!V:V,0)),\"\")","v":""},{"$f":"_xlfn.IFNA(INDEX(VLC!A:A,MATCH(1651,VLC!V:V,0)),\"\")","v":""},{"$f":"_xlfn.IFNA(INDEX(VLC!B:B,MATCH(1601+ROW(A11)-1,VLC!V:V,0)),\"\")","v":""},{"$f":"_xlfn.IFNA(INDEX(VLC!C:C,MATCH(1601+ROW(A11)-1,VLC!V:V,0)),\"\")","v":""},{"$f":"_xlfn.IFNA(IF(INDEX(VLC!H:H,MATCH(1601+ROW(A11)-1,VLC!V:V,0))=\"x\",_xlfn.IFNA(INDEX(VLC!H:H,MATCH(1601+ROW(A11)-1,VLC!V:V,0)),\"\"),\"\"),\"\")","v":""},{"$f":"_xlfn.IFNA(IF(INDEX(VLC!H:H,MATCH(1641+ROW(A11)-1,VLC!V:V,0))=\"x\",_xlfn.IFNA(INDEX(VLC!H:H,MATCH(1641+ROW(A11)-1,VLC!V:V,0)),\"\"),\"\"),\"\")","v":""},{"$f":"_xlfn.IFNA(IF(INDEX(VLC!I:I,MATCH(1601+ROW(A11)-1,VLC!V:V,0))<>\"\",_xlfn.IFNA(INDEX(VLC!I:I,MATCH(1601+ROW(A11)-1,VLC!V:V,0)),\"\"),\"\"),\"\")","v":""},{"$f":"_xlfn.IFNA(IF(INDEX(VLC!I:I,MATCH(1641+ROW(A11)-1,VLC!V:V,0))<>\"\",_xlfn.IFNA(INDEX(VLC!I:I,MATCH(1641+ROW(A11)-1,VLC!V:V,0)),\"\"),\"\"),\"\")","v":""},{"$f":"_xlfn.IFNA(IF(INDEX(VLC!J:J,MATCH(1601+ROW(A11)-1,VLC!V:V,0))=\"x\",_xlfn.IFNA(INDEX(VLC!J:J,MATCH(1601+ROW(A11)-1,VLC!V:V,0)),\"\"),\"\"),\"\")","v":""},{"$f":"_xlfn.IFNA(IF(INDEX(VLC!J:J,MATCH(1641+ROW(A11)-1,VLC!V:V,0))=\"x\",_xlfn.IFNA(INDEX(VLC!J:J,MATCH(1641+ROW(A11)-1,VLC!V:V,0)),\"\"),\"\"),\"\")","v":""},16011,16051]
["SK Teilnehmer 12",{"$f":"_xlfn.IFNA(INDEX(VLC!A:A,MATCH(1612,VLC!V:V,0)),\"\")","v":""},{"$f":"_xlfn.IFNA(INDEX(VLC!A:A,MATCH(1652,VLC!V:V,0)),\"\")","v":""},{"$f":"_xlfn.IFNA(INDEX(VLC!B:B,MATCH(1601+ROW(A12)-1,VLC!V:V,0)),\"\")","v":""},{"$f":"_xlfn.IFNA(INDEX(VLC!C:C,MATCH(1601+ROW(A12)-1,VLC!V:V,0)),\"\")","v":""},{"$f":"_xlfn.IFNA(IF(INDEX(VLC!H:H,MATCH(1601+ROW(A12)-1,VLC!V:V,0))=\"x\",_xlfn.IFNA(INDEX(VLC!H:H,MATCH(1601+ROW(A12)-1,VLC!V:V,0)),\"\"),\"\"),\"\")","v":""},{"$f":"_xlfn.IFNA(IF(INDEX(VLC!H:H,MATCH(1641+ROW(A12)-1,VLC!V:V,0))=\"x\",_xlfn.IFNA(INDEX(VLC!H:H,MATCH(1641+ROW(A12)-1,VLC!V:V,0)),\"\"),\"\"),\"\")","v":""},{"$f":"_xlfn.IFNA(IF(INDEX(VLC!I:I,MATCH(1601+ROW(A12)-1,VLC!V:V,0))<>\"\",_xlfn.IFNA(INDEX(VLC!I:I,MATCH(1601+ROW(A12)-1,VLC!V:V,0)),\"\"),\"\"),\"\")","v":""},{"$f":"_xlfn.IFNA(IF(INDEX(VLC!I:I,MATCH(1641+ROW(A12)-1,VLC!V:V,0))<>\"\",_xlfn.IFNA(INDEX(VLC!I:I,MATCH(1641+ROW(A12)-1,VLC!V:V,0)),\"\"),\"\"),\"\")","v":""},{"$f":"_xlfn.IFNA(IF(INDEX(VLC!J:J,MATCH(1601+ROW(A12)-1,VLC!V:V,0))=\"x\",_xlfn.IFNA(INDEX(VLC!J:J,MATCH(1601+ROW(A12)-1,VLC!V:V,0)),\"\"),\"\"),\"\")","v":""},{"$f":"_xlfn.IFNA(IF(INDEX(VLC!J:J,MATCH(1641+ROW(A12)-1,VLC!V:V,0))=\"x\",_xlfn.IFNA(INDEX(VLC!J:J,MATCH(1641+ROW(A12)-1,VLC!V:V,0)),\"\"),\"\"),\"\")","v":""},16012,16052]
["SK Teilnehmer 13",{"$f":"_xlfn.IFNA(INDEX(VLC!A:A,MATCH(1613,VLC!V:V,0)),\"\")","v":""},{"$f":"_xlfn.IFNA(INDEX(VLC!A:A,MATCH(1653,VLC!V:V,0)),\"\")","v":""},{"$f":"_xlfn.IFNA(INDEX(VLC!B:B,MATCH(1601+ROW(A13)-1,VLC!V:V,0)),\"\")","v":""},{"$f":"_xlfn.IFNA(INDEX(VLC!C:C,MATCH(1601+ROW(A13)-1,VLC!V:V,0)),\"\")","v":""},{"$f":"_xlfn.IFNA(IF(INDEX(VLC!H:H,MATCH(1601+ROW(A13)-1,VLC!V:V,0))=\"x\",_xlfn.IFNA(INDEX(VLC!H:H,MATCH(1601+ROW(A13)-1,VLC!V:V,0)),\"\"),\"\"),\"\")","v":""},{"$f":"_xlfn.IFNA(IF(INDEX(VLC!H:H,MATCH(1641+ROW(A13)-1,VLC!V:V,0))=\"x\",_xlfn.IFNA(INDEX(VLC!H:H,MATCH(1641+ROW(A13)-1,VLC!V:V,0)),\"\"),\"\"),\"\")","v":""},{"$f":"_xlfn.IFNA(IF(INDEX(VLC!I:I,MATCH(1601+ROW(A13)-1,VLC!V:V,0))<>\"\",_xlfn.IFNA(INDEX(VLC!I:I,MATCH(1601+ROW(A13)-1,VLC!V:V,0)),\"\"),\"\"),\"\")","v":""},{"$f":"_xlfn.IFNA(IF(INDEX(VLC!I:I,MATCH(1641+ROW(A13)-1,VLC!V:V,0))<>\"\",_xlfn.IFNA(INDEX(VLC!I:I,MATCH(1641+ROW(A13)-1,VLC!V:V,0)),\"\"),\"\"),\"\")","v":""},{"$f":"_xlfn.IFNA(IF(INDEX(VLC!J:J,MATCH(1601+ROW(A13)-1,VLC!V:V,0))=\"x\",_xlfn.IFNA(INDEX(VLC!J:J,MATCH(1601+ROW(A13)-1,VLC!V:V,0)),\"\"),\"\"),\"\")","v":""},{"$f":"_xlfn.IFNA(IF(INDEX(VLC!J:J,MATCH(1641+ROW(A13)-1,VLC!V:V,0))=\"x\",_xlfn.IFNA(INDEX(VLC!J:J,MATCH(1641+ROW(A13)-1,VLC!V:V,0)),\"\"),\"\"),\"\")","v":""},16013,16053]
["SK Teilnehmer 14",{"$f":"_xlfn.IFNA(INDEX(VLC!A:A,MATCH(1614,VLC!V:V,0)),\"\")","v":""},{"$f":"_xlfn.IFNA(INDEX(VLC!A:A,MATCH(1654,VLC!V:V,0)),\"\")","v":""},{"$f":"_xlfn.IFNA(INDEX(VLC!B:B,MATCH(1601+ROW(A14)-1,VLC!V:V,0)),\"\")","v":""},{"$f":"_xlfn.IFNA(INDEX(VLC!C:C,MATCH(1601+ROW(A14)-1,VLC!V:V,0)),\"\")","v":""},{"$f":"_xlfn.IFNA(IF(INDEX(VLC!H:H,MATCH(1601+ROW(A14)-1,VLC!V:V,0))=\"x\",_xlfn.IFNA(INDEX(VLC!H:H,MATCH(1601+ROW(A14)-1,VLC!V:V,0)),\"\"),\"\"),\"\")","v":""},{"$f":"_xlfn.IFNA(IF(INDEX(VLC!H:H,MATCH(1641+ROW(A14)-1,VLC!V:V,0))=\"x\",_xlfn.IFNA(INDEX(VLC!H:H,MATCH(1641+ROW(A14)-1,VLC!V:V,0)),\"\"),\"\"),\"\")","v":""},{"$f":"_xlfn.IFNA(IF(INDEX(VLC!I:I,MATCH(1601+ROW(A14)-1,VLC!V:V,0))<>\"\",_xlfn.IFNA(INDEX(VLC!I:I,MATCH(1601+ROW(A14)-1,VLC!V:V,0)),\"\"),\"\"),\"\")","v":""},{"$f":"_xlfn.IFNA(IF(INDEX(VLC!I:I,MATCH(1641+ROW(A14)-1,VLC!V:V,0))<>\"\",_xlfn.IFNA(INDEX(VLC!I:I,MATCH(1641+ROW(A14)-1,VLC!V:V,0)),\"\"),\"\"),\"\")","v":""},{"$f":"_xlfn.IFNA(IF(INDEX(VLC!J:J,MATCH(1601+ROW(A14)-1,VLC!V:V,0))=\"x\",_xlfn.IFNA(INDEX(VLC!J:J,MATCH(1601+ROW(A14)-1,VLC!V:V,0)),\"\"),\"\"),\"\")","v":""},{"$f":"_xlfn.IFNA(IF(INDEX(VLC!J:J,MATCH(1641+ROW(A14)-1,VLC!V:V,0))=\"x\",_xlfn.IFNA(INDEX(VLC!J:J,MATCH(1641+ROW(A14)-1,VLC!V:V,0)),\"\"),\"\"),\"\")","v":""},16014,16054]
["SK Teilnehmer 15",{"$f":"_xlfn.IFNA(INDEX(VLC!A:A,MATCH(1615,VLC!V:V,0)),\"\")","v":""},{"$f":"_xlfn.IFNA(INDEX(VLC!A:A,MATCH(1655,VLC!V:V,0)),\"\")","v":""},{"$f":"_xlfn.IFNA(INDEX(VLC!B:B,MATCH(1601+ROW(A15)-1,VLC!V:V,0)),\"\")","v":""},{"$f":"_xlfn.IFNA(INDEX(VLC!C:C,MATCH(1601+ROW(A15)-1,VLC!V:V,0)),\"\")","v":""},{"$f":"_xlfn.IFNA(IF(INDEX(VLC!H:H,MATCH(1601+ROW(A15)-1,VLC!V:V,0))=\"x\",_xlfn.IFNA(INDEX(VLC!H:H,MATCH(1601+ROW(A15)-1,VLC!V:V,0)),\"\"),\"\"),\"\")","v":""},{"$f":"_xlfn.IFNA(IF(INDEX(VLC!H:H,MATCH(1641+ROW(A15)-1,VLC!V:V,0))=\"x\",_xlfn.IFNA(INDEX(VLC!H:H,MATCH(1641+ROW(A15)-1,VLC!V:V,0)),\"\"),\"\"),\"\")","v":""},{"$f":"_xlfn.IFNA(IF(INDEX(VLC!I:I,MATCH(1601+ROW(A15)-1,VLC!V:V,0))<>\"\",_xlfn.IFNA(INDEX(VLC!I:I,MATCH(1601+ROW(A15)-1,VLC!V:V,0)),\"\"),\"\"),\"\")","v":""},{"$f":"_xlfn.IFNA(IF(INDEX(VLC!I:I,MATCH(1641+ROW(A15)-1,VLC!V:V,0))<>\"\",_xlfn.IFNA(INDEX(VLC!I:I,MATCH(1641+ROW(A15)-1,VLC!V:V,0)),\"\"),\"\"),\"\")","v":""},{"$f":"_xlfn.IFNA(IF(INDEX(VLC!J:J,MATCH(1601+ROW(A15)-1,VLC!V:V,0))=\"x\",_xlfn.IFNA(INDEX(VLC!J:J,MATCH(1601+ROW(A15)-1,VLC!V:V,0)),\"\"),\"\"),\"\")","v":""},{"$f":"_xlfn.IFNA(IF(INDEX(VLC!J:J,MATCH(1641+ROW(A15)-1,VLC!V:V,0))=\"x\",_xlfn.IFNA(INDEX(VLC!J:J,MATCH(1641+ROW(A15)-1,VLC!V:V,0)),\"\"),\"\"),\"\")","v":""},16015,16055]
["SK Teilnehmer 16",{"$f":"_xlfn.IFNA(INDEX(VLC!A:A,MATCH(1616,VLC!V:V,0)),\"\")","v":""},{"$f":"_xlfn.IFNA(INDEX(VLC!A:A,MATCH(1656,VLC!V:V,0)),\"\")","v":""},{"$f":"_xlfn.IFNA(INDEX(VLC!B:B,MATCH(1601+ROW(A16)-1,VLC!V:V,0)),\"\")","v":""},{"$f":"_xlfn.IFNA(INDEX(VLC!C:C,MATCH(1601+ROW(A16)-1,VLC!V:V,0)),\"\")","v":""},{"$f":"_xlfn.IFNA(IF(INDEX(VLC!H:H,MATCH(1601+ROW(A16)-1,VLC!V:V,0))=\"x\",_xlfn.IFNA(INDEX(VLC!H:H,MATCH(1601+ROW(A16)-1,VLC!V:V,0)),\"\"),\"\"),\"\")","v":""},{"$f":"_xlfn.IFNA(IF(INDEX(VLC!H:H,MATCH(1641+ROW(A16)-1,VLC!V:V,0))=\"x\",_xlfn.IFNA(INDEX(VLC!H:H,MATCH(1641+ROW(A16)-1,VLC!V:V,0)),\"\"),\"\"),\"\")","v":""},{"$f":"_xlfn.IFNA(IF(INDEX(VLC!I:I,MATCH(1601+ROW(A16)-1,VLC!V:V,0))<>\"\",_xlfn.IFNA(INDEX(VLC!I:I,MATCH(1601+ROW(A16)-1,VLC!V:V,0)),\"\"),\"\"),\"\")","v":""},{"$f":"_xlfn.IFNA(IF(INDEX(VLC!I:I,MATCH(1641+ROW(A16)-1,VLC!V:V,0))<>\"\",_xlfn.IFNA(INDEX(VLC!I:I,MATCH(1641+ROW(A16)-1,VLC!V:V,0)),\"\"),\"\"),\"\")","v":""},{"$f":"_xlfn.IFNA(IF(INDEX(VLC!J:J,MATCH(1601+ROW(A16)-1,VLC!V:V,0))=\"x\",_xlfn.IFNA(INDEX(VLC!J:J,MATCH(1601+ROW(A16)-1,VLC!V:V,0)),\"\"),\"\"),\"\")","v":""},{"$f":"_xlfn.IFNA(IF(INDEX(VLC!J:J,MATCH(1641+ROW(A16)-1,VLC!V:V,0))=\"x\",_xlfn.IFNA(INDEX(VLC!J:J,MATCH(1641+ROW(A16)-1,VLC!V:V,0)),\"\"),\"\"),\"\")","v":""},16016,16056]
["SK Teilnehmer 17",{"$f":"_xlfn.IFNA(INDEX(VLC!A:A,MATCH(1617,VLC!V:V,0)),\"\")","v":""},{"$f":"_xlfn.IFNA(INDEX(VLC!A:A,MATCH(1657,VLC!V:V,0)),\"\")","v":""},{"$f":"_xlfn.IFNA(INDEX(VLC!B:B,MATCH(1601+ROW(A17)-1,VLC!V:V,0)),\"\")","v":""},{"$f":"_xlfn.IFNA(INDEX(VLC!C:C,MATCH(1601+ROW(A17)-1,VLC!V:V,0)),\"\")","v":""},{"$f":"_xlfn.IFNA(IF(INDEX(VLC!H:H,MATCH(1601+ROW(A17)-1,VLC!V:V,0))=\"x\",_xlfn.IFNA(INDEX(VLC!H:H,MATCH(1601+ROW(A17)-1,VLC!V:V,0)),\"\"),\"\"),\"\")","v":""},{"$f":"_xlfn.IFNA(IF(INDEX(VLC!H:H,MATCH(1641+ROW(A17)-1,VLC!V:V,0))=\"x\",_xlfn.IFNA(INDEX(VLC!H:H,MATCH(1641+ROW(A17)-1,VLC!V:V,0)),\"\"),\"\"),\"\")","v":""},{"$f":"_xlfn.IFNA(IF(INDEX(VLC!I:I,MATCH(1601+ROW(A17)-1,VLC!V:V,0))<>\"\",_xlfn.IFNA(INDEX(VLC!I:I,MATCH(1601+ROW(A17)-1,VLC!V:V,0)),\"\"),\"\"),\"\")","v":""},{"$f":"_xlfn.IFNA(IF(INDEX(VLC!I:I,MATCH(1641+ROW(A17)-1,VLC!V:V,0))<>\"\",_xlfn.IFNA(INDEX(VLC!I:I,MATCH(1641+ROW(A17)-1,VLC!V:V,0)),\"\"),\"\"),\"\")","v":""},{"$f":"_xlfn.IFNA(IF(INDEX(VLC!J:J,MATCH(1601+ROW(A17)-1,VLC!V:V,0))=\"x\",_xlfn.IFNA(INDEX(VLC!J:J,MATCH(1601+ROW(A17)-1,VLC!V:V,0)),\"\"),\"\"),\"\")","v":""},{"$f":"_xlfn.IFNA(IF(INDEX(VLC!J:J,MATCH(1641+ROW(A17)-1,VLC!V:V,0))=\"x\",_xlfn.IFNA(INDEX(VLC!J:J,MATCH(1641+ROW(A17)-1,VLC!V:V,0)),\"\"),\"\"),\"\")","v":""},16017,16057]
["SK Teilnehmer 18",{"$f":"_xlfn.IFNA(INDEX(VLC!A:A,MATCH(1618,VLC!V:V,0)),\"\")","v":""},{"$f":"_xlfn.IFNA(INDEX(VLC!A:A,MATCH(1658,VLC!V:V,0)),\"\")","v":""},{"$f":"_xlfn.IFNA(INDEX(VLC!B:B,MATCH(1601+ROW(A18)-1,VLC!V:V,0)),\"\")","v":""},{"$f":"_xlfn.IFNA(INDEX(VLC!C:C,MATCH(1601+ROW(A18)-1,VLC!V:V,0)),\"\")","v":""},{"$f":"_xlfn.IFNA(IF(INDEX(VLC!H:H,MATCH(1601+ROW(A18)-1,VLC!V:V,0))=\"x\",_xlfn.IFNA(INDEX(VLC!H:H,MATCH(1601+ROW(A18)-1,VLC!V:V,0)),\"\"),\"\"),\"\")","v":""},{"$f":"_xlfn.IFNA(IF(INDEX(VLC!H:H,MATCH(1641+ROW(A18)-1,VLC!V:V,0))=\"x\",_xlfn.IFNA(INDEX(VLC!H:H,MATCH(1641+ROW(A18)-1,VLC!V:V,0)),\"\"),\"\"),\"\")","v":""},{"$f":"_xlfn.IFNA(IF(INDEX(VLC!I:I,MATCH(1601+ROW(A18)-1,VLC!V:V,0))<>\"\",_xlfn.IFNA(INDEX(VLC!I:I,MATCH(1601+ROW(A18)-1,VLC!V:V,0)),\"\"),\"\"),\"\")","v":""},{"$f":"_xlfn.IFNA(IF(INDEX(VLC!I:I,MATCH(1641+ROW(A18)-1,VLC!V:V,0))<>\"\",_xlfn.IFNA(INDEX(VLC!I:I,MATCH(1641+ROW(A18)-1,VLC!V:V,0)),\"\"),\"\"),\"\")","v":""},{"$f":"_xlfn.IFNA(IF(INDEX(VLC!J:J,MATCH(1601+ROW(A18)-1,VLC!V:V,0))=\"x\",_xlfn.IFNA(INDEX(VLC!J:J,MATCH(1601+ROW(A18)-1,VLC!V:V,0)),\"\"),\"\"),\"\")","v":""},{"$f":"_xlfn.IFNA(IF(INDEX(VLC!J:J,MATCH(1641+ROW(A18)-1,VLC!V:V,0))=\"x\",_xlfn.IFNA(INDEX(VLC!J:J,MATCH(1641+ROW(A18)-1,VLC!V:V,0)),\"\"),\"\"),\"\")","v":""},16018,16058]
["SK Teilnehmer 19",{"$f":"_xlfn.IFNA(INDEX(VLC!A:A,MATCH(1619,VLC!V:V,0)),\"\")","v":""},{"$f":"_xlfn.IFNA(INDEX(VLC!A:A,MATCH(1659,VLC!V:V,0)),\"\")","v":""},{"$f":"_xlfn.IFNA(INDEX(VLC!B:B,MATCH(1601+ROW(A19)-1,VLC!V:V,0)),\"\")","v":""},{"$f":"_xlfn.IFNA(INDEX(VLC!C:C,MATCH(1601+ROW(A19)-1,VLC!V:V,0)),\"\")","v":""},{"$f":"_xlfn.IFNA(IF(INDEX(VLC!H:H,MATCH(1601+ROW(A19)-1,VLC!V:V,0))=\"x\",_xlfn.IFNA(INDEX(VLC!H:H,MATCH(1601+ROW(A19)-1,VLC!V:V,0)),\"\"),\"\"),\"\")","v":""},{"$f":"_xlfn.IFNA(IF(INDEX(VLC!H:H,MATCH(1641+ROW(A19)-1,VLC!V:V,0))=\"x\",_xlfn.IFNA(INDEX(VLC!H:H,MATCH(1641+ROW(A19)-1,VLC!V:V,0)),\"\"),\"\"),\"\")","v":""},{"$f":"_xlfn.IFNA(IF(INDEX(VLC!I:I,MATCH(1601+ROW(A19)-1,VLC!V:V,0))<>\"\",_xlfn.IFNA(INDEX(VLC!I:I,MATCH(1601+ROW(A19)-1,VLC!V:V,0)),\"\"),\"\"),\"\")","v":""},{"$f":"_xlfn.IFNA(IF(INDEX(VLC!I:I,MATCH(1641+ROW(A19)-1,VLC!V:V,0))<>\"\",_xlfn.IFNA(INDEX(VLC!I:I,MATCH(1641+ROW(A19)-1,VLC!V:V,0)),\"\"),\"\"),\"\")","v":""},{"$f":"_xlfn.IFNA(IF(INDEX(VLC!J:J,MATCH(1601+ROW(A19)-1,VLC!V:V,0))=\"x\",_xlfn.IFNA(INDEX(VLC!J:J,MATCH(1601+ROW(A19)-1,VLC!V:V,0)),\"\"),\"\"),\"\")","v":""},{"$f":"_xlfn.IFNA(IF(INDEX(VLC!J:J,MATCH(1641+ROW(A19)-1,VLC!V:V,0))=\"x\",_xlfn.IFNA(INDEX(VLC!J:J,MATCH(1641+ROW(A19)-1,VLC!V:V,0)),\"\"),\"\"),\"\")","v":""},16019,16059]
["SK Teilnehmer 20",{"$f":"_xlfn.IFNA(INDEX(VLC!A:A,MATCH(1620,VLC!V:V,0)),\"\")","v":""},{"$f":"_xlfn.IFNA(INDEX(VLC!A:A,MATCH(1660,VLC!V:V,0)),\"\")","v":""},{"$f":"_xlfn.IFNA(INDEX(VLC!B:B,MATCH(1601+ROW(A20)-1,VLC!V:V,0)),\"\")","v":""},{"$f":"_xlfn.IFNA(INDEX(VLC!C:C,MATCH(1601+ROW(A20)-1,VLC!V:V,0)),\"\")","v":""},{"$f":"_xlfn.IFNA(IF(INDEX(VLC!H:H,MATCH(1601+ROW(A20)-1,VLC!V:V,0))=\"x\",_xlfn.IFNA(INDEX(VLC!H:H,MATCH(1601+ROW(A20)-1,VLC!V:V,0)),\"\"),\"\"),\"\")","v":""},{"$f":"_xlfn.IFNA(IF(INDEX(VLC!H:H,MATCH(1641+ROW(A20)-1,VLC!V:V,0))=\"x\",_xlfn.IFNA(INDEX(VLC!H:H,MATCH(1641+ROW(A20)-1,VLC!V:V,0)),\"\"),\"\"),\"\")","v":""},{"$f":"_xlfn.IFNA(IF(INDEX(VLC!I:I,MATCH(1601+ROW(A20)-1,VLC!V:V,0))<>\"\",_xlfn.IFNA(INDEX(VLC!I:I,MATCH(1601+ROW(A20)-1,VLC!V:V,0)),\"\"),\"\"),\"\")","v":""},{"$f":"_xlfn.IFNA(IF(INDEX(VLC!I:I,MATCH(1641+ROW(A20)-1,VLC!V:V,0))<>\"\",_xlfn.IFNA(INDEX(VLC!I:I,MATCH(1641+ROW(A20)-1,VLC!V:V,0)),\"\"),\"\"),\"\")","v":""},{"$f":"_xlfn.IFNA(IF(INDEX(VLC!J:J,MATCH(1601+ROW(A20)-1,VLC!V:V,0))=\"x\",_xlfn.IFNA(INDEX(VLC!J:J,MATCH(1601+ROW(A20)-1,VLC!V:V,0)),\"\"),\"\"),\"\")","v":""},{"$f":"_xlfn.IFNA(IF(INDEX(VLC!J:J,MATCH(1641+ROW(A20)-1,VLC!V:V,0))=\"x\",_xlfn.IFNA(INDEX(VLC!J:J,MATCH(1641+ROW(A20)-1,VLC!V:V,0)),\"\"),\"\"),\"\")","v":""},16020,16060]

{"sheet":"CB32","index":2,"n_rows":143,"n_cols":5,"rows_kept":143,"cut":false,"hidden":true,"merged":[[140,3,140,4],[141,3,141,4],[142,3,142,4],[134,3,134,4],[135,3,135,4],[136,3,136,4],[137,3,137,4],[138,3,138,4],[139,3,139,4],[128,3,128,4],[129,3,129,4],[130,3,130,4],[131,3,131,4],[132,3,132,4],[133,3,133,4],[122,3,122,4],[123,3,123,4],[124,3,124,4],[125,3,125,4],[126,3,126,4],[127,3,127,4],[116,3,116,4],[117,3,117,4],[118,3,118,4],[119,3,119,4],[120,3,120,4],[121,3,121,4],[110,3,110,4],[111,3,111,4],[112,3,112,4],[113,3,113,4],[114,3,114,4],[115,3,115,4],[104,3,104,4],[105,3,105,4],[106,3,106,4],[107,3,107,4],[108,3,108,4],[109,3,109,4],[98,3,98,4],[99,3,99,4],[100,3,100,4],[101,3,101,4],[102,3,102,4],[103,3,103,4],[92,3,92,4],[93,3,93,4],[94,3,94,4],[95,3,95,4],[96,3,96,4],[97,3,97,4],[86,3,86,4],[87,3,87,4],[88,3,88,4],[89,3,89,4],[90,3,90,4],[91,3,91,4],[80,3,80,4],[81,3,81,4],[82,3,82,4],[83,3,83,4],[84,3,84,4],[85,3,85,4],[74,3,74,4],[75,3,75,4],[76,3,76,4],[77,3,77,4],[78,3,78,4],[79,3,79,4],[68,3,68,4],[69,3,69,4],[70,3,70,4],[71,3,71,4],[72,3,72,4],[73,3,73,4],[62,3,62,4],[63,3,63,4],[64,3,64,4],[65,3,65,4],[66,3,66,4],[67,3,67,4],[56,3,56,4],[57,3,57,4],[58,3,58,4],[59,3,59,4],[60,3,60,4],[61,3,61,4],[50,3,50,4],[51,3,51,4],[52,3,52,4],[53,3,53,4],[54,3,54,4],[55,3,55,4],[44,3,44,4],[45,3,45,4],[46,3,46,4],[47,3,47,4],[48,3,48,4],[49,3,49,4],[0,3,0,4],[2,3,2,4],[3,3,3,4],[41,3,41,4],[42,3,42,4],[43,3,43,4],[34,3,34,4],[35,3,35,4],[36,3,36,4],[37,3,37,4],[40,3,40,4],[39,3,39,4],[38,3,38,4],[28,3,28,4],[29,3,29,4],[30,3,30,4],[31,3,31,4],[32,3,32,4],[33,3,33,4],[22,3,22,4],[23,3,23,4],[24,3,24,4],[25,3,25,4],[26,3,26,4],[27,3,27,4],[17,3,17,4],[18,3,18,4],[19,3,19,4],[20,3,20,4],[21,3,21,4],[11,3,11,4],[12,3,12,4],[13,3,13,4],[14,3,14,4],[15,3,15,4],[16,3,16,4],[5,3,5,4],[6,3,6,4],[7,3,7,4],[8,3,8,4],[9,3,9,4],[10,3,10,4]]}
["Bauvorhaben / Anlage: ",null,"ELEKTRO-Unternehmen :"]
[]
["verantwortlicher Monteur: "]
["externer Bus Nummer: 1"]
["Bezeichnung:"," "," ","Version","5.0"]
["Busbelegung","ID","Bezeichnung","Zusatzinfo"]
["Bus Teilnehmer 1"]
["Bus Teilnehmer 2"]
["Bus Teilnehmer 3"]
["Bus Teilnehmer 4"]
["Bus Teilnehmer 5"]
["Bus Teilnehmer 6"]
["Bus Teilnehmer 7"]
["Bus Teilnehmer 8"]
["Bus Teilnehmer 9"]
["Bus Teilnehmer 10"]
["Bus Teilnehmer 11"]
["Bus Teilnehmer 12"]
["Bus Teilnehmer 13"]
["Bus Teilnehmer 14"]
["Bus Teilnehmer 15"]
["Bus Teilnehmer 16"]
["Bus Teilnehmer 17"]
["Bus Teilnehmer 18"]
["Bus Teilnehmer 19"]
["Bus Teilnehmer 20"]
["Bus Teilnehmer 21"]
["Bus Teilnehmer 22"]
["Bus Teilnehmer 23"]
["Bus Teilnehmer 24"]
["Bus Teilnehmer 25"]
["Bus Teilnehmer 26"]
["Bus Teilnehmer 27"]
["Bus Teilnehmer 28"]
["Bus Teilnehmer 29"]
["Bus Teilnehmer 30"]
["Bus Teilnehmer 31"]
["Bus Teilnehmer 32"]
["externer Bus Nummer: 2"]
["Bezeichnung:"]
["Busbelegung","ID","Bezeichnung","Zusatzinfo"]
["Bus Teilnehmer 1"]
["Bus Teilnehmer 2"]
["Bus Teilnehmer 3"]
["Bus Teilnehmer 4"]
["Bus Teilnehmer 5"]
["Bus Teilnehmer 6"]
["Bus Teilnehmer 7"]
["Bus Teilnehmer 8"]
["Bus Teilnehmer 9"]
["Bus Teilnehmer 10"]
["Bus Teilnehmer 11"]
["Bus Teilnehmer 12"]
["Bus Teilnehmer 13"]
["Bus Teilnehmer 14"]
["Bus Teilnehmer 15"]
["Bus Teilnehmer 16"]
["Bus Teilnehmer 17"]
["Bus Teilnehmer 18"]
["Bus Teilnehmer 19"]
["Bus Teilnehmer 20"]
["Bus Teilnehmer 21"]
["Bus Teilnehmer 22"]
["Bus Teilnehmer 23"]
["Bus Teilnehmer 24"]
["Bus Teilnehmer 25"]
["Bus Teilnehmer 26"]
["Bus Teilnehmer 27"]
["Bus Teilnehmer 28"]
["Bus Teilnehmer 29"]
["Bus Teilnehmer 30"]
["Bus Teilnehmer 31"]
["Bus Teilnehmer 32"]
["externer Bus Nummer: 3"]
["Bezeichnung:"]
["Busbelegung","ID","Bezeichnung","Zusatzinfo"]
["Bus Teilnehmer 1"]
["Bus Teilnehmer 2"]
["Bus Teilnehmer 3"]
["Bus Teilnehmer 4"]
["Bus Teilnehmer 5"]
["Bus Teilnehmer 6"]
["Bus Teilnehmer 7"]
["Bus Teilnehmer 8"]
["Bus Teilnehmer 9"]
["Bus Teilnehmer 10"]
["Bus Teilnehmer 11"]
["Bus Teilnehmer 12"]
["Bus Teilnehmer 13"]
["Bus Teilnehmer 14"]
["Bus Teilnehmer 15"]
["Bus Teilnehmer 16"]
["Bus Teilnehmer 17"]
["Bus Teilnehmer 18"]
["Bus Teilnehmer 19"]
["Bus Teilnehmer 20"]
["Bus Teilnehmer 21"]
["Bus Teilnehmer 22"]
["Bus Teilnehmer 23"]
["Bus Teilnehmer 24"]
["Bus Teilnehmer 25"]
["Bus Teilnehmer 26"]
["Bus Teilnehmer 27"]
["Bus Teilnehmer 28"]
["Bus Teilnehmer 29"]
["Bus Teilnehmer 30"]
["Bus Teilnehmer 31"]
["Bus Teilnehmer 32"]
["externer Bus Nummer: 4"]
["Bezeichnung:"]
["Busbelegung","ID","Bezeichnung","Zusatzinfo"]
["Bus Teilnehmer 1"]
["Bus Teilnehmer 2"]
["Bus Teilnehmer 3"]
["Bus Teilnehmer 4"]
["Bus Teilnehmer 5"]
["Bus Teilnehmer 6"]
["Bus Teilnehmer 7"]
["Bus Teilnehmer 8"]
["Bus Teilnehmer 9"]
["Bus Teilnehmer 10"]
["Bus Teilnehmer 11"]
["Bus Teilnehmer 12"]
["Bus Teilnehmer 13"]
["Bus Teilnehmer 14"]
["Bus Teilnehmer 15"]
["Bus Teilnehmer 16"]
["Bus Teilnehmer 17"]
["Bus Teilnehmer 18"]
["Bus Teilnehmer 19"]
["Bus Teilnehmer 20"]
["Bus Teilnehmer 21"]
["Bus Teilnehmer 22"]
["Bus Teilnehmer 23"]
["Bus Teilnehmer 24"]
["Bus Teilnehmer 25"]
["Bus Teilnehmer 26"]
["Bus Teilnehmer 27"]
["Bus Teilnehmer 28"]
["Bus Teilnehmer 29"]
["Bus Teilnehmer 30"]
["Bus Teilnehmer 31"]
["Bus Teilnehmer 32"]

{"sheet":"VLC","index":3,"n_rows":360,"n_cols":25,"rows_kept":360,"cut":false,"hidden":false,"merged":[]}
["Leuchten-ID","Bezeichnung","Zusatzinfo",null,null,"Stromkreis","Adresse","DL","GL","BL","Stromkreis","Adresse",null,null,null,"autozuweisung","Manuelle Adresse(max.1-20)","manuelle Zuweisung",null,"Adressen öfter vergeben",null,"Adresse für Sheet"]
[null,null,null,null,null,null,null,null,null,null,{"$f":"IFERROR(VALUE(RIGHT(F2,LEN(F2)-2)),\"\")","v":""},{"$f":"IFERROR(VALUE(RIGHT(G2,2)),\"\")","v":""},null,{"$f":"ISNUMBER(L2)","v":false},{"$f":"VALUE(IF(N2, L2, RIGHT(G2,1)))","v":{"$error":"#VALUE!"}},{"$f":"K2*100+O2","v":{"$error":"#VALUE!"}},null,{"$f":"IF(Q2=\"\",\"\",IFERROR(Q2+100*K2,\"\"))","v":""},{"$f":"COUNTIF(R:R,VALUE(R2))","v":0},{"$f":"IF(S2>1, 1, 0)","v":0},{"$f":"IF(Q2=\"\",COUNTIF(R:R,P2),0)","v":0},{"$f":"IFERROR(VALUE(IF(R2=\"\",P2,R2)),\"\")","v":""},{"$f":"COUNTIF(A:A,A2)","v":0},{"$f":"IFERROR(LEN(V2),\"\")","v":0},{"$f":"IF(X2=3,COUNTIF(V:V,V2),0)","v":0}]
[null,null,null,null,null,null,null,null,null,null,"","",null,{"$f":"ISNUMBER(L3)","v":false},{"$error":"#VALUE!"},{"$f":"K3*100+O3","v":{"$error":"#VALUE!"}},null,{"$f":"IF(Q3=\"\",\"\",IFERROR(Q3+100*K3,\"\"))","v":""},{"$f":"COUNTIF(R:R,VALUE(R3))","v":0},{"$f":"IF(S3>1, 1, 0)","v":0},{"$f":"IF(Q3=\"\",COUNTIF(R:R,P3),0)","v":0},"",0,{"$f":"IFERROR(LEN(V3),\"\")","v":0},{"$f":"IF(X3=3,COUNTIF(V:V,V3),0)","v":0}]
[null,null,null,null,null,null,null,null,null,null,"","",null,false,{"$error":"#VALUE!"},{"$error":"#VALUE!"},null,{"$f":"IF(Q4=\"\",\"\",IFERROR(Q4+100*K4,\"\"))","v":""},{"$f":"COUNTIF(R:R,VALUE(R4))","v":0},{"$f":"IF(S4>1, 1, 0)","v":0},{"$f":"IF(Q4=\"\",COUNTIF(R:R,P4),0)","v":0},"",0,{"$f":"IFERROR(LEN(V4),\"\")","v":0},{"$f":"IF(X4=3,COUNTIF(V:V,V4),0)","v":0}]
[null,null,null,null,null,null,null,null,null,null,"","",null,false,{"$error":"#VALUE!"},{"$error":"#VALUE!"},null,{"$f":"IF(Q5=\"\",\"\",IFERROR(Q5+100*K5,\"\"))","v":""},{"$f":"COUNTIF(R:R,VALUE(R5))","v":0},{"$f":"IF(S5>1, 1, 0)","v":0},{"$f":"IF(Q5=\"\",COUNTIF(R:R,P5),0)","v":0},"",0,{"$f":"IFERROR(LEN(V5),\"\")","v":0},{"$f":"IF(X5=3,COUNTIF(V:V,V5),0)","v":0}]
[null,null,null,null,null,null,null,null,null,null,"","",null,{"$f":"ISNUMBER(L6)","v":false},{"$error":"#VALUE!"},{"$f":"K6*100+O6","v":{"$error":"#VALUE!"}},null,"",{"$f":"COUNTIF(R:R,VALUE(R6))","v":0},{"$f":"IF(S6>1, 1, 0)","v":0},{"$f":"IF(Q6=\"\",COUNTIF(R:R,P6),0)","v":0},"",0,{"$f":"IFERROR(LEN(V6),\"\")","v":0},{"$f":"IF(X6=3,COUNTIF(V:V,V6),0)","v":0}]
[null,null,null,null,null,null,null,null,null,null,"","",null,false,{"$error":"#VALUE!"},{"$error":"#VALUE!"},null,"",0,0,0,"",0,0,0]
[null,null,null,null,null,null,null,null,null,null,"","",null,false,{"$error":"#VALUE!"},{"$error":"#VALUE!"},null,"",0,0,0,"",0,0,0]
[null,null,null,null,null,null,null,null,null,null,"","",null,false,{"$error":"#VALUE!"},{"$error":"#VALUE!"},null,"",0,0,0,"",0,0,0]
[null,null,null,null,null,null,null,null,null,null,"","",null,false,{"$error":"#VALUE!"},{"$error":"#VALUE!"},null,"",0,0,0,"",0,0,0]
[null,null,null,null,null,null,null,null,null,null,"","",null,false,{"$error":"#VALUE!"},{"$error":"#VALUE!"},null,"",0,0,0,"",0,0,0]
[null,null,null,null,null,null,null,null,null,null,"","",null,false,{"$error":"#VALUE!"},{"$error":"#VALUE!"},null,"",0,0,0,"",0,0,0]
[null,null,null,null,null,null,null,null,null,null,"","",null,false,{"$error":"#VALUE!"},{"$error":"#VALUE!"},null,"",0,0,0,"",0,0,0]
[null,null,null,null,null,null,null,null,null,null,"","",null,false,{"$error":"#VALUE!"},{"$error":"#VALUE!"},null,"",0,0,0,"",0,0,0]
[null,null,null,null,null,null,null,null,null,null,"","",null,false,{"$error":"#VALUE!"},{"$error":"#VALUE!"},null,"",0,0,0,"",0,0,0]
[null,null,null,null,null,null,null,null,null,null,"","",null,false,{"$error":"#VALUE!"},{"$error":"#VALUE!"},null,"",0,0,0,"",0,0,0]
[null,null,null,null,null,null,null,null,null,null,"","",null,false,{"$error":"#VALUE!"},{"$error":"#VALUE!"},null,"",{"$f":"COUNTIF(R:R,VALUE(R17))","v":0},{"$f":"IF(S17>1, 1, 0)","v":0},{"$f":"IF(Q17=\"\",COUNTIF(R:R,P17),0)","v":0},"",0,{"$f":"IFERROR(LEN(V17),\"\")","v":0},{"$f":"IF(X17=3,COUNTIF(V:V,V17),0)","v":0}]
[null,null,null,null,null,null,null,null,null,null,"","",null,false,{"$error":"#VALUE!"},{"$error":"#VALUE!"},null,"",0,0,0,"",0,0,0]
[null,null,null,null,null,null,null,null,null,null,"","",null,false,{"$error":"#VALUE!"},{"$error":"#VALUE!"},null,"",0,0,0,"",0,0,0]
[null,null,null,null,null,null,null,null,null,null,"","",null,false,{"$error":"#VALUE!"},{"$error":"#VALUE!"},null,"",0,0,0,"",0,0,0]
[null,null,null,null,null,null,null,null,null,null,"","",null,false,{"$error":"#VALUE!"},{"$error":"#VALUE!"},null,"",0,0,0,"",0,0,0]
[null,null,null,null,null,null,null,null,null,null,"","",null,false,{"$error":"#VALUE!"},{"$error":"#VALUE!"},null,"",0,0,0,"",0,0,0]
[null,null,null,null,null,null,null,null,null,null,"","",null,false,{"$error":"#VALUE!"},{"$error":"#VALUE!"},null,"",0,0,0,"",0,0,0]
[null,null,null,null,null,null,null,null,null,null,"","",null,false,{"$error":"#VALUE!"},{"$error":"#VALUE!"},null,"",0,0,0,"",0,0,0]
[null,null,null,null,null,null,null,null,null,null,"","",null,false,{"$error":"#VALUE!"},{"$error":"#VALUE!"},null,"",0,0,0,"",0,0,0]
[null,null,null,null,null,null,null,null,null,null,"","",null,false,{"$error":"#VALUE!"},{"$error":"#VALUE!"},null,"",0,0,0,"",0,0,0]
[null,null,null,null,null,null,null,null,null,null,"","",null,false,{"$error":"#VALUE!"},{"$error":"#VALUE!"},null,"",0,0,0,"",0,0,0]
[null,null,null,null,null,null,null,null,null,null,"","",null,false,{"$error":"#VALUE!"},{"$error":"#VALUE!"},null,"",0,0,0,"",0,0,0]
[null,null,null,null,null,null,null,null,null,null,"","",null,false,{"$error":"#VALUE!"},{"$error":"#VALUE!"},null,"",0,0,0,"",0,0,0]
[null,null,null,null,null,null,null,null,null,null,"","",null,false,{"$error":"#VALUE!"},{"$error":"#VALUE!"},null,"",0,0,0,"",0,0,0]
[null,null,null,null,null,null,null,null,null,null,"","",null,false,{"$error":"#VALUE!"},{"$error":"#VALUE!"},null,"",0,0,0,"",0,0,0]
[null,null,null,null,null,null,null,null,null,null,"","",null,false,{"$error":"#VALUE!"},{"$error":"#VALUE!"},null,"",0,0,0,"",0,0,0]
[null,null,null,null,null,null,null,null,null,null,"","",null,false,{"$error":"#VALUE!"},{"$error":"#VALUE!"},null,"",0,0,0,"",0,0,0]
[null,null,null,null,null,null,null,null,null,null,"","",null,false,{"$error":"#VALUE!"},{"$error":"#VALUE!"},null,"",0,0,0,"",0,0,0]
[null,null,null,null,null,null,null,null,null,null,"","",null,false,{"$error":"#VALUE!"},{"$error":"#VALUE!"},null,"",0,0,0,"",0,0,0]
[null,null,null,null,null,null,null,null,null,null,"","",null,false,{"$error":"#VALUE!"},{"$error":"#VALUE!"},null,{"$f":"IF(Q36=\"\",\"\",IFERROR(Q36+100*K36,\"\"))","v":""},0,0,0,"",0,0,0]
[null,null,null,null,null,null,null,null,null,null,"","",null,false,{"$error":"#VALUE!"},{"$error":"#VALUE!"},null,"",0,0,0,"",0,0,0]
[null,null,null,null,null,null,null,null,null,null,"","",null,false,{"$error":"#VALUE!"},{"$error":"#VALUE!"},null,"",0,0,0,"",0,0,0]
[null,null,null,null,null,null,null,null,null,null,"","",null,false,{"$error":"#VALUE!"},{"$error":"#VALUE!"},null,"",0,0,0,"",0,0,0]
[null,null,null,null,null,null,null,null,null,null,"","",null,false,{"$error":"#VALUE!"},{"$error":"#VALUE!"},null,"",0,0,0,"",0,0,0]
[null,null,null,null,null,null,null,null,null,null,"","",null,false,{"$error":"#VALUE!"},{"$error":"#VALUE!"},null,"",0,0,0,"",0,0,0]
[null,null,null,null,null,null,null,null,null,null,"","",null,false,{"$error":"#VALUE!"},{"$error":"#VALUE!"},null,"",0,0,0,"",0,0,0]
[null,null,null,null,null,null,null,null,null,null,"","",null,false,{"$error":"#VALUE!"},{"$error":"#VALUE!"},null,"",0,0,0,"",0,0,0]
[null,null,null,null,null,null,null,null,null,null,"","",null,false,{"$error":"#VALUE!"},{"$error":"#VALUE!"},null,"",0,0,0,"",0,0,0]
[null,null,null,null,null,null,null,null,null,null,"","",null,false,{"$error":"#VALUE!"},{"$error":"#VALUE!"},null,"",0,0,0,"",0,0,0]
[null,null,null,null,null,null,null,null,null,null,"","",null,false,{"$error":"#VALUE!"},{"$error":"#VALUE!"},null,"",0,0,0,"",0,0,0]
[null,null,null,null,null,null,null,null,null,null,"","",null,false,{"$error":"#VALUE!"},{"$error":"#VALUE!"},null,"",0,0,0,"",0,0,0]
[null,null,null,null,null,null,null,null,null,null,"","",null,false,{"$error":"#VALUE!"},{"$error":"#VALUE!"},null,"",0,0,0,"",0,0,0]
[null,null,null,null,null,null,null,null,null,null,"","",null,false,{"$error":"#VALUE!"},{"$error":"#VALUE!"},null,"",0,0,0,"",0,0,0]
[null,null,null,null,null,null,null,null,null,null,"","",null,false,{"$error":"#VALUE!"},{"$error":"#VALUE!"},null,"",0,0,0,"",0,0,0]
[null,null,null,null,null,null,null,null,null,null,"","",null,false,{"$error":"#VALUE!"},{"$error":"#VALUE!"},null,"",0,0,0,"",0,0,0]
[null,null,null,null,null,null,null,null,null,null,"","",null,false,{"$error":"#VALUE!"},{"$error":"#VALUE!"},null,"",0,0,0,"",0,0,0]
[null,null,null,null,null,null,null,null,null,null,"","",null,false,{"$error":"#VALUE!"},{"$error":"#VALUE!"},null,"",0,0,0,"",0,0,0]
[null,null,null,null,null,null,null,null,null,null,"","",null,false,{"$error":"#VALUE!"},{"$error":"#VALUE!"},null,"",0,0,0,"",0,0,0]
[null,null,null,null,null,null,null,null,null,null,"","",null,false,{"$error":"#VALUE!"},{"$error":"#VALUE!"},null,"",0,0,0,"",0,0,0]
[null,null,null,null,null,null,null,null,null,null,"","",null,false,{"$error":"#VALUE!"},{"$error":"#VALUE!"},null,"",0,0,0,"",0,0,0]
[null,null,null,null,null,null,null,null,null,null,"","",null,false,{"$error":"#VALUE!"},{"$error":"#VALUE!"},null,"",0,0,0,"",0,0,0]
[null,null,null,null,null,null,null,null,null,null,"","",null,false,{"$error":"#VALUE!"},{"$error":"#VALUE!"},null,"",0,0,0,"",0,0,0]
[null,null,null,null,null,null,null,null,null,null,"","",null,false,{"$error":"#VALUE!"},{"$error":"#VALUE!"},null,"",0,0,0,"",0,0,0]
[null,null,null,null,null,null,null,null,null,null,"","",null,false,{"$error":"#VALUE!"},{"$error":"#VALUE!"},null,"",0,0,0,"",0,0,0]
[null,null,null,null,null,null,null,null,null,null,"","",null,false,{"$error":"#VALUE!"},{"$error":"#VALUE!"},null,"",0,0,0,"",0,0,0]
[null,null,null,null,null,null,null,null,null,null,"","",null,false,{"$error":"#VALUE!"},{"$error":"#VALUE!"},null,"",0,0,0,"",0,0,0]
[null,null,null,null,null,null,null,null,null,null,"","",null,false,{"$error":"#VALUE!"},{"$error":"#VALUE!"},null,"",0,0,0,"",0,0,0]
[null,null,null,null,null,null,null,null,null,null,"","",null,false,{"$error":"#VALUE!"},{"$error":"#VALUE!"},null,"",0,0,0,"",0,0,0]
[null,null,null,null,null,null,null,null,null,null,"","",null,false,{"$error":"#VALUE!"},{"$error":"#VALUE!"},null,"",0,0,0,"",0,0,0]
[null,null,null,null,null,null,null,null,null,null,{"$f":"IFERROR(VALUE(RIGHT(F66,LEN(F66)-2)),\"\")","v":""},{"$f":"IFERROR(VALUE(RIGHT(G66,2)),\"\")","v":""},null,false,{"$f":"VALUE(IF(N66, L66, RIGHT(G66,1)))","v":{"$error":"#VALUE!"}},{"$error":"#VALUE!"},null,"",0,0,0,{"$f":"IFERROR(VALUE(IF(R66=\"\",P66,R66)),\"\")","v":""},{"$f":"COUNTIF(A:A,A66)","v":0},0,0]
[null,null,null,null,null,null,null,null,null,null,"","",null,{"$f":"ISNUMBER(L67)","v":false},{"$error":"#VALUE!"},{"$f":"K67*100+O67","v":{"$error":"#VALUE!"}},null,{"$f":"IF(Q67=\"\",\"\",IFERROR(Q67+100*K67,\"\"))","v":""},0,0,0,"",0,0,0]
[null,null,null,null,null,null,null,null,null,null,"","",null,false,{"$error":"#VALUE!"},{"$error":"#VALUE!"},null,"",0,0,0,"",0,0,0]
[null,null,null,null,null,null,null,null,null,null,"","",null,false,{"$error":"#VALUE!"},{"$error":"#VALUE!"},null,"",0,0,0,"",0,0,0]
[null,null,null,null,null,null,null,null,null,null,"","",null,false,{"$error":"#VALUE!"},{"$error":"#VALUE!"},null,"",0,0,0,"",0,0,0]
[null,null,null,null,null,null,null,null,null,null,"","",null,false,{"$error":"#VALUE!"},{"$error":"#VALUE!"},null,"",{"$f":"COUNTIF(R:R,VALUE(R71))","v":0},{"$f":"IF(S71>1, 1, 0)","v":0},{"$f":"IF(Q71=\"\",COUNTIF(R:R,P71),0)","v":0},"",0,{"$f":"IFERROR(LEN(V71),\"\")","v":0},{"$f":"IF(X71=3,COUNTIF(V:V,V71),0)","v":0}]
[null,null,null,null,null,null,null,null,null,null,"","",null,false,{"$error":"#VALUE!"},{"$error":"#VALUE!"},null,"",0,0,0,"",0,0,0]
[null,null,null,null,null,null,null,null,null,null,"","",null,false,{"$error":"#VALUE!"},{"$error":"#VALUE!"},null,"",0,0,0,"",0,0,0]
[null,null,null,null,null,null,null,null,null,null,"","",null,false,{"$error":"#VALUE!"},{"$error":"#VALUE!"},null,"",0,0,0,"",0,0,0]
[null,null,null,null,null,null,null,null,null,null,"","",null,false,{"$error":"#VALUE!"},{"$error":"#VALUE!"},null,"",0,0,0,"",0,0,0]
[null,null,null,null,null,null,null,null,null,null,"","",null,false,{"$error":"#VALUE!"},{"$error":"#VALUE!"},null,"",0,0,0,"",0,0,0]
[null,null,null,null,null,null,null,null,null,null,"","",null,false,{"$error":"#VALUE!"},{"$error":"#VALUE!"},null,"",0,0,0,"",0,0,0]
[null,null,null,null,null,null,null,null,null,null,"","",null,false,{"$error":"#VALUE!"},{"$error":"#VALUE!"},null,"",0,0,0,"",0,0,0]
[null,null,null,null,null,null,null,null,null,null,"","",null,false,{"$error":"#VALUE!"},{"$error":"#VALUE!"},null,"",0,0,0,"",0,0,0]
[null,null,null,null,null,null,null,null,null,null,"","",null,false,{"$error":"#VALUE!"},{"$error":"#VALUE!"},null,"",0,0,0,"",0,0,0]
[null,null,null,null,null,null,null,null,null,null,"","",null,false,{"$error":"#VALUE!"},{"$error":"#VALUE!"},null,"",0,0,0,"",0,0,0]
[null,null,null,null,null,null,null,null,null,null,"","",null,false,{"$error":"#VALUE!"},{"$error":"#VALUE!"},null,"",0,0,0,"",0,0,0]
[null,null,null,null,null,null,null,null,null,null,"","",null,false,{"$error":"#VALUE!"},{"$error":"#VALUE!"},null,"",0,0,0,"",0,0,0]
[null,null,null,null,null,null,null,null,null,null,"","",null,false,{"$error":"#VALUE!"},{"$error":"#VALUE!"},null,"",0,0,0,"",0,0,0]
[null,null,null,null,null,null,null,null,null,null,"","",null,false,{"$error":"#VALUE!"},{"$error":"#VALUE!"},null,"",0,0,0,"",0,0,0]
[null,null,null,null,null,null,null,null,null,null,"","",null,false,{"$error":"#VALUE!"},{"$error":"#VALUE!"},null,"",0,0,0,"",0,0,0]
[null,null,null,null,null,null,null,null,null,null,"","",null,false,{"$error":"#VALUE!"},{"$error":"#VALUE!"},null,"",0,0,0,"",0,0,0]
[null,null,null,null,null,null,null,null,null,null,"","",null,false,{"$error":"#VALUE!"},{"$error":"#VALUE!"},null,"",0,0,0,"",0,0,0]
[null,null,null,null,null,null,null,null,null,null,"","",null,false,{"$error":"#VALUE!"},{"$error":"#VALUE!"},null,"",0,0,0,"",0,0,0]
[null,null,null,null,null,null,null,null,null,null,"","",null,false,{"$error":"#VALUE!"},{"$error":"#VALUE!"},null,"",0,0,0,"",0,0,0]
[null,null,null,null,null,null,null,null,null,null,"","",null,false,{"$error":"#VALUE!"},{"$error":"#VALUE!"},null,"",0,0,0,"",0,0,0]
[null,null,null,null,null,null,null,null,null,null,"","",null,false,{"$error":"#VALUE!"},{"$error":"#VALUE!"},null,"",0,0,0,"",0,0,0]
[null,null,null,null,null,null,null,null,null,null,"","",null,false,{"$error":"#VALUE!"},{"$error":"#VALUE!"},null,"",0,0,0,"",0,0,0]
[null,null,null,null,null,null,null,null,null,null,"","",null,false,{"$error":"#VALUE!"},{"$error":"#VALUE!"},null,"",0,0,0,"",0,0,0]
[null,null,null,null,null,null,null,null,null,null,"","",null,false,{"$error":"#VALUE!"},{"$error":"#VALUE!"},null,"",0,0,0,"",0,0,0]
[null,null,null,null,null,null,null,null,null,null,"","",null,false,{"$error":"#VALUE!"},{"$error":"#VALUE!"},null,"",0,0,0,"",0,0,0]
[null,null,null,null,null,null,null,null,null,null,"","",null,false,{"$error":"#VALUE!"},{"$error":"#VALUE!"},null,"",0,0,0,"",0,0,0]
[null,null,null,null,null,null,null,null,null,null,"","",null,false,{"$error":"#VALUE!"},{"$error":"#VALUE!"},null,"",0,0,0,"",0,0,0]
[null,null,null,null,null,null,null,null,null,null,"","",null,false,{"$error":"#VALUE!"},{"$error":"#VALUE!"},null,"",0,0,0,"",0,0,0]
[null,null,null,null,null,null,null,null,null,null,"","",null,false,{"$error":"#VALUE!"},{"$error":"#VALUE!"},null,"",0,0,0,"",0,0,0]
[null,null,null,null,null,null,null,null,null,null,"","",null,false,{"$error":"#VALUE!"},{"$error":"#VALUE!"},null,"",0,0,0,"",0,0,0]
[null,null,null,null,null,null,null,null,null,null,"","",null,false,{"$error":"#VALUE!"},{"$error":"#VALUE!"},null,"",0,0,0,"",0,0,0]
[null,null,null,null,null,null,null,null,null,null,"","",null,false,{"$error":"#VALUE!"},{"$error":"#VALUE!"},null,"",0,0,0,"",0,0,0]
[null,null,null,null,null,null,null,null,null,null,"","",null,false,{"$error":"#VALUE!"},{"$error":"#VALUE!"},null,"",0,0,0,"",0,0,0]
[null,null,null,null,null,null,null,null,null,null,"","",null,false,{"$error":"#VALUE!"},{"$error":"#VALUE!"},null,"",0,0,0,"",0,0,0]
[null,null,null,null,null,null,null,null,null,null,"","",null,false,{"$error":"#VALUE!"},{"$error":"#VALUE!"},null,"",0,0,0,"",0,0,0]
[null,null,null,null,null,null,null,null,null,null,"","",null,false,{"$error":"#VALUE!"},{"$error":"#VALUE!"},null,"",0,0,0,"",0,0,0]
[null,null,null,null,null,null,null,null,null,null,"","",null,false,{"$error":"#VALUE!"},{"$error":"#VALUE!"},null,"",0,0,0,"",0,0,0]
[null,null,null,null,null,null,null,null,null,null,"","",null,false,{"$error":"#VALUE!"},{"$error":"#VALUE!"},null,"",0,0,0,"",0,0,0]
[null,null,null,null,null,null,null,null,null,null,"","",null,false,{"$error":"#VALUE!"},{"$error":"#VALUE!"},null,"",0,0,0,"",0,0,0]
[null,null,null,null,null,null,null,null,null,null,"","",null,false,{"$error":"#VALUE!"},{"$error":"#VALUE!"},null,"",0,0,0,"",0,0,0]
[null,null,null,null,null,null,null,null,null,null,"","",null,false,{"$error":"#VALUE!"},{"$error":"#VALUE!"},null,"",0,0,0,"",0,0,0]
[null,null,null,null,null,null,null,null,null,null,"","",null,false,{"$error":"#VALUE!"},{"$error":"#VALUE!"},null,"",0,0,0,"",0,0,0]
[null,null,null,null,null,null,null,null,null,null,"","",null,false,{"$error":"#VALUE!"},{"$error":"#VALUE!"},null,"",0,0,0,"",0,0,0]
[null,null,null,null,null,null,null,null,null,null,"","",null,false,{"$error":"#VALUE!"},{"$error":"#VALUE!"},null,"",0,0,0,"",0,0,0]
[null,null,null,null,null,null,null,null,null,null,"","",null,false,{"$error":"#VALUE!"},{"$error":"#VALUE!"},null,"",0,0,0,"",0,0,0]
[null,null,null,null,null,null,null,null,null,null,"","",null,false,{"$error":"#VALUE!"},{"$error":"#VALUE!"},null,"",0,0,0,"",0,0,0]
[null,null,null,null,null,null,null,null,null,null,"","",null,false,{"$error":"#VALUE!"},{"$error":"#VALUE!"},null,"",0,0,0,"",0,0,0]
[null,null,null,null,null,null,null,null,null,null,"","",null,false,{"$error":"#VALUE!"},{"$error":"#VALUE!"},null,"",0,0,0,"",0,0,0]
[null,null,null,null,null,null,null,null,null,null,"","",null,false,{"$error":"#VALUE!"},{"$error":"#VALUE!"},null,"",0,0,0,"",0,0,0]
[null,null,null,null,null,null,null,null,null,null,"","",null,false,{"$error":"#VALUE!"},{"$error":"#VALUE!"},null,"",0,0,0,"",0,0,0]
[null,null,null,null,null,null,null,null,null,null,"","",null,{"$f":"ISNUMBER(L122)","v":false},{"$error":"#VALUE!"},{"$f":"K122*100+O122","v":{"$error":"#VALUE!"}},null,{"$f":"IF(Q122=\"\",\"\",IFERROR(Q122+100*K122,\"\"))","v":""},{"$f":"COUNTIF(R:R,VALUE(R122))","v":0},{"$f":"IF(S122>1, 1, 0)","v":0},{"$f":"IF(Q122=\"\",COUNTIF(R:R,P122),0)","v":0},"",0,{"$f":"IFERROR(LEN(V122),\"\")","v":0},{"$f":"IF(X122=3,COUNTIF(V:V,V122),0)","v":0}]
[null,null,null,null,null,null,null,null,null,null,"","",null,false,{"$error":"#VALUE!"},{"$error":"#VALUE!"},null,"",0,0,0,"",0,0,0]
[null,null,null,null,null,null,null,null,null,null,"","",null,false,{"$error":"#VALUE!"},{"$error":"#VALUE!"},null,"",0,0,0,"",0,0,0]
[null,null,null,null,null,null,null,null,null,null,"","",null,false,{"$error":"#VALUE!"},{"$error":"#VALUE!"},null,"",0,0,0,"",0,0,0]
[null,null,null,null,null,null,null,null,null,null,"","",null,false,{"$error":"#VALUE!"},{"$error":"#VALUE!"},null,"",0,0,0,"",0,0,0]
[null,null,null,null,null,null,null,null,null,null,"","",null,false,{"$error":"#VALUE!"},{"$error":"#VALUE!"},null,"",0,0,0,"",0,0,0]
[null,null,null,null,null,null,null,null,null,null,"","",null,false,{"$error":"#VALUE!"},{"$error":"#VALUE!"},null,"",0,0,0,"",0,0,0]
[null,null,null,null,null,null,null,null,null,null,"","",null,false,{"$error":"#VALUE!"},{"$error":"#VALUE!"},null,"",0,0,0,"",0,0,0]
[null,null,null,null,null,null,null,null,null,null,{"$f":"IFERROR(VALUE(RIGHT(F130,LEN(F130)-2)),\"\")","v":""},{"$f":"IFERROR(VALUE(RIGHT(G130,2)),\"\")","v":""},null,false,{"$f":"VALUE(IF(N130, L130, RIGHT(G130,1)))","v":{"$error":"#VALUE!"}},{"$error":"#VALUE!"},null,"",0,0,0,{"$f":"IFERROR(VALUE(IF(R130=\"\",P130,R130)),\"\")","v":""},{"$f":"COUNTIF(A:A,A130)","v":0},0,0]
[null,null,null,null,null,null,null,null,null,null,"","",null,false,{"$error":"#VALUE!"},{"$error":"#VALUE!"},null,"",0,0,0,"",0,0,0]
[null,null,null,null,null,null,null,null,null,null,"","",null,false,{"$error":"#VALUE!"},{"$error":"#VALUE!"},null,"",0,0,0,"",0,0,0]
[null,null,null,null,null,null,null,null,null,null,"","",null,false,{"$error":"#VALUE!"},{"$error":"#VALUE!"},null,"",0,0,0,"",0,0,0]
[null,null,null,null,null,null,null,null,null,null,"","",null,false,{"$error":"#VALUE!"},{"$error":"#VALUE!"},null,"",0,0,0,"",0,0,0]
[null,null,null,null,null,null,null,null,null,null,"","",null,false,{"$error":"#VALUE!"},{"$error":"#VALUE!"},null,"",0,0,0,"",0,0,0]
[null,null,null,null,null,null,null,null,null,null,"","",null,false,{"$error":"#VALUE!"},{"$error":"#VALUE!"},null,"",0,0,0,"",0,0,0]
[null,null,null,null,null,null,null,null,null,null,"","",null,false,{"$error":"#VALUE!"},{"$error":"#VALUE!"},null,"",0,0,0,"",0,0,0]
[null,null,null,null,null,null,null,null,null,null,"","",null,false,{"$error":"#VALUE!"},{"$error":"#VALUE!"},null,"",0,0,0,"",0,0,0]
[null,null,null,null,null,null,null,null,null,null,"","",null,false,{"$error":"#VALUE!"},{"$error":"#VALUE!"},null,"",0,0,0,"",0,0,0]
[null,null,null,null,null,null,null,null,null,null,"","",null,false,{"$error":"#VALUE!"},{"$error":"#VALUE!"},null,"",0,0,0,"",0,0,0]
[null,null,null,null,null,null,null,null,null,null,"","",null,false,{"$error":"#VALUE!"},{"$error":"#VALUE!"},null,"",0,0,0,"",0,0,0]
[null,null,null,null,null,null,null,null,null,null,"","",null,false,{"$error":"#VALUE!"},{"$error":"#VALUE!"},null,"",0,0,0,"",0,0,0]
[null,null,null,null,null,null,null,null,null,null,"","",null,false,{"$error":"#VALUE!"},{"$error":"#VALUE!"},null,"",0,0,0,"",0,0,0]
[null,null,null,null,null,null,null,null,null,null,"","",null,false,{"$error":"#VALUE!"},{"$error":"#VALUE!"},null,"",0,0,0,"",0,0,0]
[null,null,null,null,null,null,null,null,null,null,"","",null,false,{"$error":"#VALUE!"},{"$error":"#VALUE!"},null,"",0,0,0,"",0,0,0]
[null,null,null,null,null,null,null,null,null,null,"","",null,false,{"$error":"#VALUE!"},{"$error":"#VALUE!"},null,"",0,0,0,"",0,0,0]
[null,null,null,null,null,null,null,null,null,null,"","",null,false,{"$error":"#VALUE!"},{"$error":"#VALUE!"},null,"",0,0,0,"",0,0,0]
[null,null,null,null,null,null,null,null,null,null,"","",null,false,{"$error":"#VALUE!"},{"$error":"#VALUE!"},null,"",0,0,0,"",0,0,0]
[null,null,null,null,null,null,null,null,null,null,"","",null,false,{"$error":"#VALUE!"},{"$error":"#VALUE!"},null,"",0,0,0,"",0,0,0]
[null,null,null,null,null,null,null,null,null,null,"","",null,false,{"$error":"#VALUE!"},{"$error":"#VALUE!"},null,"",0,0,0,"",0,0,0]
[null,null,null,null,null,null,null,null,null,null,"","",null,false,{"$error":"#VALUE!"},{"$error":"#VALUE!"},null,"",0,0,0,"",0,0,0]
[null,null,null,null,null,null,null,null,null,null,"","",null,false,{"$error":"#VALUE!"},{"$error":"#VALUE!"},null,"",0,0,0,"",0,0,0]
[null,null,null,null,null,null,null,null,null,null,"","",null,false,{"$error":"#VALUE!"},{"$error":"#VALUE!"},null,"",0,0,0,"",0,0,0]
[null,null,null,null,null,null,null,null,null,null,"","",null,false,{"$error":"#VALUE!"},{"$error":"#VALUE!"},null,"",0,0,0,"",0,0,0]
[null,null,null,null,null,null,null,null,null,null,"","",null,false,{"$error":"#VALUE!"},{"$error":"#VALUE!"},null,"",0,0,0,"",0,0,0]
[null,null,null,null,null,null,null,null,null,null,"","",null,false,{"$error":"#VALUE!"},{"$error":"#VALUE!"},null,"",0,0,0,"",0,0,0]
[null,null,null,null,null,null,null,null,null,null,"","",null,false,{"$error":"#VALUE!"},{"$error":"#VALUE!"},null,"",0,0,0,"",0,0,0]
[null,null,null,null,null,null,null,null,null,null,"","",null,false,{"$error":"#VALUE!"},{"$error":"#VALUE!"},null,"",0,0,0,"",0,0,0]
[null,null,null,null,null,null,null,null,null,null,"","",null,false,{"$error":"#VALUE!"},{"$error":"#VALUE!"},null,"",0,0,0,"",0,0,0]
[null,null,null,null,null,null,null,null,null,null,"","",null,false,{"$error":"#VALUE!"},{"$error":"#VALUE!"},null,"",0,0,0,"",0,0,0]
[null,null,null,null,null,null,null,null,null,null,"","",null,false,{"$error":"#VALUE!"},{"$error":"#VALUE!"},null,"",0,0,0,"",0,0,0]
[null,null,null,null,null,null,null,null,null,null,"","",null,false,{"$error":"#VALUE!"},{"$error":"#VALUE!"},null,"",0,0,0,"",0,0,0]
[null,null,null,null,null,null,null,null,null,null,"","",null,false,{"$error":"#VALUE!"},{"$error":"#VALUE!"},null,"",0,0,0,"",0,0,0]
[null,null,null,null,null,null,null,null,null,null,"","",null,false,{"$error":"#VALUE!"},{"$error":"#VALUE!"},null,"",0,0,0,"",0,0,0]
[null,null,null,null,null,null,null,null,null,null,"","",null,false,{"$error":"#VALUE!"},{"$error":"#VALUE!"},null,"",0,0,0,"",0,0,0]
[null,null,null,null,null,null,null,null,null,null,"","",null,false,{"$error":"#VALUE!"},{"$error":"#VALUE!"},null,"",0,0,0,"",0,0,0]
[null,null,null,null,null,null,null,null,null,null,"","",null,false,{"$error":"#VALUE!"},{"$error":"#VALUE!"},null,"",0,0,0,"",0,0,0]
[null,null,null,null,null,null,null,null,null,null,"","",null,false,{"$error":"#VALUE!"},{"$error":"#VALUE!"},null,"",0,0,0,"",0,0,0]
[null,null,null,null,null,null,null,null,null,null,"","",null,false,{"$error":"#VALUE!"},{"$error":"#VALUE!"},null,"",0,0,0,"",0,0,0]
[null,null,null,null,null,null,null,null,null,null,"","",null,false,{"$error":"#VALUE!"},{"$error":"#VALUE!"},null,"",0,0,0,"",0,0,0]
[null,null,null,null,null,null,null,null,null,null,"","",null,false,{"$error":"#VALUE!"},{"$error":"#VALUE!"},null,"",0,0,0,"",0,0,0]
[null,null,null,null,null,null,null,null,null,null,"","",null,false,{"$error":"#VALUE!"},{"$error":"#VALUE!"},null,"",0,0,0,"",0,0,0]
[null,null,null,null,null,null,null,null,null,null,"","",null,false,{"$error":"#VALUE!"},{"$error":"#VALUE!"},null,"",0,0,0,"",0,0,0]
[null,null,null,null,null,null,null,null,null,null,"","",null,false,{"$error":"#VALUE!"},{"$error":"#VALUE!"},null,"",0,0,0,"",0,0,0]
[null,null,null,null,null,null,null,null,null,null,"","",null,false,{"$error":"#VALUE!"},{"$error":"#VALUE!"},null,"",0,0,0,"",0,0,0]
[null,null,null,null,null,null,null,null,null,null,"","",null,false,{"$error":"#VALUE!"},{"$error":"#VALUE!"},null,"",0,0,0,"",0,0,0]
[null,null,null,null,null,null,null,null,null,null,"","",null,false,{"$error":"#VALUE!"},{"$error":"#VALUE!"},null,"",0,0,0,"",0,0,0]
[null,null,null,null,null,null,null,null,null,null,"","",null,false,{"$error":"#VALUE!"},{"$error":"#VALUE!"},null,"",0,0,0,"",0,0,0]
[null,null,null,null,null,null,null,null,null,null,"","",null,false,{"$error":"#VALUE!"},{"$error":"#VALUE!"},null,"",0,0,0,"",0,0,0]
[null,null,null,null,null,null,null,null,null,null,"","",null,false,{"$error":"#VALUE!"},{"$error":"#VALUE!"},null,"",0,0,0,"",0,0,0]
[null,null,null,null,null,null,null,null,null,null,"","",null,false,{"$error":"#VALUE!"},{"$error":"#VALUE!"},null,"",0,0,0,"",0,0,0]
[null,null,null,null,null,null,null,null,null,null,"","",null,false,{"$error":"#VALUE!"},{"$error":"#VALUE!"},null,"",0,0,0,"",0,0,0]
[null,null,null,null,null,null,null,null,null,null,"","",null,false,{"$error":"#VALUE!"},{"$error":"#VALUE!"},null,"",0,0,0,"",0,0,0]
[null,null,null,null,null,null,null,null,null,null,"","",null,false,{"$error":"#VALUE!"},{"$error":"#VALUE!"},null,"",0,0,0,"",0,0,0]
[null,null,null,null,null,null,null,null,null,null,"","",null,false,{"$error":"#VALUE!"},{"$error":"#VALUE!"},null,"",0,0,0,"",0,0,0]
[null,null,null,null,null,null,null,null,null,null,"","",null,{"$f":"ISNUMBER(L186)","v":false},{"$error":"#VALUE!"},{"$f":"K186*100+O186","v":{"$error":"#VALUE!"}},null,{"$f":"IF(Q186=\"\",\"\",IFERROR(Q186+100*K186,\"\"))","v":""},{"$f":"COUNTIF(R:R,VALUE(R186))","v":0},{"$f":"IF(S186>1, 1, 0)","v":0},{"$f":"IF(Q186=\"\",COUNTIF(R:R,P186),0)","v":0},"",0,{"$f":"IFERROR(LEN(V186),\"\")","v":0},{"$f":"IF(X186=3,COUNTIF(V:V,V186),0)","v":0}]
[null,null,null,null,null,null,null,null,null,null,"","",null,false,{"$error":"#VALUE!"},{"$error":"#VALUE!"},null,"",0,0,0,"",0,0,0]
[null,null,null,null,null,null,null,null,null,null,"","",null,false,{"$error":"#VALUE!"},{"$error":"#VALUE!"},null,"",0,0,0,"",0,0,0]
[null,null,null,null,null,null,null,null,null,null,"","",null,false,{"$error":"#VALUE!"},{"$error":"#VALUE!"},null,"",0,0,0,"",0,0,0]
[null,null,null,null,null,null,null,null,null,null,"","",null,false,{"$error":"#VALUE!"},{"$error":"#VALUE!"},null,"",0,0,0,"",0,0,0]
[null,null,null,null,null,null,null,null,null,null,"","",null,false,{"$error":"#VALUE!"},{"$error":"#VALUE!"},null,"",0,0,0,"",0,0,0]
[null,null,null,null,null,null,null,null,null,null,"","",null,false,{"$error":"#VALUE!"},{"$error":"#VALUE!"},null,"",0,0,0,"",0,0,0]
[null,null,null,null,null,null,null,null,null,null,"","",null,false,{"$error":"#VALUE!"},{"$error":"#VALUE!"},null,"",0,0,0,"",0,0,0]
[null,null,null,null,null,null,null,null,null,null,{"$f":"IFERROR(VALUE(RIGHT(F194,LEN(F194)-2)),\"\")","v":""},{"$f":"IFERROR(VALUE(RIGHT(G194,2)),\"\")","v":""},null,false,{"$f":"VALUE(IF(N194, L194, RIGHT(G194,1)))","v":{"$error":"#VALUE!"}},{"$error":"#VALUE!"},null,"",0,0,0,{"$f":"IFERROR(VALUE(IF(R194=\"\",P194,R194)),\"\")","v":""},{"$f":"COUNTIF(A:A,A194)","v":0},0,0]
[null,null,null,null,null,null,null,null,null,null,"","",null,false,{"$error":"#VALUE!"},{"$error":"#VALUE!"},null,"",0,0,0,"",0,0,0]
[null,null,null,null,null,null,null,null,null,null,"","",null,false,{"$error":"#VALUE!"},{"$error":"#VALUE!"},null,"",0,0,0,"",0,0,0]
[null,null,null,null,null,null,null,null,null,null,"","",null,false,{"$error":"#VALUE!"},{"$error":"#VALUE!"},null,"",0,0,0,"",0,0,0]
[null,null,null,null,null,null,null,null,null,null,"","",null,false,{"$error":"#VALUE!"},{"$error":"#VALUE!"},null,"",0,0,0,"",0,0,0]
[null,null,null,null,null,null,null,null,null,null,"","",null,false,{"$error":"#VALUE!"},{"$error":"#VALUE!"},null,"",0,0,0,"",0,0,0]
[null,null,null,null,null,null,null,null,null,null,"","",null,false,{"$error":"#VALUE!"},{"$error":"#VALUE!"},null,"",0,0,0,"",0,0,0]
[null,null,null,null,null,null,null,null,null,null,"","",null,false,{"$error":"#VALUE!"},{"$error":"#VALUE!"},null,"",0,0,0,"",0,0,0]
[null,null,null,null,null,null,null,null,null,null,"","",null,false,{"$error":"#VALUE!"},{"$error":"#VALUE!"},null,"",0,0,0,"",0,0,0]
[null,null,null,null,null,null,null,null,null,null,"","",null,false,{"$error":"#VALUE!"},{"$error":"#VALUE!"},null,"",0,0,0,"",0,0,0]
[null,null,null,null,null,null,null,null,null,null,"","",null,false,{"$error":"#VALUE!"},{"$error":"#VALUE!"},null,"",0,0,0,"",0,0,0]
[null,null,null,null,null,null,null,null,null,null,"","",null,false,{"$error":"#VALUE!"},{"$error":"#VALUE!"},null,"",0,0,0,"",0,0,0]
[null,null,null,null,null,null,null,null,null,null,"","",null,false,{"$error":"#VALUE!"},{"$error":"#VALUE!"},null,"",0,0,0,"",0,0,0]
[null,null,null,null,null,null,null,null,null,null,"","",null,false,{"$error":"#VALUE!"},{"$error":"#VALUE!"},null,"",0,0,0,"",0,0,0]
[null,null,null,null,null,null,null,null,null,null,"","",null,false,{"$error":"#VALUE!"},{"$error":"#VALUE!"},null,"",0,0,0,"",0,0,0]
[null,null,null,null,null,null,null,null,null,null,"","",null,false,{"$error":"#VALUE!"},{"$error":"#VALUE!"},null,"",0,0,0,"",0,0,0]
[null,null,null,null,null,null,null,null,null,null,"","",null,false,{"$error":"#VALUE!"},{"$error":"#VALUE!"},null,"",0,0,0,"",0,0,0]
[null,null,null,null,null,null,null,null,null,null,"","",null,false,{"$error":"#VALUE!"},{"$error":"#VALUE!"},null,"",0,0,0,"",0,0,0]
[null,null,null,null,null,null,null,null,null,null,"","",null,false,{"$error":"#VALUE!"},{"$error":"#VALUE!"},null,"",0,0,0,"",0,0,0]
[null,null,null,null,null,null,null,null,null,null,"","",null,false,{"$error":"#VALUE!"},{"$error":"#VALUE!"},null,"",0,0,0,"",0,0,0]
[null,null,null,null,null,null,null,null,null,null,"","",null,false,{"$error":"#VALUE!"},{"$error":"#VALUE!"},null,"",0,0,0,"",0,0,0]
[null,null,null,null,null,null,null,null,null,null,"","",null,false,{"$error":"#VALUE!"},{"$error":"#VALUE!"},null,"",0,0,0,"",0,0,0]
[null,null,null,null,null,null,null,null,null,null,"","",null,false,{"$error":"#VALUE!"},{"$error":"#VALUE!"},null,"",0,0,0,"",0,0,0]
[null,null,null,null,null,null,null,null,null,null,"","",null,false,{"$error":"#VALUE!"},{"$error":"#VALUE!"},null,"",0,0,0,"",0,0,0]
[null,null,null,null,null,null,null,null,null,null,"","",null,false,{"$error":"#VALUE!"},{"$error":"#VALUE!"},null,"",0,0,0,"",0,0,0]
[null,null,null,null,null,null,null,null,null,null,"","",null,false,{"$error":"#VALUE!"},{"$error":"#VALUE!"},null,"",0,0,0,"",0,0,0]
[null,null,null,null,null,null,null,null,null,null,"","",null,false,{"$error":"#VALUE!"},{"$error":"#VALUE!"},null,"",0,0,0,"",0,0,0]
[null,null,null,null,null,null,null,null,null,null,"","",null,false,{"$error":"#VALUE!"},{"$error":"#VALUE!"},null,"",0,0,0,"",0,0,0]
[null,null,null,null,null,null,null,null,null,null,"","",null,false,{"$error":"#VALUE!"},{"$error":"#VALUE!"},null,"",0,0,0,"",0,0,0]
[null,null,null,null,null,null,null,null,null,null,"","",null,false,{"$error":"#VALUE!"},{"$error":"#VALUE!"},null,"",0,0,0,"",0,0,0]
[null,null,null,null,null,null,null,null,null,null,"","",null,false,{"$error":"#VALUE!"},{"$error":"#VALUE!"},null,"",0,0,0,"",0,0,0]
[null,null,null,null,null,null,null,null,null,null,"","",null,false,{"$error":"#VALUE!"},{"$error":"#VALUE!"},null,"",0,0,0,"",0,0,0]
[null,null,null,null,null,null,null,null,null,null,"","",null,false,{"$error":"#VALUE!"},{"$error":"#VALUE!"},null,"",0,0,0,"",0,0,0]
[null,null,null,null,null,null,null,null,null,null,"","",null,false,{"$error":"#VALUE!"},{"$error":"#VALUE!"},null,"",0,0,0,"",0,0,0]
[null,null,null,null,null,null,null,null,null,null,"","",null,false,{"$error":"#VALUE!"},{"$error":"#VALUE!"},null,"",0,0,0,"",0,0,0]
[null,null,null,null,null,null,null,null,null,null,"","",null,false,{"$error":"#VALUE!"},{"$error":"#VALUE!"},null,"",0,0,0,"",0,0,0]
[null,null,null,null,null,null,null,null,null,null,"","",null,false,{"$error":"#VALUE!"},{"$error":"#VALUE!"},null,"",0,0,0,"",0,0,0]
[null,null,null,null,null,null,null,null,null,null,"","",null,false,{"$error":"#VALUE!"},{"$error":"#VALUE!"},null,"",0,0,0,"",0,0,0]
[null,null,null,null,null,null,null,null,null,null,"","",null,false,{"$error":"#VALUE!"},{"$error":"#VALUE!"},null,"",0,0,0,"",0,0,0]
[null,null,null,null,null,null,null,null,null,null,"","",null,false,{"$error":"#VALUE!"},{"$error":"#VALUE!"},null,"",0,0,0,"",0,0,0]
[null,null,null,null,null,null,null,null,null,null,"","",null,false,{"$error":"#VALUE!"},{"$error":"#VALUE!"},null,"",0,0,0,"",0,0,0]
[null,null,null,null,null,null,null,null,null,null,"","",null,false,{"$error":"#VALUE!"},{"$error":"#VALUE!"},null,"",0,0,0,"",0,0,0]
[null,null,null,null,null,null,null,null,null,null,"","",null,false,{"$error":"#VALUE!"},{"$error":"#VALUE!"},null,"",0,0,0,"",0,0,0]
[null,null,null,null,null,null,null,null,null,null,"","",null,false,{"$error":"#VALUE!"},{"$error":"#VALUE!"},null,"",0,0,0,"",0,0,0]
[null,null,null,null,null,null,null,null,null,null,"","",null,false,{"$error":"#VALUE!"},{"$error":"#VALUE!"},null,"",0,0,0,"",0,0,0]
[null,null,null,null,null,null,null,null,null,null,"","",null,false,{"$error":"#VALUE!"},{"$error":"#VALUE!"},null,"",0,0,0,"",0,0,0]
[null,null,null,null,null,null,null,null,null,null,"","",null,false,{"$error":"#VALUE!"},{"$error":"#VALUE!"},null,"",0,0,0,"",0,0,0]
[null,null,null,null,null,null,null,null,null,null,"","",null,false,{"$error":"#VALUE!"},{"$error":"#VALUE!"},null,"",0,0,0,"",0,0,0]
[null,null,null,null,null,null,null,null,null,null,"","",null,false,{"$error":"#VALUE!"},{"$error":"#VALUE!"},null,"",0,0,0,"",0,0,0]
[null,null,null,null,null,null,null,null,null,null,"","",null,false,{"$error":"#VALUE!"},{"$error":"#VALUE!"},null,"",0,0,0,"",0,0,0]
[null,null,null,null,null,null,null,null,null,null,"","",null,false,{"$error":"#VALUE!"},{"$error":"#VALUE!"},null,"",0,0,0,"",0,0,0]
[null,null,null,null,null,null,null,null,null,null,"","",null,false,{"$error":"#VALUE!"},{"$error":"#VALUE!"},null,"",0,0,0,"",0,0,0]
[null,null,null,null,null,null,null,null,null,null,"","",null,false,{"$error":"#VALUE!"},{"$error":"#VALUE!"},null,"",0,0,0,"",0,0,0]
[null,null,null,null,null,null,null,null,null,null,"","",null,false,{"$error":"#VALUE!"},{"$error":"#VALUE!"},null,"",0,0,0,"",0,0,0]
[null,null,null,null,null,null,null,null,null,null,"","",null,false,{"$error":"#VALUE!"},{"$error":"#VALUE!"},null,"",0,0,0,"",0,0,0]
[null,null,null,null,null,null,null,null,null,null,"","",null,false,{"$error":"#VALUE!"},{"$error":"#VALUE!"},null,"",0,0,0,"",0,0,0]
[null,null,null,null,null,null,null,null,null,null,"","",null,{"$f":"ISNUMBER(L250)","v":false},{"$error":"#VALUE!"},{"$f":"K250*100+O250","v":{"$error":"#VALUE!"}},null,{"$f":"IF(Q250=\"\",\"\",IFERROR(Q250+100*K250,\"\"))","v":""},{"$f":"COUNTIF(R:R,VALUE(R250))","v":0},{"$f":"IF(S250>1, 1, 0)","v":0},{"$f":"IF(Q250=\"\",COUNTIF(R:R,P250),0)","v":0},"",0,{"$f":"IFERROR(LEN(V250),\"\")","v":0},{"$f":"IF(X250=3,COUNTIF(V:V,V250),0)","v":0}]
[null,null,null,null,null,null,null,null,null,null,"","",null,false,{"$error":"#VALUE!"},{"$error":"#VALUE!"},null,"",0,0,0,"",0,0,0]
[null,null,null,null,null,null,null,null,null,null,"","",null,false,{"$error":"#VALUE!"},{"$error":"#VALUE!"},null,"",0,0,0,"",0,0,0]
[null,null,null,null,null,null,null,null,null,null,"","",null,false,{"$error":"#VALUE!"},{"$error":"#VALUE!"},null,"",0,0,0,"",0,0,0]
[null,null,null,null,null,null,null,null,null,null,"","",null,false,{"$error":"#VALUE!"},{"$error":"#VALUE!"},null,"",0,0,0,"",0,0,0]
[null,null,null,null,null,null,null,null,null,null,"","",null,false,{"$error":"#VALUE!"},{"$error":"#VALUE!"},null,"",0,0,0,"",0,0,0]
[null,null,null,null,null,null,null,null,null,null,"","",null,false,{"$error":"#VALUE!"},{"$error":"#VALUE!"},null,"",0,0,0,"",0,0,0]
[null,null,null,null,null,null,null,null,null,null,"","",null,false,{"$error":"#VALUE!"},{"$error":"#VALUE!"},null,"",0,0,0,"",0,0,0]
[null,null,null,null,null,null,null,null,null,null,{"$f":"IFERROR(VALUE(RIGHT(F258,LEN(F258)-2)),\"\")","v":""},{"$f":"IFERROR(VALUE(RIGHT(G258,2)),\"\")","v":""},null,false,{"$f":"VALUE(IF(N258, L258, RIGHT(G258,1)))","v":{"$error":"#VALUE!"}},{"$error":"#VALUE!"},null,"",0,0,0,{"$f":"IFERROR(VALUE(IF(R258=\"\",P258,R258)),\"\")","v":""},{"$f":"COUNTIF(A:A,A258)","v":0},0,0]
[null,null,null,null,null,null,null,null,null,null,"","",null,false,{"$error":"#VALUE!"},{"$error":"#VALUE!"},null,"",0,0,0,"",0,0,0]
[null,null,null,null,null,null,null,null,null,null,"","",null,false,{"$error":"#VALUE!"},{"$error":"#VALUE!"},null,"",0,0,0,"",0,0,0]
[null,null,null,null,null,null,null,null,null,null,"","",null,false,{"$error":"#VALUE!"},{"$error":"#VALUE!"},null,"",0,0,0,"",0,0,0]
[null,null,null,null,null,null,null,null,null,null,"","",null,false,{"$error":"#VALUE!"},{"$error":"#VALUE!"},null,"",0,0,0,"",0,0,0]
[null,null,null,null,null,null,null,null,null,null,"","",null,false,{"$error":"#VALUE!"},{"$error":"#VALUE!"},null,"",0,0,0,"",0,0,0]
[null,null,null,null,null,null,null,null,null,null,"","",null,false,{"$error":"#VALUE!"},{"$error":"#VALUE!"},null,"",0,0,0,"",0,0,0]
[null,null,null,null,null,null,null,null,null,null,"","",null,false,{"$error":"#VALUE!"},{"$error":"#VALUE!"},null,"",0,0,0,"",0,0,0]
[null,null,null,null,null,null,null,null,null,null,"","",null,false,{"$error":"#VALUE!"},{"$error":"#VALUE!"},null,"",0,0,0,"",0,0,0]
[null,null,null,null,null,null,null,null,null,null,"","",null,false,{"$error":"#VALUE!"},{"$error":"#VALUE!"},null,"",0,0,0,"",0,0,0]
[null,null,null,null,null,null,null,null,null,null,"","",null,false,{"$error":"#VALUE!"},{"$error":"#VALUE!"},null,"",0,0,0,"",0,0,0]
[null,null,null,null,null,null,null,null,null,null,"","",null,false,{"$error":"#VALUE!"},{"$error":"#VALUE!"},null,"",0,0,0,"",0,0,0]
[null,null,null,null,null,null,null,null,null,null,"","",null,false,{"$error":"#VALUE!"},{"$error":"#VALUE!"},null,"",0,0,0,"",0,0,0]
[null,null,null,null,null,null,null,null,null,null,"","",null,false,{"$error":"#VALUE!"},{"$error":"#VALUE!"},null,"",0,0,0,"",0,0,0]
[null,null,null,null,null,null,null,null,null,null,"","",null,false,{"$error":"#VALUE!"},{"$error":"#VALUE!"},null,"",0,0,0,"",0,0,0]
[null,null,null,null,null,null,null,null,null,null,"","",null,false,{"$error":"#VALUE!"},{"$error":"#VALUE!"},null,"",0,0,0,"",0,0,0]
[null,null,null,null,null,null,null,null,null,null,"","",null,false,{"$error":"#VALUE!"},{"$error":"#VALUE!"},null,"",0,0,0,"",0,0,0]
[null,null,null,null,null,null,null,null,null,null,"","",null,false,{"$error":"#VALUE!"},{"$error":"#VALUE!"},null,"",0,0,0,"",0,0,0]
[null,null,null,null,null,null,null,null,null,null,"","",null,false,{"$error":"#VALUE!"},{"$error":"#VALUE!"},null,"",0,0,0,"",0,0,0]
[null,null,null,null,null,null,null,null,null,null,"","",null,false,{"$error":"#VALUE!"},{"$error":"#VALUE!"},null,"",0,0,0,"",0,0,0]
[null,null,null,null,null,null,null,null,null,null,"","",null,false,{"$error":"#VALUE!"},{"$error":"#VALUE!"},null,"",0,0,0,"",0,0,0]
[null,null,null,null,null,null,null,null,null,null,"","",null,false,{"$error":"#VALUE!"},{"$error":"#VALUE!"},null,"",0,0,0,"",0,0,0]
[null,null,null,null,null,null,null,null,null,null,"","",null,false,{"$error":"#VALUE!"},{"$error":"#VALUE!"},null,"",0,0,0,"",0,0,0]
[null,null,null,null,null,null,null,null,null,null,"","",null,false,{"$error":"#VALUE!"},{"$error":"#VALUE!"},null,"",0,0,0,"",0,0,0]
[null,null,null,null,null,null,null,null,null,null,"","",null,false,{"$error":"#VALUE!"},{"$error":"#VALUE!"},null,"",0,0,0,"",0,0,0]
[null,null,null,null,null,null,null,null,null,null,"","",null,false,{"$error":"#VALUE!"},{"$error":"#VALUE!"},null,"",0,0,0,"",0,0,0]
[null,null,null,null,null,null,null,null,null,null,"","",null,false,{"$error":"#VALUE!"},{"$error":"#VALUE!"},null,"",0,0,0,"",0,0,0]
[null,null,null,null,null,null,null,null,null,null,"","",null,false,{"$error":"#VALUE!"},{"$error":"#VALUE!"},null,"",0,0,0,"",0,0,0]
[null,null,null,null,null,null,null,null,null,null,"","",null,false,{"$error":"#VALUE!"},{"$error":"#VALUE!"},null,"",0,0,0,"",0,0,0]
[null,null,null,null,null,null,null,null,null,null,"","",null,false,{"$error":"#VALUE!"},{"$error":"#VALUE!"},null,"",0,0,0,"",0,0,0]
[null,null,null,null,null,null,null,null,null,null,"","",null,false,{"$error":"#VALUE!"},{"$error":"#VALUE!"},null,"",0,0,0,"",0,0,0]
[null,null,null,null,null,null,null,null,null,null,"","",null,false,{"$error":"#VALUE!"},{"$error":"#VALUE!"},null,"",0,0,0,"",0,0,0]
[null,null,null,null,null,null,null,null,null,null,"","",null,false,{"$error":"#VALUE!"},{"$error":"#VALUE!"},null,"",0,0,0,"",0,0,0]
[null,null,null,null,null,null,null,null,null,null,"","",null,false,{"$error":"#VALUE!"},{"$error":"#VALUE!"},null,"",0,0,0,"",0,0,0]
[null,null,null,null,null,null,null,null,null,null,"","",null,false,{"$error":"#VALUE!"},{"$error":"#VALUE!"},null,"",0,0,0,"",0,0,0]
[null,null,null,null,null,null,null,null,null,null,"","",null,false,{"$error":"#VALUE!"},{"$error":"#VALUE!"},null,"",0,0,0,"",0,0,0]
[null,null,null,null,null,null,null,null,null,null,"","",null,false,{"$error":"#VALUE!"},{"$error":"#VALUE!"},null,"",0,0,0,"",0,0,0]
[null,null,null,null,null,null,null,null,null,null,"","",null,false,{"$error":"#VALUE!"},{"$error":"#VALUE!"},null,"",0,0,0,"",0,0,0]
[null,null,null,null,null,null,null,null,null,null,"","",null,false,{"$error":"#VALUE!"},{"$error":"#VALUE!"},null,"",0,0,0,"",0,0,0]
[null,null,null,null,null,null,null,null,null,null,"","",null,false,{"$error":"#VALUE!"},{"$error":"#VALUE!"},null,"",0,0,0,"",0,0,0]
[null,null,null,null,null,null,null,null,null,null,"","",null,false,{"$error":"#VALUE!"},{"$error":"#VALUE!"},null,"",0,0,0,"",0,0,0]
[null,null,null,null,null,null,null,null,null,null,"","",null,false,{"$error":"#VALUE!"},{"$error":"#VALUE!"},null,"",0,0,0,"",0,0,0]
[null,null,null,null,null,null,null,null,null,null,"","",null,false,{"$error":"#VALUE!"},{"$error":"#VALUE!"},null,"",0,0,0,"",0,0,0]
[null,null,null,null,null,null,null,null,null,null,"","",null,false,{"$error":"#VALUE!"},{"$error":"#VALUE!"},null,"",0,0,0,"",0,0,0]
[null,null,null,null,null,null,null,null,null,null,"","",null,false,{"$error":"#VALUE!"},{"$error":"#VALUE!"},null,"",0,0,0,"",0,0,0]
[null,null,null,null,null,null,null,null,null,null,"","",null,false,{"$error":"#VALUE!"},{"$error":"#VALUE!"},null,"",0,0,0,"",0,0,0]
[null,null,null,null,null,null,null,null,null,null,"","",null,false,{"$error":"#VALUE!"},{"$error":"#VALUE!"},null,"",0,0,0,"",0,0,0]
[null,null,null,null,null,null,null,null,null,null,"","",null,false,{"$error":"#VALUE!"},{"$error":"#VALUE!"},null,"",0,0,0,"",0,0,0]
[null,null,null,null,null,null,null,null,null,null,"","",null,false,{"$error":"#VALUE!"},{"$error":"#VALUE!"},null,"",0,0,0,"",0,0,0]
[null,null,null,null,null,null,null,null,null,null,"","",null,false,{"$error":"#VALUE!"},{"$error":"#VALUE!"},null,"",0,0,0,"",0,0,0]
[null,null,null,null,null,null,null,null,null,null,"","",null,false,{"$error":"#VALUE!"},{"$error":"#VALUE!"},null,"",0,0,0,"",0,0,0]
[null,null,null,null,null,null,null,null,null,null,"","",null,false,{"$error":"#VALUE!"},{"$error":"#VALUE!"},null,"",0,0,0,"",0,0,0]
[null,null,null,null,null,null,null,null,null,null,"","",null,false,{"$error":"#VALUE!"},{"$error":"#VALUE!"},null,"",0,0,0,"",0,0,0]
[null,null,null,null,null,null,null,null,null,null,"","",null,false,{"$error":"#VALUE!"},{"$error":"#VALUE!"},null,"",0,0,0,"",0,0,0]
[null,null,null,null,null,null,null,null,null,null,"","",null,false,{"$error":"#VALUE!"},{"$error":"#VALUE!"},null,"",0,0,0,"",0,0,0]
[null,null,null,null,null,null,null,null,null,null,"","",null,false,{"$error":"#VALUE!"},{"$error":"#VALUE!"},null,"",0,0,0,"",0,0,0]
[null,null,null,null,null,null,null,null,null,null,"","",null,{"$f":"ISNUMBER(L314)","v":false},{"$error":"#VALUE!"},{"$f":"K314*100+O314","v":{"$error":"#VALUE!"}},null,{"$f":"IF(Q314=\"\",\"\",IFERROR(Q314+100*K314,\"\"))","v":""},{"$f":"COUNTIF(R:R,VALUE(R314))","v":0},{"$f":"IF(S314>1, 1, 0)","v":0},{"$f":"IF(Q314=\"\",COUNTIF(R:R,P314),0)","v":0},"",0,{"$f":"IFERROR(LEN(V314),\"\")","v":0},{"$f":"IF(X314=3,COUNTIF(V:V,V314),0)","v":0}]
[null,null,null,null,null,null,null,null,null,null,"","",null,false,{"$error":"#VALUE!"},{"$error":"#VALUE!"},null,"",0,0,0,"",0,0,0]
[null,null,null,null,null,null,null,null,null,null,"","",null,false,{"$error":"#VALUE!"},{"$error":"#VALUE!"},null,"",0,0,0,"",0,0,0]
[null,null,null,null,null,null,null,null,null,null,"","",null,false,{"$error":"#VALUE!"},{"$error":"#VALUE!"},null,"",0,0,0,"",0,0,0]
[null,null,null,null,null,null,null,null,null,null,"","",null,false,{"$error":"#VALUE!"},{"$error":"#VALUE!"},null,"",0,0,0,"",0,0,0]
[null,null,null,null,null,null,null,null,null,null,"","",null,false,{"$error":"#VALUE!"},{"$error":"#VALUE!"},null,"",0,0,0,"",0,0,0]
[null,null,null,null,null,null,null,null,null,null,"","",null,false,{"$error":"#VALUE!"},{"$error":"#VALUE!"},null,"",0,0,0,"",0,0,0]
[null,null,null,null,null,null,null,null,null,null,"","",null,false,{"$error":"#VALUE!"},{"$error":"#VALUE!"},null,"",0,0,0,"",0,0,0]
[null,null,null,null,null,null,null,null,null,null,{"$f":"IFERROR(VALUE(RIGHT(F322,LEN(F322)-2)),\"\")","v":""},{"$f":"IFERROR(VALUE(RIGHT(G322,2)),\"\")","v":""},null,false,{"$f":"VALUE(IF(N322, L322, RIGHT(G322,1)))","v":{"$error":"#VALUE!"}},{"$error":"#VALUE!"},null,"",0,0,0,{"$f":"IFERROR(VALUE(IF(R322=\"\",P322,R322)),\"\")","v":""},{"$f":"COUNTIF(A:A,A322)","v":0},0,0]
[null,null,null,null,null,null,null,null,null,null,"","",null,false,{"$error":"#VALUE!"},{"$error":"#VALUE!"},null,"",0,0,0,"",0,0,0]
[null,null,null,null,null,null,null,null,null,null,"","",null,false,{"$error":"#VALUE!"},{"$error":"#VALUE!"},null,"",0,0,0,"",0,0,0]
[null,null,null,null,null,null,null,null,null,null,"","",null,false,{"$error":"#VALUE!"},{"$error":"#VALUE!"},null,"",0,0,0,"",0,0,0]
[null,null,null,null,null,null,null,null,null,null,"","",null,false,{"$error":"#VALUE!"},{"$error":"#VALUE!"},null,"",0,0,0,"",0,0,0]
[null,null,null,null,null,null,null,null,null,null,"","",null,false,{"$error":"#VALUE!"},{"$error":"#VALUE!"},null,"",0,0,0,"",0,0,0]
[null,null,null,null,null,null,null,null,null,null,"","",null,false,{"$error":"#VALUE!"},{"$error":"#VALUE!"},null,"",0,0,0,"",0,0,0]
[null,null,null,null,null,null,null,null,null,null,"","",null,false,{"$error":"#VALUE!"},{"$error":"#VALUE!"},null,"",0,0,0,"",0,0,0]
[null,null,null,null,null,null,null,null,null,null,"","",null,false,{"$error":"#VALUE!"},{"$error":"#VALUE!"},null,"",0,0,0,"",0,0,0]
[null,null,null,null,null,null,null,null,null,null,"","",null,false,{"$error":"#VALUE!"},{"$error":"#VALUE!"},null,"",0,0,0,"",0,0,0]
[null,null,null,null,null,null,null,null,null,null,"","",null,false,{"$error":"#VALUE!"},{"$error":"#VALUE!"},null,"",0,0,0,"",0,0,0]
[null,null,null,null,null,null,null,null,null,null,"","",null,false,{"$error":"#VALUE!"},{"$error":"#VALUE!"},null,"",0,0,0,"",0,0,0]
[null,null,null,null,null,null,null,null,null,null,"","",null,false,{"$error":"#VALUE!"},{"$error":"#VALUE!"},null,"",0,0,0,"",0,0,0]
[null,null,null,null,null,null,null,null,null,null,"","",null,false,{"$error":"#VALUE!"},{"$error":"#VALUE!"},null,"",0,0,0,"",0,0,0]
[null,null,null,null,null,null,null,null,null,null,"","",null,false,{"$error":"#VALUE!"},{"$error":"#VALUE!"},null,"",0,0,0,"",0,0,0]
[null,null,null,null,null,null,null,null,null,null,"","",null,false,{"$error":"#VALUE!"},{"$error":"#VALUE!"},null,"",0,0,0,"",0,0,0]
[null,null,null,null,null,null,null,null,null,null,"","",null,false,{"$error":"#VALUE!"},{"$error":"#VALUE!"},null,"",0,0,0,"",0,0,0]
[null,null,null,null,null,null,null,null,null,null,"","",null,false,{"$error":"#VALUE!"},{"$error":"#VALUE!"},null,"",0,0,0,"",0,0,0]
[null,null,null,null,null,null,null,null,null,null,"","",null,false,{"$error":"#VALUE!"},{"$error":"#VALUE!"},null,"",0,0,0,"",0,0,0]
[null,null,null,null,null,null,null,null,null,null,"","",null,false,{"$error":"#VALUE!"},{"$error":"#VALUE!"},null,"",0,0,0,"",0,0,0]
[null,null,null,null,null,null,null,null,null,null,"","",null,false,{"$error":"#VALUE!"},{"$error":"#VALUE!"},null,"",0,0,0,"",0,0,0]
[null,null,null,null,null,null,null,null,null,null,"","",null,false,{"$error":"#VALUE!"},{"$error":"#VALUE!"},null,"",0,0,0,"",0,0,0]
[null,null,null,null,null,null,null,null,null,null,"","",null,false,{"$error":"#VALUE!"},{"$error":"#VALUE!"},null,"",0,0,0,"",0,0,0]
[null,null,null,null,null,null,null,null,null,null,"","",null,false,{"$error":"#VALUE!"},{"$error":"#VALUE!"},null,"",0,0,0,"",0,0,0]
[null,null,null,null,null,null,null,null,null,null,"","",null,false,{"$error":"#VALUE!"},{"$error":"#VALUE!"},null,"",0,0,0,"",0,0,0]
[null,null,null,null,null,null,null,null,null,null,"","",null,false,{"$error":"#VALUE!"},{"$error":"#VALUE!"},null,"",0,0,0,"",0,0,0]
[null,null,null,null,null,null,null,null,null,null,"","",null,false,{"$error":"#VALUE!"},{"$error":"#VALUE!"},null,"",0,0,0,"",0,0,0]
[null,null,null,null,null,null,null,null,null,null,"","",null,false,{"$error":"#VALUE!"},{"$error":"#VALUE!"},null,"",0,0,0,"",0,0,0]
[null,null,null,null,null,null,null,null,null,null,"","",null,false,{"$error":"#VALUE!"},{"$error":"#VALUE!"},null,"",0,0,0,"",0,0,0]
[null,null,null,null,null,null,null,null,null,null,"","",null,false,{"$error":"#VALUE!"},{"$error":"#VALUE!"},null,"",0,0,0,"",0,0,0]
[null,null,null,null,null,null,null,null,null,null,"","",null,false,{"$error":"#VALUE!"},{"$error":"#VALUE!"},null,"",0,0,0,"",0,0,0]
[null,null,null,null,null,null,null,null,null,null,"","",null,false,{"$error":"#VALUE!"},{"$error":"#VALUE!"},null,"",0,0,0,"",0,0,0]
[null,null,null,null,null,null,null,null,null,null,"","",null,false,{"$error":"#VALUE!"},{"$error":"#VALUE!"},null,"",0,0,0,"",0,0,0]
[null,null,null,null,null,null,null,null,null,null,"","",null,false,{"$error":"#VALUE!"},{"$error":"#VALUE!"},null,"",0,0,0,"",0,0,0]
[null,null,null,null,null,null,null,null,null,null,"","",null,false,{"$error":"#VALUE!"},{"$error":"#VALUE!"},null,"",0,0,0,"",0,0,0]
[null,null,null,null,null,null,null,null,null,null,"","",null,false,{"$error":"#VALUE!"},{"$error":"#VALUE!"},null,"",0,0,0,"",0,0,0]
[null,null,null,null,null,null,null,null,null,null,"","",null,false,{"$error":"#VALUE!"},{"$error":"#VALUE!"},null,"",0,0,0,"",0,0,0]
[null,null,null,null,null,null,null,null,null,null,"","",null,false,{"$error":"#VALUE!"},{"$error":"#VALUE!"},null,"",0,0,0,"",0,0,0]
[null,null,null,null,null,null,null,null,null,null,"","",null,false,{"$error":"#VALUE!"},{"$error":"#VALUE!"},null,"",0,0,0,"",0,0,0]

{"sheet":"Step by step guide","index":4,"n_rows":44,"n_cols":5,"rows_kept":44,"cut":false,"hidden":false,"merged":[]}
["1)","Wechsel in die \"VLC\" Tabelle."]
["2)","Wähle die Zelle A2 aus."]
["3)","Nun kann mittels VLC Sensor die Adresse der Leuchte augelesen werden."]
["4)","Die Spalten \"Bezeichnung\" und \"Zusatzinfo\" können beliebig befüllt werden. Achtung: Die maximale Zeichenanzahl für \"Bezeichnung\" beträgt 100 Zeichen und für \"Zusatzinfo\" 1000 Zeichen und dürfen nicht überschritten werden."]
["5)","In den Spalten DL bzw BL  kann mittels eines \"x\"  entweder Dauer oder Bereitschaftslicht ausgewählt werden. Bei GL kannst du Eingänge wählen mit welchen das Licht geschaltet werden soll."]
["6)","Sollte die automatische Adresse falsch sein kann diese in der Spalte manuelle Adresse überschrieben werden. Bei Duo-Leuchten wird die zweite Adresse automatisch mit geändert."]
[null,"Wenn kein Eintrag in der manuellen Adresse vorhanden ist wird die automatisch vergebene als Adresse der jeweiligen Leuchte genommen."]
["7)","Nach fertiger Konfiguration der Leuchte (Bezeichnung, Zusatzinfo, DL/BL/GL, manuelle Adressvergabe ja/nein) muss der Cursor in die nächste A-Zeile gesetzt werden."]
["8)","Wiederhole die Schritte 3 bis 7 bis alle Leuchten eingetragen sind."]
["9)","Da die Leuchtenliste Makros enthält ist es wichtig sie immer als .xslm Datei abzuspeichern."]
[]
["Generelle Informationen:"]
[null,"Sobald eine Leuchte fertig konfiguriert ist in der \"VLC\" Tabelle wird sie automatisch in der \"PLC24\" Tabelle richtig eingereiht."]
[]
["Farbcode:",null,"färbt sich ein Feld, in der Spalte \"manuelle Adresse\" rot bzw. Zellen in der \"Stromkreis\"Spalte orange bedeutet dies, dass durch die manuelle Adressvergabe eine Doppeladressierung erfolgt ist."]
[null,null,"Die rote Zelle gibt in diesem Fall direkt an welche automatische Adresse manuell noch überschrieben werden muss um wieder einzigartige Adressierung zu gewährleisten."]
[]
[null,null,"Behebung: Ausfüllen der roten Zelle mit einer noch nicht vergebenen Adresse im jeweiligen Stromkreis."]
[]
[null,null,"Der Zweite Fall ist ein rotes Feld in der \"Leuchten ID\" Spalte, dies bedeutet dass diese ID bereits vergeben ist."]
[]
[null,null,"Behebung: Es wurde 2 mal die selbe Leuchte ausgelesen => 1 Leuchtezeile löschen."]
[]
["DUO Leuchten Logik:",null,"ID1","ID2","Diese wird beim scannen einer DUO Leuchte automatisch vergeben."]
[null,null,"Adr1","Adr41"]
[null,null,"Adr2","Adr42"]
[null,null,"Adr3","Adr43"]
[null,null,"Adr4","Adr44"]
[null,null,"Adr5","Adr45"]
[null,null,"Adr6","Adr46"]
[null,null,"Adr7","Adr47"]
[null,null,"Adr8","Adr48"]
[null,null,"Adr9","Adr49"]
[null,null,"Adr10","Adr50"]
[null,null,"Adr11","Adr51"]
[null,null,"Adr12","Adr52"]
[null,null,"Adr13","Adr53"]
[null,null,"Adr14","Adr54"]
[null,null,"Adr15","Adr55"]
[null,null,"Adr16","Adr56"]
[null,null,"Adr17","Adr57"]
[null,null,"Adr18","Adr58"]
[null,null,"Adr19","Adr59"]
[null,null,"Adr20","Adr60"]